BEGIN:VCALENDAR
VERSION:2.0
PRODID:-//Gorebridge Community Development Trust - ECPv6.15.20//NONSGML v1.0//EN
CALSCALE:GREGORIAN
METHOD:PUBLISH
X-WR-CALNAME:Gorebridge Community Development Trust
X-ORIGINAL-URL:https://gorebridge.org.uk
X-WR-CALDESC:Events for Gorebridge Community Development Trust
REFRESH-INTERVAL;VALUE=DURATION:PT1H
X-Robots-Tag:noindex
X-PUBLISHED-TTL:PT1H
BEGIN:VTIMEZONE
TZID:Europe/London
BEGIN:DAYLIGHT
TZOFFSETFROM:+0000
TZOFFSETTO:+0100
TZNAME:BST
DTSTART:20200329T010000
END:DAYLIGHT
BEGIN:STANDARD
TZOFFSETFROM:+0100
TZOFFSETTO:+0000
TZNAME:GMT
DTSTART:20201025T010000
END:STANDARD
BEGIN:DAYLIGHT
TZOFFSETFROM:+0000
TZOFFSETTO:+0100
TZNAME:BST
DTSTART:20210328T010000
END:DAYLIGHT
BEGIN:STANDARD
TZOFFSETFROM:+0100
TZOFFSETTO:+0000
TZNAME:GMT
DTSTART:20211031T010000
END:STANDARD
BEGIN:DAYLIGHT
TZOFFSETFROM:+0000
TZOFFSETTO:+0100
TZNAME:BST
DTSTART:20220327T010000
END:DAYLIGHT
BEGIN:STANDARD
TZOFFSETFROM:+0100
TZOFFSETTO:+0000
TZNAME:GMT
DTSTART:20221030T010000
END:STANDARD
END:VTIMEZONE
BEGIN:VEVENT
DTSTART;TZID=Europe/London:20210513T123000
DTEND;TZID=Europe/London:20210513T143000
DTSTAMP:20260424T125608
CREATED:20210514T081757Z
LAST-MODIFIED:20210514T081757Z
UID:6187-1620909000-1620916200@gorebridge.org.uk
SUMMARY:Buzzy Bees Music
DESCRIPTION:Our Baby Bees classes give your little one a full sensory experience. All our classes focus around the singing voice\, a lot of which is unaccompanied. Unaccompanied singing gives the child a focus with little other distraction\, starting their journey listening to pitch. \nWe also play a range of percussion instruments to our babies in these classes – some are played by the teachers\, giving them a sensory experience through sound and sight. Others are played together with carer and baby participation\, working on fine motor skills with the baby eventually joining in and holding the instruments themselves. \nFor class information please contact Erin at Buzzy Bees
URL:https://gorebridge.org.uk/upcomingevents/buzzy-bees-music-2/2021-05-13/
LOCATION:Gorebridge Beacon
CATEGORIES:Beacon,Events
ORGANIZER;CN="Buzzy Bees":MAILTO:info@bussybeesmusic.co.uk
END:VEVENT
BEGIN:VEVENT
DTSTART;TZID=Europe/London:20210510T093000
DTEND;TZID=Europe/London:20210510T100000
DTSTAMP:20260424T125608
CREATED:20210514T081317Z
LAST-MODIFIED:20210514T081317Z
UID:6153-1620639000-1620640800@gorebridge.org.uk
SUMMARY:Buzzy Bees Music
DESCRIPTION:Our Baby Bees classes give your little one a full sensory experience. All our classes focus around the singing voice\, a lot of which is unaccompanied. Unaccompanied singing gives the child a focus with little other distraction\, starting their journey listening to pitch. \nWe also play a range of percussion instruments to our babies in these classes – some are played by the teachers\, giving them a sensory experience through sound and sight. Others are played together with carer and baby participation\, working on fine motor skills with the baby eventually joining in and holding the instruments themselves. \nFind out more on BuzzyBees website
URL:https://gorebridge.org.uk/upcomingevents/buzzy-bees-music/2021-05-10/
CATEGORIES:Events
ORGANIZER;CN="Buzzy Bees":MAILTO:info@bussybeesmusic.co.uk
END:VEVENT
END:VCALENDAR