BEGIN:VCALENDAR
VERSION:2.0
PRODID:-//Gorebridge Community Development Trust - ECPv6.15.20//NONSGML v1.0//EN
CALSCALE:GREGORIAN
METHOD:PUBLISH
X-WR-CALNAME:Gorebridge Community Development Trust
X-ORIGINAL-URL:https://gorebridge.org.uk
X-WR-CALDESC:Events for Gorebridge Community Development Trust
REFRESH-INTERVAL;VALUE=DURATION:PT1H
X-Robots-Tag:noindex
X-PUBLISHED-TTL:PT1H
BEGIN:VTIMEZONE
TZID:Europe/London
BEGIN:DAYLIGHT
TZOFFSETFROM:+0000
TZOFFSETTO:+0100
TZNAME:BST
DTSTART:20240331T010000
END:DAYLIGHT
BEGIN:STANDARD
TZOFFSETFROM:+0100
TZOFFSETTO:+0000
TZNAME:GMT
DTSTART:20241027T010000
END:STANDARD
BEGIN:DAYLIGHT
TZOFFSETFROM:+0000
TZOFFSETTO:+0100
TZNAME:BST
DTSTART:20250330T010000
END:DAYLIGHT
BEGIN:STANDARD
TZOFFSETFROM:+0100
TZOFFSETTO:+0000
TZNAME:GMT
DTSTART:20251026T010000
END:STANDARD
BEGIN:DAYLIGHT
TZOFFSETFROM:+0000
TZOFFSETTO:+0100
TZNAME:BST
DTSTART:20260329T010000
END:DAYLIGHT
BEGIN:STANDARD
TZOFFSETFROM:+0100
TZOFFSETTO:+0000
TZNAME:GMT
DTSTART:20261025T010000
END:STANDARD
END:VTIMEZONE
BEGIN:VEVENT
DTSTART;TZID=Europe/London:20251016T103000
DTEND;TZID=Europe/London:20251016T113000
DTSTAMP:20260424T072937
CREATED:20210511T104331Z
LAST-MODIFIED:20210511T104331Z
UID:12862-1760610600-1760614200@gorebridge.org.uk
SUMMARY:Baby Massage (Claire Houston)
DESCRIPTION:[External User of Beacon] \nClaire Houston runs Baby Massage classes at the Beacon on a Thursday morning. Please contact her via her Facebook page to book/check dates https://www.facebook.com/clairehoustonmassageandyoga/
URL:https://gorebridge.org.uk/upcomingevents/baby-massage-claire-houston/2025-10-16/
LOCATION:Gorebridge Beacon
CATEGORIES:Beacon,Events
END:VEVENT
BEGIN:VEVENT
DTSTART;TZID=Europe/London:20251009T103000
DTEND;TZID=Europe/London:20251009T113000
DTSTAMP:20260424T072937
CREATED:20210511T104331Z
LAST-MODIFIED:20210511T104331Z
UID:12861-1760005800-1760009400@gorebridge.org.uk
SUMMARY:Baby Massage (Claire Houston)
DESCRIPTION:[External User of Beacon] \nClaire Houston runs Baby Massage classes at the Beacon on a Thursday morning. Please contact her via her Facebook page to book/check dates https://www.facebook.com/clairehoustonmassageandyoga/
URL:https://gorebridge.org.uk/upcomingevents/baby-massage-claire-houston/2025-10-09/
LOCATION:Gorebridge Beacon
CATEGORIES:Beacon,Events
END:VEVENT
BEGIN:VEVENT
DTSTART;TZID=Europe/London:20251002T103000
DTEND;TZID=Europe/London:20251002T113000
DTSTAMP:20260424T072937
CREATED:20210511T104331Z
LAST-MODIFIED:20210511T104331Z
UID:12860-1759401000-1759404600@gorebridge.org.uk
SUMMARY:Baby Massage (Claire Houston)
DESCRIPTION:[External User of Beacon] \nClaire Houston runs Baby Massage classes at the Beacon on a Thursday morning. Please contact her via her Facebook page to book/check dates https://www.facebook.com/clairehoustonmassageandyoga/
URL:https://gorebridge.org.uk/upcomingevents/baby-massage-claire-houston/2025-10-02/
LOCATION:Gorebridge Beacon
CATEGORIES:Beacon,Events
END:VEVENT
BEGIN:VEVENT
DTSTART;TZID=Europe/London:20250925T103000
DTEND;TZID=Europe/London:20250925T113000
DTSTAMP:20260424T072937
CREATED:20210511T104331Z
LAST-MODIFIED:20210511T104331Z
UID:12859-1758796200-1758799800@gorebridge.org.uk
SUMMARY:Baby Massage (Claire Houston)
DESCRIPTION:[External User of Beacon] \nClaire Houston runs Baby Massage classes at the Beacon on a Thursday morning. Please contact her via her Facebook page to book/check dates https://www.facebook.com/clairehoustonmassageandyoga/
URL:https://gorebridge.org.uk/upcomingevents/baby-massage-claire-houston/2025-09-25/
LOCATION:Gorebridge Beacon
CATEGORIES:Beacon,Events
END:VEVENT
BEGIN:VEVENT
DTSTART;TZID=Europe/London:20250918T103000
DTEND;TZID=Europe/London:20250918T113000
DTSTAMP:20260424T072937
CREATED:20210511T104331Z
LAST-MODIFIED:20210511T104331Z
UID:12858-1758191400-1758195000@gorebridge.org.uk
SUMMARY:Baby Massage (Claire Houston)
DESCRIPTION:[External User of Beacon] \nClaire Houston runs Baby Massage classes at the Beacon on a Thursday morning. Please contact her via her Facebook page to book/check dates https://www.facebook.com/clairehoustonmassageandyoga/
URL:https://gorebridge.org.uk/upcomingevents/baby-massage-claire-houston/2025-09-18/
LOCATION:Gorebridge Beacon
CATEGORIES:Beacon,Events
END:VEVENT
BEGIN:VEVENT
DTSTART;TZID=Europe/London:20250911T103000
DTEND;TZID=Europe/London:20250911T113000
DTSTAMP:20260424T072937
CREATED:20210511T104331Z
LAST-MODIFIED:20210511T104331Z
UID:12857-1757586600-1757590200@gorebridge.org.uk
SUMMARY:Baby Massage (Claire Houston)
DESCRIPTION:[External User of Beacon] \nClaire Houston runs Baby Massage classes at the Beacon on a Thursday morning. Please contact her via her Facebook page to book/check dates https://www.facebook.com/clairehoustonmassageandyoga/
URL:https://gorebridge.org.uk/upcomingevents/baby-massage-claire-houston/2025-09-11/
LOCATION:Gorebridge Beacon
CATEGORIES:Beacon,Events
END:VEVENT
BEGIN:VEVENT
DTSTART;TZID=Europe/London:20250904T103000
DTEND;TZID=Europe/London:20250904T113000
DTSTAMP:20260424T072937
CREATED:20210511T104331Z
LAST-MODIFIED:20210511T104331Z
UID:12856-1756981800-1756985400@gorebridge.org.uk
SUMMARY:Baby Massage (Claire Houston)
DESCRIPTION:[External User of Beacon] \nClaire Houston runs Baby Massage classes at the Beacon on a Thursday morning. Please contact her via her Facebook page to book/check dates https://www.facebook.com/clairehoustonmassageandyoga/
URL:https://gorebridge.org.uk/upcomingevents/baby-massage-claire-houston/2025-09-04/
LOCATION:Gorebridge Beacon
CATEGORIES:Beacon,Events
END:VEVENT
BEGIN:VEVENT
DTSTART;TZID=Europe/London:20250828T103000
DTEND;TZID=Europe/London:20250828T113000
DTSTAMP:20260424T072937
CREATED:20210511T104331Z
LAST-MODIFIED:20210511T104331Z
UID:12855-1756377000-1756380600@gorebridge.org.uk
SUMMARY:Baby Massage (Claire Houston)
DESCRIPTION:[External User of Beacon] \nClaire Houston runs Baby Massage classes at the Beacon on a Thursday morning. Please contact her via her Facebook page to book/check dates https://www.facebook.com/clairehoustonmassageandyoga/
URL:https://gorebridge.org.uk/upcomingevents/baby-massage-claire-houston/2025-08-28/
LOCATION:Gorebridge Beacon
CATEGORIES:Beacon,Events
END:VEVENT
BEGIN:VEVENT
DTSTART;TZID=Europe/London:20250821T103000
DTEND;TZID=Europe/London:20250821T113000
DTSTAMP:20260424T072937
CREATED:20210511T104331Z
LAST-MODIFIED:20210511T104331Z
UID:12854-1755772200-1755775800@gorebridge.org.uk
SUMMARY:Baby Massage (Claire Houston)
DESCRIPTION:[External User of Beacon] \nClaire Houston runs Baby Massage classes at the Beacon on a Thursday morning. Please contact her via her Facebook page to book/check dates https://www.facebook.com/clairehoustonmassageandyoga/
URL:https://gorebridge.org.uk/upcomingevents/baby-massage-claire-houston/2025-08-21/
LOCATION:Gorebridge Beacon
CATEGORIES:Beacon,Events
END:VEVENT
BEGIN:VEVENT
DTSTART;TZID=Europe/London:20250814T103000
DTEND;TZID=Europe/London:20250814T113000
DTSTAMP:20260424T072937
CREATED:20210511T104331Z
LAST-MODIFIED:20210511T104331Z
UID:12853-1755167400-1755171000@gorebridge.org.uk
SUMMARY:Baby Massage (Claire Houston)
DESCRIPTION:[External User of Beacon] \nClaire Houston runs Baby Massage classes at the Beacon on a Thursday morning. Please contact her via her Facebook page to book/check dates https://www.facebook.com/clairehoustonmassageandyoga/
URL:https://gorebridge.org.uk/upcomingevents/baby-massage-claire-houston/2025-08-14/
LOCATION:Gorebridge Beacon
CATEGORIES:Beacon,Events
END:VEVENT
BEGIN:VEVENT
DTSTART;TZID=Europe/London:20250807T103000
DTEND;TZID=Europe/London:20250807T113000
DTSTAMP:20260424T072937
CREATED:20210511T104331Z
LAST-MODIFIED:20210511T104331Z
UID:12852-1754562600-1754566200@gorebridge.org.uk
SUMMARY:Baby Massage (Claire Houston)
DESCRIPTION:[External User of Beacon] \nClaire Houston runs Baby Massage classes at the Beacon on a Thursday morning. Please contact her via her Facebook page to book/check dates https://www.facebook.com/clairehoustonmassageandyoga/
URL:https://gorebridge.org.uk/upcomingevents/baby-massage-claire-houston/2025-08-07/
LOCATION:Gorebridge Beacon
CATEGORIES:Beacon,Events
END:VEVENT
BEGIN:VEVENT
DTSTART;TZID=Europe/London:20250731T103000
DTEND;TZID=Europe/London:20250731T113000
DTSTAMP:20260424T072937
CREATED:20210511T104331Z
LAST-MODIFIED:20210511T104331Z
UID:12851-1753957800-1753961400@gorebridge.org.uk
SUMMARY:Baby Massage (Claire Houston)
DESCRIPTION:[External User of Beacon] \nClaire Houston runs Baby Massage classes at the Beacon on a Thursday morning. Please contact her via her Facebook page to book/check dates https://www.facebook.com/clairehoustonmassageandyoga/
URL:https://gorebridge.org.uk/upcomingevents/baby-massage-claire-houston/2025-07-31/
LOCATION:Gorebridge Beacon
CATEGORIES:Beacon,Events
END:VEVENT
BEGIN:VEVENT
DTSTART;TZID=Europe/London:20250724T103000
DTEND;TZID=Europe/London:20250724T113000
DTSTAMP:20260424T072937
CREATED:20210511T104331Z
LAST-MODIFIED:20210511T104331Z
UID:12850-1753353000-1753356600@gorebridge.org.uk
SUMMARY:Baby Massage (Claire Houston)
DESCRIPTION:[External User of Beacon] \nClaire Houston runs Baby Massage classes at the Beacon on a Thursday morning. Please contact her via her Facebook page to book/check dates https://www.facebook.com/clairehoustonmassageandyoga/
URL:https://gorebridge.org.uk/upcomingevents/baby-massage-claire-houston/2025-07-24/
LOCATION:Gorebridge Beacon
CATEGORIES:Beacon,Events
END:VEVENT
BEGIN:VEVENT
DTSTART;TZID=Europe/London:20250717T103000
DTEND;TZID=Europe/London:20250717T113000
DTSTAMP:20260424T072937
CREATED:20210511T104331Z
LAST-MODIFIED:20210511T104331Z
UID:12849-1752748200-1752751800@gorebridge.org.uk
SUMMARY:Baby Massage (Claire Houston)
DESCRIPTION:[External User of Beacon] \nClaire Houston runs Baby Massage classes at the Beacon on a Thursday morning. Please contact her via her Facebook page to book/check dates https://www.facebook.com/clairehoustonmassageandyoga/
URL:https://gorebridge.org.uk/upcomingevents/baby-massage-claire-houston/2025-07-17/
LOCATION:Gorebridge Beacon
CATEGORIES:Beacon,Events
END:VEVENT
BEGIN:VEVENT
DTSTART;TZID=Europe/London:20250710T103000
DTEND;TZID=Europe/London:20250710T113000
DTSTAMP:20260424T072937
CREATED:20210511T104331Z
LAST-MODIFIED:20210511T104331Z
UID:12848-1752143400-1752147000@gorebridge.org.uk
SUMMARY:Baby Massage (Claire Houston)
DESCRIPTION:[External User of Beacon] \nClaire Houston runs Baby Massage classes at the Beacon on a Thursday morning. Please contact her via her Facebook page to book/check dates https://www.facebook.com/clairehoustonmassageandyoga/
URL:https://gorebridge.org.uk/upcomingevents/baby-massage-claire-houston/2025-07-10/
LOCATION:Gorebridge Beacon
CATEGORIES:Beacon,Events
END:VEVENT
BEGIN:VEVENT
DTSTART;TZID=Europe/London:20250703T103000
DTEND;TZID=Europe/London:20250703T113000
DTSTAMP:20260424T072937
CREATED:20210511T104331Z
LAST-MODIFIED:20210511T104331Z
UID:12847-1751538600-1751542200@gorebridge.org.uk
SUMMARY:Baby Massage (Claire Houston)
DESCRIPTION:[External User of Beacon] \nClaire Houston runs Baby Massage classes at the Beacon on a Thursday morning. Please contact her via her Facebook page to book/check dates https://www.facebook.com/clairehoustonmassageandyoga/
URL:https://gorebridge.org.uk/upcomingevents/baby-massage-claire-houston/2025-07-03/
LOCATION:Gorebridge Beacon
CATEGORIES:Beacon,Events
END:VEVENT
BEGIN:VEVENT
DTSTART;TZID=Europe/London:20250626T103000
DTEND;TZID=Europe/London:20250626T113000
DTSTAMP:20260424T072937
CREATED:20210511T104331Z
LAST-MODIFIED:20210511T104331Z
UID:12846-1750933800-1750937400@gorebridge.org.uk
SUMMARY:Baby Massage (Claire Houston)
DESCRIPTION:[External User of Beacon] \nClaire Houston runs Baby Massage classes at the Beacon on a Thursday morning. Please contact her via her Facebook page to book/check dates https://www.facebook.com/clairehoustonmassageandyoga/
URL:https://gorebridge.org.uk/upcomingevents/baby-massage-claire-houston/2025-06-26/
LOCATION:Gorebridge Beacon
CATEGORIES:Beacon,Events
END:VEVENT
BEGIN:VEVENT
DTSTART;TZID=Europe/London:20250619T103000
DTEND;TZID=Europe/London:20250619T113000
DTSTAMP:20260424T072937
CREATED:20210511T104331Z
LAST-MODIFIED:20210511T104331Z
UID:12845-1750329000-1750332600@gorebridge.org.uk
SUMMARY:Baby Massage (Claire Houston)
DESCRIPTION:[External User of Beacon] \nClaire Houston runs Baby Massage classes at the Beacon on a Thursday morning. Please contact her via her Facebook page to book/check dates https://www.facebook.com/clairehoustonmassageandyoga/
URL:https://gorebridge.org.uk/upcomingevents/baby-massage-claire-houston/2025-06-19/
LOCATION:Gorebridge Beacon
CATEGORIES:Beacon,Events
END:VEVENT
BEGIN:VEVENT
DTSTART;TZID=Europe/London:20250612T103000
DTEND;TZID=Europe/London:20250612T113000
DTSTAMP:20260424T072937
CREATED:20210511T104331Z
LAST-MODIFIED:20210511T104331Z
UID:12844-1749724200-1749727800@gorebridge.org.uk
SUMMARY:Baby Massage (Claire Houston)
DESCRIPTION:[External User of Beacon] \nClaire Houston runs Baby Massage classes at the Beacon on a Thursday morning. Please contact her via her Facebook page to book/check dates https://www.facebook.com/clairehoustonmassageandyoga/
URL:https://gorebridge.org.uk/upcomingevents/baby-massage-claire-houston/2025-06-12/
LOCATION:Gorebridge Beacon
CATEGORIES:Beacon,Events
END:VEVENT
BEGIN:VEVENT
DTSTART;TZID=Europe/London:20250605T103000
DTEND;TZID=Europe/London:20250605T113000
DTSTAMP:20260424T072937
CREATED:20210511T104331Z
LAST-MODIFIED:20210511T104331Z
UID:12843-1749119400-1749123000@gorebridge.org.uk
SUMMARY:Baby Massage (Claire Houston)
DESCRIPTION:[External User of Beacon] \nClaire Houston runs Baby Massage classes at the Beacon on a Thursday morning. Please contact her via her Facebook page to book/check dates https://www.facebook.com/clairehoustonmassageandyoga/
URL:https://gorebridge.org.uk/upcomingevents/baby-massage-claire-houston/2025-06-05/
LOCATION:Gorebridge Beacon
CATEGORIES:Beacon,Events
END:VEVENT
BEGIN:VEVENT
DTSTART;TZID=Europe/London:20250529T103000
DTEND;TZID=Europe/London:20250529T113000
DTSTAMP:20260424T072937
CREATED:20210511T104331Z
LAST-MODIFIED:20210511T104331Z
UID:12842-1748514600-1748518200@gorebridge.org.uk
SUMMARY:Baby Massage (Claire Houston)
DESCRIPTION:[External User of Beacon] \nClaire Houston runs Baby Massage classes at the Beacon on a Thursday morning. Please contact her via her Facebook page to book/check dates https://www.facebook.com/clairehoustonmassageandyoga/
URL:https://gorebridge.org.uk/upcomingevents/baby-massage-claire-houston/2025-05-29/
LOCATION:Gorebridge Beacon
CATEGORIES:Beacon,Events
END:VEVENT
BEGIN:VEVENT
DTSTART;TZID=Europe/London:20250522T103000
DTEND;TZID=Europe/London:20250522T113000
DTSTAMP:20260424T072937
CREATED:20210511T104331Z
LAST-MODIFIED:20210511T104331Z
UID:12841-1747909800-1747913400@gorebridge.org.uk
SUMMARY:Baby Massage (Claire Houston)
DESCRIPTION:[External User of Beacon] \nClaire Houston runs Baby Massage classes at the Beacon on a Thursday morning. Please contact her via her Facebook page to book/check dates https://www.facebook.com/clairehoustonmassageandyoga/
URL:https://gorebridge.org.uk/upcomingevents/baby-massage-claire-houston/2025-05-22/
LOCATION:Gorebridge Beacon
CATEGORIES:Beacon,Events
END:VEVENT
BEGIN:VEVENT
DTSTART;TZID=Europe/London:20250515T103000
DTEND;TZID=Europe/London:20250515T113000
DTSTAMP:20260424T072937
CREATED:20210511T104331Z
LAST-MODIFIED:20210511T104331Z
UID:12840-1747305000-1747308600@gorebridge.org.uk
SUMMARY:Baby Massage (Claire Houston)
DESCRIPTION:[External User of Beacon] \nClaire Houston runs Baby Massage classes at the Beacon on a Thursday morning. Please contact her via her Facebook page to book/check dates https://www.facebook.com/clairehoustonmassageandyoga/
URL:https://gorebridge.org.uk/upcomingevents/baby-massage-claire-houston/2025-05-15/
LOCATION:Gorebridge Beacon
CATEGORIES:Beacon,Events
END:VEVENT
BEGIN:VEVENT
DTSTART;TZID=Europe/London:20250508T103000
DTEND;TZID=Europe/London:20250508T113000
DTSTAMP:20260424T072937
CREATED:20210511T104331Z
LAST-MODIFIED:20210511T104331Z
UID:12839-1746700200-1746703800@gorebridge.org.uk
SUMMARY:Baby Massage (Claire Houston)
DESCRIPTION:[External User of Beacon] \nClaire Houston runs Baby Massage classes at the Beacon on a Thursday morning. Please contact her via her Facebook page to book/check dates https://www.facebook.com/clairehoustonmassageandyoga/
URL:https://gorebridge.org.uk/upcomingevents/baby-massage-claire-houston/2025-05-08/
LOCATION:Gorebridge Beacon
CATEGORIES:Beacon,Events
END:VEVENT
BEGIN:VEVENT
DTSTART;TZID=Europe/London:20250501T103000
DTEND;TZID=Europe/London:20250501T113000
DTSTAMP:20260424T072937
CREATED:20210511T104331Z
LAST-MODIFIED:20210511T104331Z
UID:12838-1746095400-1746099000@gorebridge.org.uk
SUMMARY:Baby Massage (Claire Houston)
DESCRIPTION:[External User of Beacon] \nClaire Houston runs Baby Massage classes at the Beacon on a Thursday morning. Please contact her via her Facebook page to book/check dates https://www.facebook.com/clairehoustonmassageandyoga/
URL:https://gorebridge.org.uk/upcomingevents/baby-massage-claire-houston/2025-05-01/
LOCATION:Gorebridge Beacon
CATEGORIES:Beacon,Events
END:VEVENT
BEGIN:VEVENT
DTSTART;TZID=Europe/London:20250424T103000
DTEND;TZID=Europe/London:20250424T113000
DTSTAMP:20260424T072937
CREATED:20210511T104331Z
LAST-MODIFIED:20210511T104331Z
UID:12837-1745490600-1745494200@gorebridge.org.uk
SUMMARY:Baby Massage (Claire Houston)
DESCRIPTION:[External User of Beacon] \nClaire Houston runs Baby Massage classes at the Beacon on a Thursday morning. Please contact her via her Facebook page to book/check dates https://www.facebook.com/clairehoustonmassageandyoga/
URL:https://gorebridge.org.uk/upcomingevents/baby-massage-claire-houston/2025-04-24/
LOCATION:Gorebridge Beacon
CATEGORIES:Beacon,Events
END:VEVENT
BEGIN:VEVENT
DTSTART;TZID=Europe/London:20250417T103000
DTEND;TZID=Europe/London:20250417T113000
DTSTAMP:20260424T072937
CREATED:20210511T104331Z
LAST-MODIFIED:20210511T104331Z
UID:12836-1744885800-1744889400@gorebridge.org.uk
SUMMARY:Baby Massage (Claire Houston)
DESCRIPTION:[External User of Beacon] \nClaire Houston runs Baby Massage classes at the Beacon on a Thursday morning. Please contact her via her Facebook page to book/check dates https://www.facebook.com/clairehoustonmassageandyoga/
URL:https://gorebridge.org.uk/upcomingevents/baby-massage-claire-houston/2025-04-17/
LOCATION:Gorebridge Beacon
CATEGORIES:Beacon,Events
END:VEVENT
BEGIN:VEVENT
DTSTART;TZID=Europe/London:20250410T103000
DTEND;TZID=Europe/London:20250410T113000
DTSTAMP:20260424T072937
CREATED:20210511T104331Z
LAST-MODIFIED:20210511T104331Z
UID:12835-1744281000-1744284600@gorebridge.org.uk
SUMMARY:Baby Massage (Claire Houston)
DESCRIPTION:[External User of Beacon] \nClaire Houston runs Baby Massage classes at the Beacon on a Thursday morning. Please contact her via her Facebook page to book/check dates https://www.facebook.com/clairehoustonmassageandyoga/
URL:https://gorebridge.org.uk/upcomingevents/baby-massage-claire-houston/2025-04-10/
LOCATION:Gorebridge Beacon
CATEGORIES:Beacon,Events
END:VEVENT
BEGIN:VEVENT
DTSTART;TZID=Europe/London:20250403T103000
DTEND;TZID=Europe/London:20250403T113000
DTSTAMP:20260424T072937
CREATED:20210511T104331Z
LAST-MODIFIED:20210511T104331Z
UID:12834-1743676200-1743679800@gorebridge.org.uk
SUMMARY:Baby Massage (Claire Houston)
DESCRIPTION:[External User of Beacon] \nClaire Houston runs Baby Massage classes at the Beacon on a Thursday morning. Please contact her via her Facebook page to book/check dates https://www.facebook.com/clairehoustonmassageandyoga/
URL:https://gorebridge.org.uk/upcomingevents/baby-massage-claire-houston/2025-04-03/
LOCATION:Gorebridge Beacon
CATEGORIES:Beacon,Events
END:VEVENT
BEGIN:VEVENT
DTSTART;TZID=Europe/London:20250327T103000
DTEND;TZID=Europe/London:20250327T113000
DTSTAMP:20260424T072937
CREATED:20210511T104331Z
LAST-MODIFIED:20210511T104331Z
UID:12833-1743071400-1743075000@gorebridge.org.uk
SUMMARY:Baby Massage (Claire Houston)
DESCRIPTION:[External User of Beacon] \nClaire Houston runs Baby Massage classes at the Beacon on a Thursday morning. Please contact her via her Facebook page to book/check dates https://www.facebook.com/clairehoustonmassageandyoga/
URL:https://gorebridge.org.uk/upcomingevents/baby-massage-claire-houston/2025-03-27/
LOCATION:Gorebridge Beacon
CATEGORIES:Beacon,Events
END:VEVENT
END:VCALENDAR