BEGIN:VCALENDAR
VERSION:2.0
PRODID:-//Gorebridge Community Development Trust - ECPv6.15.20//NONSGML v1.0//EN
CALSCALE:GREGORIAN
METHOD:PUBLISH
X-ORIGINAL-URL:https://gorebridge.org.uk
X-WR-CALDESC:Events for Gorebridge Community Development Trust
REFRESH-INTERVAL;VALUE=DURATION:PT1H
X-Robots-Tag:noindex
X-PUBLISHED-TTL:PT1H
BEGIN:VTIMEZONE
TZID:Europe/London
BEGIN:DAYLIGHT
TZOFFSETFROM:+0000
TZOFFSETTO:+0100
TZNAME:BST
DTSTART:20240331T010000
END:DAYLIGHT
BEGIN:STANDARD
TZOFFSETFROM:+0100
TZOFFSETTO:+0000
TZNAME:GMT
DTSTART:20241027T010000
END:STANDARD
BEGIN:DAYLIGHT
TZOFFSETFROM:+0000
TZOFFSETTO:+0100
TZNAME:BST
DTSTART:20250330T010000
END:DAYLIGHT
BEGIN:STANDARD
TZOFFSETFROM:+0100
TZOFFSETTO:+0000
TZNAME:GMT
DTSTART:20251026T010000
END:STANDARD
BEGIN:DAYLIGHT
TZOFFSETFROM:+0000
TZOFFSETTO:+0100
TZNAME:BST
DTSTART:20260329T010000
END:DAYLIGHT
BEGIN:STANDARD
TZOFFSETFROM:+0100
TZOFFSETTO:+0000
TZNAME:GMT
DTSTART:20261025T010000
END:STANDARD
END:VTIMEZONE
BEGIN:VEVENT
DTSTART;TZID=Europe/London:20250612T103000
DTEND;TZID=Europe/London:20250612T113000
DTSTAMP:20260424T102224
CREATED:20210511T104331Z
LAST-MODIFIED:20210511T104331Z
UID:12844-1749724200-1749727800@gorebridge.org.uk
SUMMARY:Baby Massage (Claire Houston)
DESCRIPTION:[External User of Beacon] \nClaire Houston runs Baby Massage classes at the Beacon on a Thursday morning. Please contact her via her Facebook page to book/check dates https://www.facebook.com/clairehoustonmassageandyoga/
URL:https://gorebridge.org.uk/upcomingevents/baby-massage-claire-houston/2025-06-12/
LOCATION:Gorebridge Beacon
CATEGORIES:Beacon,Events
END:VEVENT
BEGIN:VEVENT
DTSTART;TZID=Europe/London:20250605T103000
DTEND;TZID=Europe/London:20250605T113000
DTSTAMP:20260424T102224
CREATED:20210511T104331Z
LAST-MODIFIED:20210511T104331Z
UID:12843-1749119400-1749123000@gorebridge.org.uk
SUMMARY:Baby Massage (Claire Houston)
DESCRIPTION:[External User of Beacon] \nClaire Houston runs Baby Massage classes at the Beacon on a Thursday morning. Please contact her via her Facebook page to book/check dates https://www.facebook.com/clairehoustonmassageandyoga/
URL:https://gorebridge.org.uk/upcomingevents/baby-massage-claire-houston/2025-06-05/
LOCATION:Gorebridge Beacon
CATEGORIES:Beacon,Events
END:VEVENT
BEGIN:VEVENT
DTSTART;TZID=Europe/London:20250529T103000
DTEND;TZID=Europe/London:20250529T113000
DTSTAMP:20260424T102224
CREATED:20210511T104331Z
LAST-MODIFIED:20210511T104331Z
UID:12842-1748514600-1748518200@gorebridge.org.uk
SUMMARY:Baby Massage (Claire Houston)
DESCRIPTION:[External User of Beacon] \nClaire Houston runs Baby Massage classes at the Beacon on a Thursday morning. Please contact her via her Facebook page to book/check dates https://www.facebook.com/clairehoustonmassageandyoga/
URL:https://gorebridge.org.uk/upcomingevents/baby-massage-claire-houston/2025-05-29/
LOCATION:Gorebridge Beacon
CATEGORIES:Beacon,Events
END:VEVENT
BEGIN:VEVENT
DTSTART;TZID=Europe/London:20250522T103000
DTEND;TZID=Europe/London:20250522T113000
DTSTAMP:20260424T102224
CREATED:20210511T104331Z
LAST-MODIFIED:20210511T104331Z
UID:12841-1747909800-1747913400@gorebridge.org.uk
SUMMARY:Baby Massage (Claire Houston)
DESCRIPTION:[External User of Beacon] \nClaire Houston runs Baby Massage classes at the Beacon on a Thursday morning. Please contact her via her Facebook page to book/check dates https://www.facebook.com/clairehoustonmassageandyoga/
URL:https://gorebridge.org.uk/upcomingevents/baby-massage-claire-houston/2025-05-22/
LOCATION:Gorebridge Beacon
CATEGORIES:Beacon,Events
END:VEVENT
BEGIN:VEVENT
DTSTART;TZID=Europe/London:20250515T103000
DTEND;TZID=Europe/London:20250515T113000
DTSTAMP:20260424T102224
CREATED:20210511T104331Z
LAST-MODIFIED:20210511T104331Z
UID:12840-1747305000-1747308600@gorebridge.org.uk
SUMMARY:Baby Massage (Claire Houston)
DESCRIPTION:[External User of Beacon] \nClaire Houston runs Baby Massage classes at the Beacon on a Thursday morning. Please contact her via her Facebook page to book/check dates https://www.facebook.com/clairehoustonmassageandyoga/
URL:https://gorebridge.org.uk/upcomingevents/baby-massage-claire-houston/2025-05-15/
LOCATION:Gorebridge Beacon
CATEGORIES:Beacon,Events
END:VEVENT
BEGIN:VEVENT
DTSTART;TZID=Europe/London:20250508T103000
DTEND;TZID=Europe/London:20250508T113000
DTSTAMP:20260424T102224
CREATED:20210511T104331Z
LAST-MODIFIED:20210511T104331Z
UID:12839-1746700200-1746703800@gorebridge.org.uk
SUMMARY:Baby Massage (Claire Houston)
DESCRIPTION:[External User of Beacon] \nClaire Houston runs Baby Massage classes at the Beacon on a Thursday morning. Please contact her via her Facebook page to book/check dates https://www.facebook.com/clairehoustonmassageandyoga/
URL:https://gorebridge.org.uk/upcomingevents/baby-massage-claire-houston/2025-05-08/
LOCATION:Gorebridge Beacon
CATEGORIES:Beacon,Events
END:VEVENT
BEGIN:VEVENT
DTSTART;TZID=Europe/London:20250501T103000
DTEND;TZID=Europe/London:20250501T113000
DTSTAMP:20260424T102224
CREATED:20210511T104331Z
LAST-MODIFIED:20210511T104331Z
UID:12838-1746095400-1746099000@gorebridge.org.uk
SUMMARY:Baby Massage (Claire Houston)
DESCRIPTION:[External User of Beacon] \nClaire Houston runs Baby Massage classes at the Beacon on a Thursday morning. Please contact her via her Facebook page to book/check dates https://www.facebook.com/clairehoustonmassageandyoga/
URL:https://gorebridge.org.uk/upcomingevents/baby-massage-claire-houston/2025-05-01/
LOCATION:Gorebridge Beacon
CATEGORIES:Beacon,Events
END:VEVENT
BEGIN:VEVENT
DTSTART;TZID=Europe/London:20250424T103000
DTEND;TZID=Europe/London:20250424T113000
DTSTAMP:20260424T102224
CREATED:20210511T104331Z
LAST-MODIFIED:20210511T104331Z
UID:12837-1745490600-1745494200@gorebridge.org.uk
SUMMARY:Baby Massage (Claire Houston)
DESCRIPTION:[External User of Beacon] \nClaire Houston runs Baby Massage classes at the Beacon on a Thursday morning. Please contact her via her Facebook page to book/check dates https://www.facebook.com/clairehoustonmassageandyoga/
URL:https://gorebridge.org.uk/upcomingevents/baby-massage-claire-houston/2025-04-24/
LOCATION:Gorebridge Beacon
CATEGORIES:Beacon,Events
END:VEVENT
BEGIN:VEVENT
DTSTART;TZID=Europe/London:20250417T103000
DTEND;TZID=Europe/London:20250417T113000
DTSTAMP:20260424T102224
CREATED:20210511T104331Z
LAST-MODIFIED:20210511T104331Z
UID:12836-1744885800-1744889400@gorebridge.org.uk
SUMMARY:Baby Massage (Claire Houston)
DESCRIPTION:[External User of Beacon] \nClaire Houston runs Baby Massage classes at the Beacon on a Thursday morning. Please contact her via her Facebook page to book/check dates https://www.facebook.com/clairehoustonmassageandyoga/
URL:https://gorebridge.org.uk/upcomingevents/baby-massage-claire-houston/2025-04-17/
LOCATION:Gorebridge Beacon
CATEGORIES:Beacon,Events
END:VEVENT
BEGIN:VEVENT
DTSTART;TZID=Europe/London:20250410T103000
DTEND;TZID=Europe/London:20250410T113000
DTSTAMP:20260424T102224
CREATED:20210511T104331Z
LAST-MODIFIED:20210511T104331Z
UID:12835-1744281000-1744284600@gorebridge.org.uk
SUMMARY:Baby Massage (Claire Houston)
DESCRIPTION:[External User of Beacon] \nClaire Houston runs Baby Massage classes at the Beacon on a Thursday morning. Please contact her via her Facebook page to book/check dates https://www.facebook.com/clairehoustonmassageandyoga/
URL:https://gorebridge.org.uk/upcomingevents/baby-massage-claire-houston/2025-04-10/
LOCATION:Gorebridge Beacon
CATEGORIES:Beacon,Events
END:VEVENT
BEGIN:VEVENT
DTSTART;TZID=Europe/London:20250403T103000
DTEND;TZID=Europe/London:20250403T113000
DTSTAMP:20260424T102224
CREATED:20210511T104331Z
LAST-MODIFIED:20210511T104331Z
UID:12834-1743676200-1743679800@gorebridge.org.uk
SUMMARY:Baby Massage (Claire Houston)
DESCRIPTION:[External User of Beacon] \nClaire Houston runs Baby Massage classes at the Beacon on a Thursday morning. Please contact her via her Facebook page to book/check dates https://www.facebook.com/clairehoustonmassageandyoga/
URL:https://gorebridge.org.uk/upcomingevents/baby-massage-claire-houston/2025-04-03/
LOCATION:Gorebridge Beacon
CATEGORIES:Beacon,Events
END:VEVENT
BEGIN:VEVENT
DTSTART;TZID=Europe/London:20250327T103000
DTEND;TZID=Europe/London:20250327T113000
DTSTAMP:20260424T102224
CREATED:20210511T104331Z
LAST-MODIFIED:20210511T104331Z
UID:12833-1743071400-1743075000@gorebridge.org.uk
SUMMARY:Baby Massage (Claire Houston)
DESCRIPTION:[External User of Beacon] \nClaire Houston runs Baby Massage classes at the Beacon on a Thursday morning. Please contact her via her Facebook page to book/check dates https://www.facebook.com/clairehoustonmassageandyoga/
URL:https://gorebridge.org.uk/upcomingevents/baby-massage-claire-houston/2025-03-27/
LOCATION:Gorebridge Beacon
CATEGORIES:Beacon,Events
END:VEVENT
BEGIN:VEVENT
DTSTART;TZID=Europe/London:20250320T103000
DTEND;TZID=Europe/London:20250320T113000
DTSTAMP:20260424T102224
CREATED:20210511T104331Z
LAST-MODIFIED:20210511T104331Z
UID:12831-1742466600-1742470200@gorebridge.org.uk
SUMMARY:Baby Massage (Claire Houston)
DESCRIPTION:[External User of Beacon] \nClaire Houston runs Baby Massage classes at the Beacon on a Thursday morning. Please contact her via her Facebook page to book/check dates https://www.facebook.com/clairehoustonmassageandyoga/
URL:https://gorebridge.org.uk/upcomingevents/baby-massage-claire-houston/2025-03-20/
LOCATION:Gorebridge Beacon
CATEGORIES:Beacon,Events
END:VEVENT
BEGIN:VEVENT
DTSTART;TZID=Europe/London:20250313T103000
DTEND;TZID=Europe/London:20250313T113000
DTSTAMP:20260424T102224
CREATED:20210511T104331Z
LAST-MODIFIED:20210511T104331Z
UID:12830-1741861800-1741865400@gorebridge.org.uk
SUMMARY:Baby Massage (Claire Houston)
DESCRIPTION:[External User of Beacon] \nClaire Houston runs Baby Massage classes at the Beacon on a Thursday morning. Please contact her via her Facebook page to book/check dates https://www.facebook.com/clairehoustonmassageandyoga/
URL:https://gorebridge.org.uk/upcomingevents/baby-massage-claire-houston/2025-03-13/
LOCATION:Gorebridge Beacon
CATEGORIES:Beacon,Events
END:VEVENT
BEGIN:VEVENT
DTSTART;TZID=Europe/London:20250306T103000
DTEND;TZID=Europe/London:20250306T113000
DTSTAMP:20260424T102224
CREATED:20210511T104331Z
LAST-MODIFIED:20210511T104331Z
UID:12829-1741257000-1741260600@gorebridge.org.uk
SUMMARY:Baby Massage (Claire Houston)
DESCRIPTION:[External User of Beacon] \nClaire Houston runs Baby Massage classes at the Beacon on a Thursday morning. Please contact her via her Facebook page to book/check dates https://www.facebook.com/clairehoustonmassageandyoga/
URL:https://gorebridge.org.uk/upcomingevents/baby-massage-claire-houston/2025-03-06/
LOCATION:Gorebridge Beacon
CATEGORIES:Beacon,Events
END:VEVENT
BEGIN:VEVENT
DTSTART;TZID=Europe/London:20250227T103000
DTEND;TZID=Europe/London:20250227T113000
DTSTAMP:20260424T102224
CREATED:20210511T104331Z
LAST-MODIFIED:20210511T104331Z
UID:12828-1740652200-1740655800@gorebridge.org.uk
SUMMARY:Baby Massage (Claire Houston)
DESCRIPTION:[External User of Beacon] \nClaire Houston runs Baby Massage classes at the Beacon on a Thursday morning. Please contact her via her Facebook page to book/check dates https://www.facebook.com/clairehoustonmassageandyoga/
URL:https://gorebridge.org.uk/upcomingevents/baby-massage-claire-houston/2025-02-27/
LOCATION:Gorebridge Beacon
CATEGORIES:Beacon,Events
END:VEVENT
BEGIN:VEVENT
DTSTART;TZID=Europe/London:20250220T103000
DTEND;TZID=Europe/London:20250220T113000
DTSTAMP:20260424T102224
CREATED:20210511T104331Z
LAST-MODIFIED:20210511T104331Z
UID:12827-1740047400-1740051000@gorebridge.org.uk
SUMMARY:Baby Massage (Claire Houston)
DESCRIPTION:[External User of Beacon] \nClaire Houston runs Baby Massage classes at the Beacon on a Thursday morning. Please contact her via her Facebook page to book/check dates https://www.facebook.com/clairehoustonmassageandyoga/
URL:https://gorebridge.org.uk/upcomingevents/baby-massage-claire-houston/2025-02-20/
LOCATION:Gorebridge Beacon
CATEGORIES:Beacon,Events
END:VEVENT
BEGIN:VEVENT
DTSTART;TZID=Europe/London:20250213T103000
DTEND;TZID=Europe/London:20250213T113000
DTSTAMP:20260424T102224
CREATED:20210511T104331Z
LAST-MODIFIED:20210511T104331Z
UID:12826-1739442600-1739446200@gorebridge.org.uk
SUMMARY:Baby Massage (Claire Houston)
DESCRIPTION:[External User of Beacon] \nClaire Houston runs Baby Massage classes at the Beacon on a Thursday morning. Please contact her via her Facebook page to book/check dates https://www.facebook.com/clairehoustonmassageandyoga/
URL:https://gorebridge.org.uk/upcomingevents/baby-massage-claire-houston/2025-02-13/
LOCATION:Gorebridge Beacon
CATEGORIES:Beacon,Events
END:VEVENT
BEGIN:VEVENT
DTSTART;TZID=Europe/London:20250206T103000
DTEND;TZID=Europe/London:20250206T113000
DTSTAMP:20260424T102224
CREATED:20210511T104331Z
LAST-MODIFIED:20210511T104331Z
UID:12825-1738837800-1738841400@gorebridge.org.uk
SUMMARY:Baby Massage (Claire Houston)
DESCRIPTION:[External User of Beacon] \nClaire Houston runs Baby Massage classes at the Beacon on a Thursday morning. Please contact her via her Facebook page to book/check dates https://www.facebook.com/clairehoustonmassageandyoga/
URL:https://gorebridge.org.uk/upcomingevents/baby-massage-claire-houston/2025-02-06/
LOCATION:Gorebridge Beacon
CATEGORIES:Beacon,Events
END:VEVENT
BEGIN:VEVENT
DTSTART;TZID=Europe/London:20250130T103000
DTEND;TZID=Europe/London:20250130T113000
DTSTAMP:20260424T102224
CREATED:20210511T104331Z
LAST-MODIFIED:20210511T104331Z
UID:12824-1738233000-1738236600@gorebridge.org.uk
SUMMARY:Baby Massage (Claire Houston)
DESCRIPTION:[External User of Beacon] \nClaire Houston runs Baby Massage classes at the Beacon on a Thursday morning. Please contact her via her Facebook page to book/check dates https://www.facebook.com/clairehoustonmassageandyoga/
URL:https://gorebridge.org.uk/upcomingevents/baby-massage-claire-houston/2025-01-30/
LOCATION:Gorebridge Beacon
CATEGORIES:Beacon,Events
END:VEVENT
BEGIN:VEVENT
DTSTART;TZID=Europe/London:20250123T103000
DTEND;TZID=Europe/London:20250123T113000
DTSTAMP:20260424T102224
CREATED:20210511T104331Z
LAST-MODIFIED:20210511T104331Z
UID:12823-1737628200-1737631800@gorebridge.org.uk
SUMMARY:Baby Massage (Claire Houston)
DESCRIPTION:[External User of Beacon] \nClaire Houston runs Baby Massage classes at the Beacon on a Thursday morning. Please contact her via her Facebook page to book/check dates https://www.facebook.com/clairehoustonmassageandyoga/
URL:https://gorebridge.org.uk/upcomingevents/baby-massage-claire-houston/2025-01-23/
LOCATION:Gorebridge Beacon
CATEGORIES:Beacon,Events
END:VEVENT
BEGIN:VEVENT
DTSTART;TZID=Europe/London:20250116T103000
DTEND;TZID=Europe/London:20250116T113000
DTSTAMP:20260424T102224
CREATED:20210511T104331Z
LAST-MODIFIED:20210511T104331Z
UID:12822-1737023400-1737027000@gorebridge.org.uk
SUMMARY:Baby Massage (Claire Houston)
DESCRIPTION:[External User of Beacon] \nClaire Houston runs Baby Massage classes at the Beacon on a Thursday morning. Please contact her via her Facebook page to book/check dates https://www.facebook.com/clairehoustonmassageandyoga/
URL:https://gorebridge.org.uk/upcomingevents/baby-massage-claire-houston/2025-01-16/
LOCATION:Gorebridge Beacon
CATEGORIES:Beacon,Events
END:VEVENT
BEGIN:VEVENT
DTSTART;TZID=Europe/London:20250109T103000
DTEND;TZID=Europe/London:20250109T113000
DTSTAMP:20260424T102224
CREATED:20210511T104331Z
LAST-MODIFIED:20250221T110725Z
UID:6124-1736418600-1736422200@gorebridge.org.uk
SUMMARY:Baby Massage (Claire Houston)
DESCRIPTION:[External User of Beacon] \nClaire Houston runs Baby Massage classes at the Beacon on a Thursday morning. Please contact her via her Facebook page to book/check dates https://www.facebook.com/clairehoustonmassageandyoga/
URL:https://gorebridge.org.uk/upcomingevents/baby-massage-claire-houston/2025-01-09/
LOCATION:Gorebridge Beacon
CATEGORIES:Beacon,Events
END:VEVENT
END:VCALENDAR