BEGIN:VCALENDAR
VERSION:2.0
PRODID:-//Gorebridge Community Development Trust - ECPv6.15.20//NONSGML v1.0//EN
CALSCALE:GREGORIAN
METHOD:PUBLISH
X-WR-CALNAME:Gorebridge Community Development Trust
X-ORIGINAL-URL:https://gorebridge.org.uk
X-WR-CALDESC:Events for Gorebridge Community Development Trust
REFRESH-INTERVAL;VALUE=DURATION:PT1H
X-Robots-Tag:noindex
X-PUBLISHED-TTL:PT1H
BEGIN:VTIMEZONE
TZID:Europe/London
BEGIN:DAYLIGHT
TZOFFSETFROM:+0000
TZOFFSETTO:+0100
TZNAME:BST
DTSTART:20160327T010000
END:DAYLIGHT
BEGIN:STANDARD
TZOFFSETFROM:+0100
TZOFFSETTO:+0000
TZNAME:GMT
DTSTART:20161030T010000
END:STANDARD
BEGIN:DAYLIGHT
TZOFFSETFROM:+0000
TZOFFSETTO:+0100
TZNAME:BST
DTSTART:20170326T010000
END:DAYLIGHT
BEGIN:STANDARD
TZOFFSETFROM:+0100
TZOFFSETTO:+0000
TZNAME:GMT
DTSTART:20171029T010000
END:STANDARD
BEGIN:DAYLIGHT
TZOFFSETFROM:+0000
TZOFFSETTO:+0100
TZNAME:BST
DTSTART:20180325T010000
END:DAYLIGHT
BEGIN:STANDARD
TZOFFSETFROM:+0100
TZOFFSETTO:+0000
TZNAME:GMT
DTSTART:20181028T010000
END:STANDARD
BEGIN:DAYLIGHT
TZOFFSETFROM:+0000
TZOFFSETTO:+0100
TZNAME:BST
DTSTART:20190331T010000
END:DAYLIGHT
BEGIN:STANDARD
TZOFFSETFROM:+0100
TZOFFSETTO:+0000
TZNAME:GMT
DTSTART:20191027T010000
END:STANDARD
END:VTIMEZONE
BEGIN:VEVENT
DTSTART;TZID=Europe/London:20180226T103000
DTEND;TZID=Europe/London:20180226T120000
DTSTAMP:20260424T021857
CREATED:20180215T125521Z
LAST-MODIFIED:20180215T125521Z
UID:1955-1519641000-1519646400@gorebridge.org.uk
SUMMARY:Easy Walks in Gorebridge for all
DESCRIPTION:MEET: Pop-up Beacon\, 55 Main Street\, Gorebridge. 10:30am \nGet outside and stretch your legs\, get fitter\, get out of the house and meet new people while creating a lower carbon community.\nPLUS take the opportunity to pick up your shopping on the way home at the local shop. \nThis walking group welcomes:\nParents/carers with babies in buggies/slings\nSolo adults\, or bring a friend and share some quality time together. \nOpen to anyone who can walk at a reasonable pace.\nAll walks will be on paths/pavements suitable for buggies.\n\nWalks last between 30-1 hour. \nBack to the Pop-up Beacon afterwards to have a cuppa and a blether
URL:https://gorebridge.org.uk/upcomingevents/easy-walks-in-gorebridge-for-all-2/
LOCATION:55 main street\, Gorebridge\, United Kingdom
CATEGORIES:Climate Challenge Fund,Greening Gorebridge
ORGANIZER;CN="Greening Gorebridge":MAILTO:michaela.jackson@gorebridge.org.uk
END:VEVENT
BEGIN:VEVENT
DTSTART;TZID=Europe/London:20180219T120000
DTEND;TZID=Europe/London:20180219T133000
DTSTAMP:20260424T021857
CREATED:20180215T121400Z
LAST-MODIFIED:20180215T121400Z
UID:1944-1519041600-1519047000@gorebridge.org.uk
SUMMARY:Sling Library
DESCRIPTION:Do you have a sling of your own that you need some advice in using? \nWould you like to try a sling but are overwhelmed with the options and what would be right for you and your baby?\nWant to hire out a sling before committing to getting one of your own.? \nDrop-in to see the lovely Kimberley at the Pop-Up Beacon for a welcoming sling advice and hire session. \nOld Bank building\, Main Street 12-1:30pm.
URL:https://gorebridge.org.uk/upcomingevents/sling-library/
LOCATION:55 main street\, Gorebridge\, United Kingdom
ORGANIZER;CN="Greening Gorebridge":MAILTO:michaela.jackson@gorebridge.org.uk
END:VEVENT
BEGIN:VEVENT
DTSTART;TZID=Europe/London:20180217T113000
DTEND;TZID=Europe/London:20180217T150000
DTSTAMP:20260424T021857
CREATED:20180215T121638Z
LAST-MODIFIED:20180215T123826Z
UID:1946-1518867000-1518879600@gorebridge.org.uk
SUMMARY:FREE Dr Bike repairs- Pathhead
DESCRIPTION:Dr Bike comes to PATHHEAD!!!! Saturday 17th February \nIf you can’t make it on the day you can drop off your bike with Dr Bike between 6:15-8:15pm on 15th or 16th February. AT 136 Main Street\, Pathhead\,EH37 5PX \nOtherwise on Saturday 17th February- Bring along your bike if it’s in need of some basic TLC.\nGet yourself back on the road without having to take your bike to a bike shop\, or you may have got a bike for Christmas and it needs a few adjustments before you go out on it.\nGet fit and healthy\nSave money\nHelp create a lower carbon community
URL:https://gorebridge.org.uk/upcomingevents/free-dr-bike-repairs-pathhead/
ORGANIZER;CN="Greening Gorebridge":MAILTO:michaela.jackson@gorebridge.org.uk
END:VEVENT
BEGIN:VEVENT
DTSTART;TZID=Europe/London:20180210T183000
DTEND;TZID=Europe/London:20180210T203000
DTSTAMP:20260424T021857
CREATED:20171122T105154Z
LAST-MODIFIED:20180116T114240Z
UID:1808-1518287400-1518294600@gorebridge.org.uk
SUMMARY:Soup Night Presents...Folk music night
DESCRIPTION:Gather for an evening of soup and songs with friends and family. \nFurther details to follow
URL:https://gorebridge.org.uk/upcomingevents/soup-night-presents-folk-music-night/
LOCATION:55 main street\, Gorebridge\, United Kingdom
CATEGORIES:Climate Challenge Fund,Food,Greening Gorebridge
ORGANIZER;CN="Greening Gorebridge":MAILTO:michaela.jackson@gorebridge.org.uk
END:VEVENT
BEGIN:VEVENT
DTSTART;TZID=Europe/London:20180120T183000
DTEND;TZID=Europe/London:20180120T203000
DTSTAMP:20260424T021857
CREATED:20171122T104206Z
LAST-MODIFIED:20171122T105625Z
UID:1804-1516473000-1516480200@gorebridge.org.uk
SUMMARY:Soup night presents...Clothes and gift swap
DESCRIPTION:Join us for a New Year get together to refresh your wardrobes for the coming year and to swap Chrismas gift items that you got for Christmas but won’t use yourself\, and enjoy some warming soup while you browse the rails. \nMore details to follow \nBring along: \ngood quality clothing of all sizes- Female and Male \nBags\, shoes and other accessories. \nUnwanted christmas gifts \n 
URL:https://gorebridge.org.uk/upcomingevents/soup-night-presents-clothes-and-gift-swap/
LOCATION:55 main street\, Gorebridge\, United Kingdom
ORGANIZER;CN="Greening Gorebridge":MAILTO:michaela.jackson@gorebridge.org.uk
END:VEVENT
BEGIN:VEVENT
DTSTART;TZID=Europe/London:20180115T120000
DTEND;TZID=Europe/London:20180115T133000
DTSTAMP:20260424T021857
CREATED:20171122T111437Z
LAST-MODIFIED:20171122T111437Z
UID:1813-1516017600-1516023000@gorebridge.org.uk
SUMMARY:Sling Library- advice and hire
DESCRIPTION:Do you have a sling of your own that you need some advice in using? \nWould you like to try a sling but are overwhelmed with the options and what would be right for you and your baby?\nWant to hire out a sling before committing to getting one of your own? \nDrop-in on a monthly basis to see the lovely Kimberley at the Pop-Up Beacon for a welcoming sling advice and hire session. \nMonday 15th January \nMonday 19th february \nMonday 19th March \nMonday 16th April \nMonday 21st May \nSling hire monthly costs… tbc
URL:https://gorebridge.org.uk/upcomingevents/sling-library-advice-and-hire/
LOCATION:55 main street\, Gorebridge\, United Kingdom
ORGANIZER;CN="Greening Gorebridge":MAILTO:michaela.jackson@gorebridge.org.uk
END:VEVENT
BEGIN:VEVENT
DTSTART;TZID=Europe/London:20171216T183000
DTEND;TZID=Europe/London:20171216T203000
DTSTAMP:20260424T021857
CREATED:20171122T102827Z
LAST-MODIFIED:20171122T103059Z
UID:1798-1513449000-1513456200@gorebridge.org.uk
SUMMARY:Soup Night presents... Community Christmas Celebration
DESCRIPTION:Spend a cosy evening with friends and neghbours\, sharing a bowl of homemade soup and fun festive activities. Drop-in during the evening.
URL:https://gorebridge.org.uk/upcomingevents/soup-night-presents-community-christmas-celebration/
LOCATION:55 main street\, Gorebridge\, United Kingdom
ORGANIZER;CN="Greening Gorebridge":MAILTO:michaela.jackson@gorebridge.org.uk
END:VEVENT
BEGIN:VEVENT
DTSTART;TZID=Europe/London:20171206T183000
DTEND;TZID=Europe/London:20171206T203000
DTSTAMP:20260424T021857
CREATED:20171122T100726Z
LAST-MODIFIED:20171122T101349Z
UID:1780-1512585000-1512592200@gorebridge.org.uk
SUMMARY:Festive Cooking- Main courses
DESCRIPTION:Join Michaela to learn how to make some delicious and hearty festive main courses for you and your family. \nTo book your place email michaela.jackson@gorebridge.org.uk
URL:https://gorebridge.org.uk/upcomingevents/festive-cooking-main-courses/
LOCATION:55 main street\, Gorebridge\, United Kingdom
CATEGORIES:Climate Challenge Fund,Food,Greening Gorebridge
ORGANIZER;CN="Greening Gorebridge":MAILTO:michaela.jackson@gorebridge.org.uk
END:VEVENT
BEGIN:VEVENT
DTSTART;TZID=Europe/London:20171125T113000
DTEND;TZID=Europe/London:20171125T140000
DTSTAMP:20260424T021857
CREATED:20171122T102325Z
LAST-MODIFIED:20171122T102325Z
UID:1795-1511609400-1511618400@gorebridge.org.uk
SUMMARY:Basic bike maintenance workshop
DESCRIPTION:Join Dave to learn some of the basics of maintaining your bike and keeping it safe for cycling. You’ll save money in the long run\, especially if you have a few bikes to look after in your household. \n  \nMax 8 places available \nTo book your place email michaela.jackson@gorebridge.org.uk \n 
URL:https://gorebridge.org.uk/upcomingevents/basic-bike-maintenance-workshop/
LOCATION:55 main street\, Gorebridge\, United Kingdom
ORGANIZER;CN="Greening Gorebridge":MAILTO:michaela.jackson@gorebridge.org.uk
END:VEVENT
END:VCALENDAR