BEGIN:VCALENDAR
VERSION:2.0
PRODID:-//Gorebridge Community Development Trust - ECPv6.15.20//NONSGML v1.0//EN
CALSCALE:GREGORIAN
METHOD:PUBLISH
X-WR-CALNAME:Gorebridge Community Development Trust
X-ORIGINAL-URL:https://gorebridge.org.uk
X-WR-CALDESC:Events for Gorebridge Community Development Trust
REFRESH-INTERVAL;VALUE=DURATION:PT1H
X-Robots-Tag:noindex
X-PUBLISHED-TTL:PT1H
BEGIN:VTIMEZONE
TZID:Europe/London
BEGIN:DAYLIGHT
TZOFFSETFROM:+0000
TZOFFSETTO:+0100
TZNAME:BST
DTSTART:20250330T010000
END:DAYLIGHT
BEGIN:STANDARD
TZOFFSETFROM:+0100
TZOFFSETTO:+0000
TZNAME:GMT
DTSTART:20251026T010000
END:STANDARD
BEGIN:DAYLIGHT
TZOFFSETFROM:+0000
TZOFFSETTO:+0100
TZNAME:BST
DTSTART:20260329T010000
END:DAYLIGHT
BEGIN:STANDARD
TZOFFSETFROM:+0100
TZOFFSETTO:+0000
TZNAME:GMT
DTSTART:20261025T010000
END:STANDARD
BEGIN:DAYLIGHT
TZOFFSETFROM:+0000
TZOFFSETTO:+0100
TZNAME:BST
DTSTART:20270328T010000
END:DAYLIGHT
BEGIN:STANDARD
TZOFFSETFROM:+0100
TZOFFSETTO:+0000
TZNAME:GMT
DTSTART:20271031T010000
END:STANDARD
END:VTIMEZONE
BEGIN:VEVENT
DTSTART;TZID=Europe/London:20260426T110000
DTEND;TZID=Europe/London:20260426T170000
DTSTAMP:20260426T032851
CREATED:20260330T125509Z
LAST-MODIFIED:20260330T125509Z
UID:14996-1777201200-1777222800@gorebridge.org.uk
SUMMARY:BRIK: Lego® Cafe
DESCRIPTION:A café with a creative twist. Build amazing creations while enjoying drinks\, food and snacks in our fun\, family-friendly Pop-Up BRIK Café. \n\n\n\n\nStep into a world of creativity\, in a fun\, relaxed space for families\, friends\, and builders of all ages. ​ \nWhether you’re a lifelong fan of building or just looking for a unique day out\, the BRIK Pop Up Café is the perfect place to slow down and get creative. Choose from a selection of lego sets\, and simply relax with a drink while you build your next masterpiece. \nOur pop-up experience is designed for everyone – from curious beginners to experienced builders. Sit down at one of our tables\, connect with other brick fans\, and enjoy a playful atmosphere filled with creativity and inspiration. \nWhat to expect: \nAccess to a range of different lego sets \n\nA cosy café atmosphere with drinks and snacks available\nA welcoming space for families\, friends\, and builders of all ages\nPlenty of photo-worthy creations and inspiration\nCome along\, grab a seat\, and start building.\nSpaces are limited\, so book your builder pass in advance to secure your spot.
URL:https://gorebridge.org.uk/upcomingevents/brik-lego-cafe/
CATEGORIES:Beacon,Gorebridge Community Development Trust
ATTACH;FMTTYPE=image/jpeg:https://gorebridge.org.uk/wp-content/uploads/2026/03/Brik-e1774875286525.jpg
END:VEVENT
END:VCALENDAR