BEGIN:VCALENDAR
VERSION:2.0
PRODID:-//Gorebridge Community Development Trust - ECPv6.15.20//NONSGML v1.0//EN
CALSCALE:GREGORIAN
METHOD:PUBLISH
X-ORIGINAL-URL:https://gorebridge.org.uk
X-WR-CALDESC:Events for Gorebridge Community Development Trust
REFRESH-INTERVAL;VALUE=DURATION:PT1H
X-Robots-Tag:noindex
X-PUBLISHED-TTL:PT1H
BEGIN:VTIMEZONE
TZID:Europe/London
BEGIN:DAYLIGHT
TZOFFSETFROM:+0000
TZOFFSETTO:+0100
TZNAME:BST
DTSTART:20170326T010000
END:DAYLIGHT
BEGIN:STANDARD
TZOFFSETFROM:+0100
TZOFFSETTO:+0000
TZNAME:GMT
DTSTART:20171029T010000
END:STANDARD
BEGIN:DAYLIGHT
TZOFFSETFROM:+0000
TZOFFSETTO:+0100
TZNAME:BST
DTSTART:20180325T010000
END:DAYLIGHT
BEGIN:STANDARD
TZOFFSETFROM:+0100
TZOFFSETTO:+0000
TZNAME:GMT
DTSTART:20181028T010000
END:STANDARD
BEGIN:DAYLIGHT
TZOFFSETFROM:+0000
TZOFFSETTO:+0100
TZNAME:BST
DTSTART:20190331T010000
END:DAYLIGHT
BEGIN:STANDARD
TZOFFSETFROM:+0100
TZOFFSETTO:+0000
TZNAME:GMT
DTSTART:20191027T010000
END:STANDARD
END:VTIMEZONE
BEGIN:VEVENT
DTSTART;TZID=Europe/London:20180625T180000
DTEND;TZID=Europe/London:20180625T193000
DTSTAMP:20260424T011833
CREATED:20180615T100054Z
LAST-MODIFIED:20180615T100054Z
UID:2191-1529949600-1529955000@gorebridge.org.uk
SUMMARY:Beeswax wrap workshop
DESCRIPTION:Are you going through cling film like it’s going out of fashion? \nHate wasting all that plastic that can’t be reused or recycled? Want to reduce the amount of plastic in your life? \nWant a more natural and less toxic way to wrap your leftover bowls of food or keep your bread or cheese fresh? \nCome along and learn how to make 100% cotton and beeswax wraps\, so natural and non-toxic they can be composted! \n\nDrop in. Free \nChildren welcome but would need to be supervised by an adult at all times around HOT irons/wax. \nAll materials provided.\nHowever\, If you have any 100% cotton clothing (non-stretch) e.g. shirts\, blouses etc\, that you would otherwise be putting into landfill please bring them with you (washed)
URL:https://gorebridge.org.uk/upcomingevents/beeswax-wrap-workshop/2018-06-25/
LOCATION:55 main street\, Gorebridge\, United Kingdom
ORGANIZER;CN="Greening Gorebridge":MAILTO:michaela.jackson@gorebridge.org.uk
END:VEVENT
END:VCALENDAR