BEGIN:VCALENDAR
VERSION:2.0
PRODID:-//Gorebridge Community Development Trust - ECPv6.15.20//NONSGML v1.0//EN
CALSCALE:GREGORIAN
METHOD:PUBLISH
X-ORIGINAL-URL:https://gorebridge.org.uk
X-WR-CALDESC:Events for Gorebridge Community Development Trust
REFRESH-INTERVAL;VALUE=DURATION:PT1H
X-Robots-Tag:noindex
X-PUBLISHED-TTL:PT1H
BEGIN:VTIMEZONE
TZID:Europe/London
BEGIN:DAYLIGHT
TZOFFSETFROM:+0000
TZOFFSETTO:+0100
TZNAME:BST
DTSTART:20240331T010000
END:DAYLIGHT
BEGIN:STANDARD
TZOFFSETFROM:+0100
TZOFFSETTO:+0000
TZNAME:GMT
DTSTART:20241027T010000
END:STANDARD
BEGIN:DAYLIGHT
TZOFFSETFROM:+0000
TZOFFSETTO:+0100
TZNAME:BST
DTSTART:20250330T010000
END:DAYLIGHT
BEGIN:STANDARD
TZOFFSETFROM:+0100
TZOFFSETTO:+0000
TZNAME:GMT
DTSTART:20251026T010000
END:STANDARD
BEGIN:DAYLIGHT
TZOFFSETFROM:+0000
TZOFFSETTO:+0100
TZNAME:BST
DTSTART:20260329T010000
END:DAYLIGHT
BEGIN:STANDARD
TZOFFSETFROM:+0100
TZOFFSETTO:+0000
TZNAME:GMT
DTSTART:20261025T010000
END:STANDARD
END:VTIMEZONE
BEGIN:VEVENT
DTSTART;TZID=Europe/London:20250804T093000
DTEND;TZID=Europe/London:20250804T104500
DTSTAMP:20260424T060056
CREATED:20240605T123525Z
LAST-MODIFIED:20240605T123525Z
UID:12904-1754299800-1754304300@gorebridge.org.uk
SUMMARY:Buzzy Bees
DESCRIPTION:Affordable\, educational and fun music classes for babies to pre-schoolers. \n09:30 – 10:00 Baby Bees (3-12 months) \n10:15 – 10:45 Mini Bees (1-3 years) \nThis is an external business\, please contact Erin White for booking/more information/exact dates https://buzzybeesmusic.co.uk/
URL:https://gorebridge.org.uk/upcomingevents/buzzy-bees-external/2025-08-04/
END:VEVENT
BEGIN:VEVENT
DTSTART;TZID=Europe/London:20250728T093000
DTEND;TZID=Europe/London:20250728T104500
DTSTAMP:20260424T060056
CREATED:20240605T123525Z
LAST-MODIFIED:20240605T123525Z
UID:12903-1753695000-1753699500@gorebridge.org.uk
SUMMARY:Buzzy Bees
DESCRIPTION:Affordable\, educational and fun music classes for babies to pre-schoolers. \n09:30 – 10:00 Baby Bees (3-12 months) \n10:15 – 10:45 Mini Bees (1-3 years) \nThis is an external business\, please contact Erin White for booking/more information/exact dates https://buzzybeesmusic.co.uk/
URL:https://gorebridge.org.uk/upcomingevents/buzzy-bees-external/2025-07-28/
END:VEVENT
BEGIN:VEVENT
DTSTART;TZID=Europe/London:20250721T093000
DTEND;TZID=Europe/London:20250721T104500
DTSTAMP:20260424T060056
CREATED:20240605T123525Z
LAST-MODIFIED:20240605T123525Z
UID:12902-1753090200-1753094700@gorebridge.org.uk
SUMMARY:Buzzy Bees
DESCRIPTION:Affordable\, educational and fun music classes for babies to pre-schoolers. \n09:30 – 10:00 Baby Bees (3-12 months) \n10:15 – 10:45 Mini Bees (1-3 years) \nThis is an external business\, please contact Erin White for booking/more information/exact dates https://buzzybeesmusic.co.uk/
URL:https://gorebridge.org.uk/upcomingevents/buzzy-bees-external/2025-07-21/
END:VEVENT
BEGIN:VEVENT
DTSTART;TZID=Europe/London:20250714T093000
DTEND;TZID=Europe/London:20250714T104500
DTSTAMP:20260424T060056
CREATED:20240605T123525Z
LAST-MODIFIED:20240605T123525Z
UID:12901-1752485400-1752489900@gorebridge.org.uk
SUMMARY:Buzzy Bees
DESCRIPTION:Affordable\, educational and fun music classes for babies to pre-schoolers. \n09:30 – 10:00 Baby Bees (3-12 months) \n10:15 – 10:45 Mini Bees (1-3 years) \nThis is an external business\, please contact Erin White for booking/more information/exact dates https://buzzybeesmusic.co.uk/
URL:https://gorebridge.org.uk/upcomingevents/buzzy-bees-external/2025-07-14/
END:VEVENT
BEGIN:VEVENT
DTSTART;TZID=Europe/London:20250707T093000
DTEND;TZID=Europe/London:20250707T104500
DTSTAMP:20260424T060056
CREATED:20240605T123525Z
LAST-MODIFIED:20240605T123525Z
UID:12900-1751880600-1751885100@gorebridge.org.uk
SUMMARY:Buzzy Bees
DESCRIPTION:Affordable\, educational and fun music classes for babies to pre-schoolers. \n09:30 – 10:00 Baby Bees (3-12 months) \n10:15 – 10:45 Mini Bees (1-3 years) \nThis is an external business\, please contact Erin White for booking/more information/exact dates https://buzzybeesmusic.co.uk/
URL:https://gorebridge.org.uk/upcomingevents/buzzy-bees-external/2025-07-07/
END:VEVENT
BEGIN:VEVENT
DTSTART;TZID=Europe/London:20250630T093000
DTEND;TZID=Europe/London:20250630T104500
DTSTAMP:20260424T060056
CREATED:20240605T123525Z
LAST-MODIFIED:20240605T123525Z
UID:12899-1751275800-1751280300@gorebridge.org.uk
SUMMARY:Buzzy Bees
DESCRIPTION:Affordable\, educational and fun music classes for babies to pre-schoolers. \n09:30 – 10:00 Baby Bees (3-12 months) \n10:15 – 10:45 Mini Bees (1-3 years) \nThis is an external business\, please contact Erin White for booking/more information/exact dates https://buzzybeesmusic.co.uk/
URL:https://gorebridge.org.uk/upcomingevents/buzzy-bees-external/2025-06-30/
END:VEVENT
BEGIN:VEVENT
DTSTART;TZID=Europe/London:20250623T093000
DTEND;TZID=Europe/London:20250623T104500
DTSTAMP:20260424T060056
CREATED:20240605T123525Z
LAST-MODIFIED:20240605T123525Z
UID:12898-1750671000-1750675500@gorebridge.org.uk
SUMMARY:Buzzy Bees
DESCRIPTION:Affordable\, educational and fun music classes for babies to pre-schoolers. \n09:30 – 10:00 Baby Bees (3-12 months) \n10:15 – 10:45 Mini Bees (1-3 years) \nThis is an external business\, please contact Erin White for booking/more information/exact dates https://buzzybeesmusic.co.uk/
URL:https://gorebridge.org.uk/upcomingevents/buzzy-bees-external/2025-06-23/
END:VEVENT
BEGIN:VEVENT
DTSTART;TZID=Europe/London:20250616T093000
DTEND;TZID=Europe/London:20250616T104500
DTSTAMP:20260424T060056
CREATED:20240605T123525Z
LAST-MODIFIED:20240605T123525Z
UID:12897-1750066200-1750070700@gorebridge.org.uk
SUMMARY:Buzzy Bees
DESCRIPTION:Affordable\, educational and fun music classes for babies to pre-schoolers. \n09:30 – 10:00 Baby Bees (3-12 months) \n10:15 – 10:45 Mini Bees (1-3 years) \nThis is an external business\, please contact Erin White for booking/more information/exact dates https://buzzybeesmusic.co.uk/
URL:https://gorebridge.org.uk/upcomingevents/buzzy-bees-external/2025-06-16/
END:VEVENT
BEGIN:VEVENT
DTSTART;TZID=Europe/London:20250609T093000
DTEND;TZID=Europe/London:20250609T104500
DTSTAMP:20260424T060056
CREATED:20240605T123525Z
LAST-MODIFIED:20240605T123525Z
UID:12896-1749461400-1749465900@gorebridge.org.uk
SUMMARY:Buzzy Bees
DESCRIPTION:Affordable\, educational and fun music classes for babies to pre-schoolers. \n09:30 – 10:00 Baby Bees (3-12 months) \n10:15 – 10:45 Mini Bees (1-3 years) \nThis is an external business\, please contact Erin White for booking/more information/exact dates https://buzzybeesmusic.co.uk/
URL:https://gorebridge.org.uk/upcomingevents/buzzy-bees-external/2025-06-09/
END:VEVENT
BEGIN:VEVENT
DTSTART;TZID=Europe/London:20250602T093000
DTEND;TZID=Europe/London:20250602T104500
DTSTAMP:20260424T060056
CREATED:20240605T123525Z
LAST-MODIFIED:20240605T123525Z
UID:12895-1748856600-1748861100@gorebridge.org.uk
SUMMARY:Buzzy Bees
DESCRIPTION:Affordable\, educational and fun music classes for babies to pre-schoolers. \n09:30 – 10:00 Baby Bees (3-12 months) \n10:15 – 10:45 Mini Bees (1-3 years) \nThis is an external business\, please contact Erin White for booking/more information/exact dates https://buzzybeesmusic.co.uk/
URL:https://gorebridge.org.uk/upcomingevents/buzzy-bees-external/2025-06-02/
END:VEVENT
BEGIN:VEVENT
DTSTART;TZID=Europe/London:20250526T093000
DTEND;TZID=Europe/London:20250526T104500
DTSTAMP:20260424T060056
CREATED:20240605T123525Z
LAST-MODIFIED:20240605T123525Z
UID:12894-1748251800-1748256300@gorebridge.org.uk
SUMMARY:Buzzy Bees
DESCRIPTION:Affordable\, educational and fun music classes for babies to pre-schoolers. \n09:30 – 10:00 Baby Bees (3-12 months) \n10:15 – 10:45 Mini Bees (1-3 years) \nThis is an external business\, please contact Erin White for booking/more information/exact dates https://buzzybeesmusic.co.uk/
URL:https://gorebridge.org.uk/upcomingevents/buzzy-bees-external/2025-05-26/
END:VEVENT
BEGIN:VEVENT
DTSTART;TZID=Europe/London:20250519T093000
DTEND;TZID=Europe/London:20250519T104500
DTSTAMP:20260424T060056
CREATED:20240605T123525Z
LAST-MODIFIED:20240605T123525Z
UID:12893-1747647000-1747651500@gorebridge.org.uk
SUMMARY:Buzzy Bees
DESCRIPTION:Affordable\, educational and fun music classes for babies to pre-schoolers. \n09:30 – 10:00 Baby Bees (3-12 months) \n10:15 – 10:45 Mini Bees (1-3 years) \nThis is an external business\, please contact Erin White for booking/more information/exact dates https://buzzybeesmusic.co.uk/
URL:https://gorebridge.org.uk/upcomingevents/buzzy-bees-external/2025-05-19/
END:VEVENT
BEGIN:VEVENT
DTSTART;TZID=Europe/London:20250512T093000
DTEND;TZID=Europe/London:20250512T104500
DTSTAMP:20260424T060056
CREATED:20240605T123525Z
LAST-MODIFIED:20240605T123525Z
UID:12892-1747042200-1747046700@gorebridge.org.uk
SUMMARY:Buzzy Bees
DESCRIPTION:Affordable\, educational and fun music classes for babies to pre-schoolers. \n09:30 – 10:00 Baby Bees (3-12 months) \n10:15 – 10:45 Mini Bees (1-3 years) \nThis is an external business\, please contact Erin White for booking/more information/exact dates https://buzzybeesmusic.co.uk/
URL:https://gorebridge.org.uk/upcomingevents/buzzy-bees-external/2025-05-12/
END:VEVENT
BEGIN:VEVENT
DTSTART;TZID=Europe/London:20250505T093000
DTEND;TZID=Europe/London:20250505T104500
DTSTAMP:20260424T060056
CREATED:20240605T123525Z
LAST-MODIFIED:20240605T123525Z
UID:12891-1746437400-1746441900@gorebridge.org.uk
SUMMARY:Buzzy Bees
DESCRIPTION:Affordable\, educational and fun music classes for babies to pre-schoolers. \n09:30 – 10:00 Baby Bees (3-12 months) \n10:15 – 10:45 Mini Bees (1-3 years) \nThis is an external business\, please contact Erin White for booking/more information/exact dates https://buzzybeesmusic.co.uk/
URL:https://gorebridge.org.uk/upcomingevents/buzzy-bees-external/2025-05-05/
END:VEVENT
BEGIN:VEVENT
DTSTART;TZID=Europe/London:20250428T093000
DTEND;TZID=Europe/London:20250428T104500
DTSTAMP:20260424T060056
CREATED:20240605T123525Z
LAST-MODIFIED:20240605T123525Z
UID:12890-1745832600-1745837100@gorebridge.org.uk
SUMMARY:Buzzy Bees
DESCRIPTION:Affordable\, educational and fun music classes for babies to pre-schoolers. \n09:30 – 10:00 Baby Bees (3-12 months) \n10:15 – 10:45 Mini Bees (1-3 years) \nThis is an external business\, please contact Erin White for booking/more information/exact dates https://buzzybeesmusic.co.uk/
URL:https://gorebridge.org.uk/upcomingevents/buzzy-bees-external/2025-04-28/
END:VEVENT
BEGIN:VEVENT
DTSTART;TZID=Europe/London:20250421T093000
DTEND;TZID=Europe/London:20250421T104500
DTSTAMP:20260424T060056
CREATED:20240605T123525Z
LAST-MODIFIED:20240605T123525Z
UID:12889-1745227800-1745232300@gorebridge.org.uk
SUMMARY:Buzzy Bees
DESCRIPTION:Affordable\, educational and fun music classes for babies to pre-schoolers. \n09:30 – 10:00 Baby Bees (3-12 months) \n10:15 – 10:45 Mini Bees (1-3 years) \nThis is an external business\, please contact Erin White for booking/more information/exact dates https://buzzybeesmusic.co.uk/
URL:https://gorebridge.org.uk/upcomingevents/buzzy-bees-external/2025-04-21/
END:VEVENT
BEGIN:VEVENT
DTSTART;TZID=Europe/London:20250414T093000
DTEND;TZID=Europe/London:20250414T104500
DTSTAMP:20260424T060056
CREATED:20240605T123525Z
LAST-MODIFIED:20240605T123525Z
UID:12888-1744623000-1744627500@gorebridge.org.uk
SUMMARY:Buzzy Bees
DESCRIPTION:Affordable\, educational and fun music classes for babies to pre-schoolers. \n09:30 – 10:00 Baby Bees (3-12 months) \n10:15 – 10:45 Mini Bees (1-3 years) \nThis is an external business\, please contact Erin White for booking/more information/exact dates https://buzzybeesmusic.co.uk/
URL:https://gorebridge.org.uk/upcomingevents/buzzy-bees-external/2025-04-14/
END:VEVENT
BEGIN:VEVENT
DTSTART;TZID=Europe/London:20250407T093000
DTEND;TZID=Europe/London:20250407T104500
DTSTAMP:20260424T060056
CREATED:20240605T123525Z
LAST-MODIFIED:20240605T123525Z
UID:12887-1744018200-1744022700@gorebridge.org.uk
SUMMARY:Buzzy Bees
DESCRIPTION:Affordable\, educational and fun music classes for babies to pre-schoolers. \n09:30 – 10:00 Baby Bees (3-12 months) \n10:15 – 10:45 Mini Bees (1-3 years) \nThis is an external business\, please contact Erin White for booking/more information/exact dates https://buzzybeesmusic.co.uk/
URL:https://gorebridge.org.uk/upcomingevents/buzzy-bees-external/2025-04-07/
END:VEVENT
BEGIN:VEVENT
DTSTART;TZID=Europe/London:20250331T093000
DTEND;TZID=Europe/London:20250331T104500
DTSTAMP:20260424T060056
CREATED:20240605T123525Z
LAST-MODIFIED:20240605T123525Z
UID:12886-1743413400-1743417900@gorebridge.org.uk
SUMMARY:Buzzy Bees
DESCRIPTION:Affordable\, educational and fun music classes for babies to pre-schoolers. \n09:30 – 10:00 Baby Bees (3-12 months) \n10:15 – 10:45 Mini Bees (1-3 years) \nThis is an external business\, please contact Erin White for booking/more information/exact dates https://buzzybeesmusic.co.uk/
URL:https://gorebridge.org.uk/upcomingevents/buzzy-bees-external/2025-03-31/
END:VEVENT
BEGIN:VEVENT
DTSTART;TZID=Europe/London:20250324T093000
DTEND;TZID=Europe/London:20250324T104500
DTSTAMP:20260424T060056
CREATED:20240605T123525Z
LAST-MODIFIED:20240605T123525Z
UID:12885-1742808600-1742813100@gorebridge.org.uk
SUMMARY:Buzzy Bees
DESCRIPTION:Affordable\, educational and fun music classes for babies to pre-schoolers. \n09:30 – 10:00 Baby Bees (3-12 months) \n10:15 – 10:45 Mini Bees (1-3 years) \nThis is an external business\, please contact Erin White for booking/more information/exact dates https://buzzybeesmusic.co.uk/
URL:https://gorebridge.org.uk/upcomingevents/buzzy-bees-external/2025-03-24/
END:VEVENT
BEGIN:VEVENT
DTSTART;TZID=Europe/London:20250317T093000
DTEND;TZID=Europe/London:20250317T104500
DTSTAMP:20260424T060056
CREATED:20240605T123525Z
LAST-MODIFIED:20240605T123525Z
UID:12884-1742203800-1742208300@gorebridge.org.uk
SUMMARY:Buzzy Bees
DESCRIPTION:Affordable\, educational and fun music classes for babies to pre-schoolers. \n09:30 – 10:00 Baby Bees (3-12 months) \n10:15 – 10:45 Mini Bees (1-3 years) \nThis is an external business\, please contact Erin White for booking/more information/exact dates https://buzzybeesmusic.co.uk/
URL:https://gorebridge.org.uk/upcomingevents/buzzy-bees-external/2025-03-17/
END:VEVENT
BEGIN:VEVENT
DTSTART;TZID=Europe/London:20250310T093000
DTEND;TZID=Europe/London:20250310T104500
DTSTAMP:20260424T060056
CREATED:20240605T123525Z
LAST-MODIFIED:20240605T123525Z
UID:12883-1741599000-1741603500@gorebridge.org.uk
SUMMARY:Buzzy Bees
DESCRIPTION:Affordable\, educational and fun music classes for babies to pre-schoolers. \n09:30 – 10:00 Baby Bees (3-12 months) \n10:15 – 10:45 Mini Bees (1-3 years) \nThis is an external business\, please contact Erin White for booking/more information/exact dates https://buzzybeesmusic.co.uk/
URL:https://gorebridge.org.uk/upcomingevents/buzzy-bees-external/2025-03-10/
END:VEVENT
BEGIN:VEVENT
DTSTART;TZID=Europe/London:20250303T093000
DTEND;TZID=Europe/London:20250303T104500
DTSTAMP:20260424T060056
CREATED:20240605T123525Z
LAST-MODIFIED:20240605T123525Z
UID:12882-1740994200-1740998700@gorebridge.org.uk
SUMMARY:Buzzy Bees
DESCRIPTION:Affordable\, educational and fun music classes for babies to pre-schoolers. \n09:30 – 10:00 Baby Bees (3-12 months) \n10:15 – 10:45 Mini Bees (1-3 years) \nThis is an external business\, please contact Erin White for booking/more information/exact dates https://buzzybeesmusic.co.uk/
URL:https://gorebridge.org.uk/upcomingevents/buzzy-bees-external/2025-03-03/
END:VEVENT
BEGIN:VEVENT
DTSTART;TZID=Europe/London:20250224T093000
DTEND;TZID=Europe/London:20250224T104500
DTSTAMP:20260424T060056
CREATED:20240605T123525Z
LAST-MODIFIED:20240605T123525Z
UID:12881-1740389400-1740393900@gorebridge.org.uk
SUMMARY:Buzzy Bees
DESCRIPTION:Affordable\, educational and fun music classes for babies to pre-schoolers. \n09:30 – 10:00 Baby Bees (3-12 months) \n10:15 – 10:45 Mini Bees (1-3 years) \nThis is an external business\, please contact Erin White for booking/more information/exact dates https://buzzybeesmusic.co.uk/
URL:https://gorebridge.org.uk/upcomingevents/buzzy-bees-external/2025-02-24/
END:VEVENT
BEGIN:VEVENT
DTSTART;TZID=Europe/London:20250217T093000
DTEND;TZID=Europe/London:20250217T104500
DTSTAMP:20260424T060056
CREATED:20240605T123525Z
LAST-MODIFIED:20240605T123525Z
UID:12880-1739784600-1739789100@gorebridge.org.uk
SUMMARY:Buzzy Bees
DESCRIPTION:Affordable\, educational and fun music classes for babies to pre-schoolers. \n09:30 – 10:00 Baby Bees (3-12 months) \n10:15 – 10:45 Mini Bees (1-3 years) \nThis is an external business\, please contact Erin White for booking/more information/exact dates https://buzzybeesmusic.co.uk/
URL:https://gorebridge.org.uk/upcomingevents/buzzy-bees-external/2025-02-17/
END:VEVENT
BEGIN:VEVENT
DTSTART;TZID=Europe/London:20250210T093000
DTEND;TZID=Europe/London:20250210T104500
DTSTAMP:20260424T060056
CREATED:20240605T123525Z
LAST-MODIFIED:20240605T123525Z
UID:12879-1739179800-1739184300@gorebridge.org.uk
SUMMARY:Buzzy Bees
DESCRIPTION:Affordable\, educational and fun music classes for babies to pre-schoolers. \n09:30 – 10:00 Baby Bees (3-12 months) \n10:15 – 10:45 Mini Bees (1-3 years) \nThis is an external business\, please contact Erin White for booking/more information/exact dates https://buzzybeesmusic.co.uk/
URL:https://gorebridge.org.uk/upcomingevents/buzzy-bees-external/2025-02-10/
END:VEVENT
BEGIN:VEVENT
DTSTART;TZID=Europe/London:20250203T093000
DTEND;TZID=Europe/London:20250203T104500
DTSTAMP:20260424T060056
CREATED:20240605T123525Z
LAST-MODIFIED:20240605T123525Z
UID:12878-1738575000-1738579500@gorebridge.org.uk
SUMMARY:Buzzy Bees
DESCRIPTION:Affordable\, educational and fun music classes for babies to pre-schoolers. \n09:30 – 10:00 Baby Bees (3-12 months) \n10:15 – 10:45 Mini Bees (1-3 years) \nThis is an external business\, please contact Erin White for booking/more information/exact dates https://buzzybeesmusic.co.uk/
URL:https://gorebridge.org.uk/upcomingevents/buzzy-bees-external/2025-02-03/
END:VEVENT
BEGIN:VEVENT
DTSTART;TZID=Europe/London:20250127T093000
DTEND;TZID=Europe/London:20250127T104500
DTSTAMP:20260424T060056
CREATED:20240605T123525Z
LAST-MODIFIED:20240605T123525Z
UID:12877-1737970200-1737974700@gorebridge.org.uk
SUMMARY:Buzzy Bees
DESCRIPTION:Affordable\, educational and fun music classes for babies to pre-schoolers. \n09:30 – 10:00 Baby Bees (3-12 months) \n10:15 – 10:45 Mini Bees (1-3 years) \nThis is an external business\, please contact Erin White for booking/more information/exact dates https://buzzybeesmusic.co.uk/
URL:https://gorebridge.org.uk/upcomingevents/buzzy-bees-external/2025-01-27/
END:VEVENT
BEGIN:VEVENT
DTSTART;TZID=Europe/London:20250120T093000
DTEND;TZID=Europe/London:20250120T104500
DTSTAMP:20260424T060056
CREATED:20240605T123525Z
LAST-MODIFIED:20240605T123525Z
UID:12876-1737365400-1737369900@gorebridge.org.uk
SUMMARY:Buzzy Bees
DESCRIPTION:Affordable\, educational and fun music classes for babies to pre-schoolers. \n09:30 – 10:00 Baby Bees (3-12 months) \n10:15 – 10:45 Mini Bees (1-3 years) \nThis is an external business\, please contact Erin White for booking/more information/exact dates https://buzzybeesmusic.co.uk/
URL:https://gorebridge.org.uk/upcomingevents/buzzy-bees-external/2025-01-20/
END:VEVENT
BEGIN:VEVENT
DTSTART;TZID=Europe/London:20250113T093000
DTEND;TZID=Europe/London:20250113T104500
DTSTAMP:20260424T060056
CREATED:20240605T123525Z
LAST-MODIFIED:20240605T123525Z
UID:12875-1736760600-1736765100@gorebridge.org.uk
SUMMARY:Buzzy Bees
DESCRIPTION:Affordable\, educational and fun music classes for babies to pre-schoolers. \n09:30 – 10:00 Baby Bees (3-12 months) \n10:15 – 10:45 Mini Bees (1-3 years) \nThis is an external business\, please contact Erin White for booking/more information/exact dates https://buzzybeesmusic.co.uk/
URL:https://gorebridge.org.uk/upcomingevents/buzzy-bees-external/2025-01-13/
END:VEVENT
END:VCALENDAR