BEGIN:VCALENDAR
VERSION:2.0
PRODID:-//Gorebridge Community Development Trust - ECPv6.15.20//NONSGML v1.0//EN
CALSCALE:GREGORIAN
METHOD:PUBLISH
X-ORIGINAL-URL:https://gorebridge.org.uk
X-WR-CALDESC:Events for Gorebridge Community Development Trust
REFRESH-INTERVAL;VALUE=DURATION:PT1H
X-Robots-Tag:noindex
X-PUBLISHED-TTL:PT1H
BEGIN:VTIMEZONE
TZID:Europe/London
BEGIN:DAYLIGHT
TZOFFSETFROM:+0000
TZOFFSETTO:+0100
TZNAME:BST
DTSTART:20170326T010000
END:DAYLIGHT
BEGIN:STANDARD
TZOFFSETFROM:+0100
TZOFFSETTO:+0000
TZNAME:GMT
DTSTART:20171029T010000
END:STANDARD
BEGIN:DAYLIGHT
TZOFFSETFROM:+0000
TZOFFSETTO:+0100
TZNAME:BST
DTSTART:20180325T010000
END:DAYLIGHT
BEGIN:STANDARD
TZOFFSETFROM:+0100
TZOFFSETTO:+0000
TZNAME:GMT
DTSTART:20181028T010000
END:STANDARD
BEGIN:DAYLIGHT
TZOFFSETFROM:+0000
TZOFFSETTO:+0100
TZNAME:BST
DTSTART:20190331T010000
END:DAYLIGHT
BEGIN:STANDARD
TZOFFSETFROM:+0100
TZOFFSETTO:+0000
TZNAME:GMT
DTSTART:20191027T010000
END:STANDARD
END:VTIMEZONE
BEGIN:VEVENT
DTSTART;TZID=Europe/London:20180221T090000
DTEND;TZID=Europe/London:20180221T150000
DTSTAMP:20260424T085127
CREATED:20180202T093553Z
LAST-MODIFIED:20180202T105724Z
UID:1932-1519203600-1519225200@gorebridge.org.uk
SUMMARY:Newbyres Castle Vegetation Clearing and Talk
DESCRIPTION:The Gorebridge Community Development Trust has been working closely with Archaeology Scotland to preserve and interpret the site – seeking to fully understand both its historical and local importance. \nOn Wednesday the 21st of February you are welcome to join in a vegetation clearing followed by a talk by Cara Jones from Archaeology Scotland on the Adopt–Monument Scheme  \nThe event will take place from 9 am – 3 pm\, please meet at Pop-Up Beacon on the Main Street (the old bank) at 9 am. Please bring your own lunch.  \nRead more about Newbyres Castle\nRead more about the Adopt a Monument Scheme \nFor further information about this event please contact Gail Haverson at Gorebridge Development Trust
URL:https://gorebridge.org.uk/upcomingevents/newbyres-castle-vegetation-clearing-and-talk/
LOCATION:55 main street\, Gorebridge\, United Kingdom
CATEGORIES:Adopt a Monument
ATTACH;FMTTYPE=image/jpeg:https://gorebridge.org.uk/wp-content/uploads/2017/05/IMG_9172.jpeg
END:VEVENT
END:VCALENDAR