BEGIN:VCALENDAR
VERSION:2.0
PRODID:-//Gorebridge Community Development Trust - ECPv6.15.20//NONSGML v1.0//EN
CALSCALE:GREGORIAN
METHOD:PUBLISH
X-WR-CALNAME:Gorebridge Community Development Trust
X-ORIGINAL-URL:https://gorebridge.org.uk
X-WR-CALDESC:Events for Gorebridge Community Development Trust
REFRESH-INTERVAL;VALUE=DURATION:PT1H
X-Robots-Tag:noindex
X-PUBLISHED-TTL:PT1H
BEGIN:VTIMEZONE
TZID:Europe/London
BEGIN:DAYLIGHT
TZOFFSETFROM:+0000
TZOFFSETTO:+0100
TZNAME:BST
DTSTART:20230326T010000
END:DAYLIGHT
BEGIN:STANDARD
TZOFFSETFROM:+0100
TZOFFSETTO:+0000
TZNAME:GMT
DTSTART:20231029T010000
END:STANDARD
BEGIN:DAYLIGHT
TZOFFSETFROM:+0000
TZOFFSETTO:+0100
TZNAME:BST
DTSTART:20240331T010000
END:DAYLIGHT
BEGIN:STANDARD
TZOFFSETFROM:+0100
TZOFFSETTO:+0000
TZNAME:GMT
DTSTART:20241027T010000
END:STANDARD
BEGIN:DAYLIGHT
TZOFFSETFROM:+0000
TZOFFSETTO:+0100
TZNAME:BST
DTSTART:20250330T010000
END:DAYLIGHT
BEGIN:STANDARD
TZOFFSETFROM:+0100
TZOFFSETTO:+0000
TZNAME:GMT
DTSTART:20251026T010000
END:STANDARD
END:VTIMEZONE
BEGIN:VEVENT
DTSTART;TZID=Europe/London:20240901T143000
DTEND;TZID=Europe/London:20240901T163000
DTSTAMP:20260425T021322
CREATED:20240605T124940Z
LAST-MODIFIED:20240605T124940Z
UID:11327-1725201000-1725208200@gorebridge.org.uk
SUMMARY:Community Gardening Drop-In Session
DESCRIPTION:Join our weekly community gardening sessions. Cultivate friendships\, learn new skills and be part of our sustainable community! All levels of experience welcome and no seed to sign up\, just pop in and get gardening! \nDrop-ins every Tuesday 6 – 8:30pm \nHot drinks available. \n*Important – drop-in sessions may be cancelled if the weather is rotten. Please contact the Beacon if you would like to confirm if a session is taking place or not. Times change during Winter months.
URL:https://gorebridge.org.uk/upcomingevents/community-gardening-drop-in-session-2/2024-09-01/
LOCATION:Gorebridge Beacon
CATEGORIES:Beacon,Garden,Gorebridge Community Development Trust
END:VEVENT
BEGIN:VEVENT
DTSTART;TZID=Europe/London:20240904T093000
DTEND;TZID=Europe/London:20240904T110000
DTSTAMP:20260425T021322
CREATED:20240605T130818Z
LAST-MODIFIED:20240605T130818Z
UID:11371-1725442200-1725447600@gorebridge.org.uk
SUMMARY:Serenity Yoga
DESCRIPTION:Please contact Michelle on 07973 638126 or michele@sereneyoga.co.uk for further details on any of my classes. \nClasses are pre-booked\, please call above number.
URL:https://gorebridge.org.uk/upcomingevents/serenity-yoga/2024-09-04/
CATEGORIES:Beacon,Events,Gorebridge Beacon
END:VEVENT
BEGIN:VEVENT
DTSTART;TZID=Europe/London:20240907T183000
DTEND;TZID=Europe/London:20240907T220000
DTSTAMP:20260425T021322
CREATED:20240419T084746Z
LAST-MODIFIED:20240813T095418Z
UID:10843-1725733800-1725746400@gorebridge.org.uk
SUMMARY:Bingo 7th September
DESCRIPTION:Get ready to yell “BINGO!” \nJoin us for a night of excitement\, laughter\, and maybe a little friendly competition at the Gorebridge Beacon on 7th September! \nWith tickets priced at just £12\, you’ll get access to an evening packed with thrilling games\, awesome prizes\, and fantastic company. And the best part? It’s BYOB! So\, grab your favorite drinks\, whether it’s a bottle of bubbly or a six-pack of your preferred brew. \nGrab your tickets now and mark your calendars for a night of BINGO madness at the Gorebridge Beacon. \nSee you there!
URL:https://gorebridge.org.uk/upcomingevents/bingo-7th-september/
LOCATION:Gorebridge Beacon
CATEGORIES:Beacon,Events,Gorebridge Community Development Trust
END:VEVENT
BEGIN:VEVENT
DTSTART;TZID=Europe/London:20240908T143000
DTEND;TZID=Europe/London:20240908T163000
DTSTAMP:20260425T021322
CREATED:20240605T124940Z
LAST-MODIFIED:20240605T124940Z
UID:11328-1725805800-1725813000@gorebridge.org.uk
SUMMARY:Community Gardening Drop-In Session
DESCRIPTION:Join our weekly community gardening sessions. Cultivate friendships\, learn new skills and be part of our sustainable community! All levels of experience welcome and no seed to sign up\, just pop in and get gardening! \nDrop-ins every Tuesday 6 – 8:30pm \nHot drinks available. \n*Important – drop-in sessions may be cancelled if the weather is rotten. Please contact the Beacon if you would like to confirm if a session is taking place or not. Times change during Winter months.
URL:https://gorebridge.org.uk/upcomingevents/community-gardening-drop-in-session-2/2024-09-08/
LOCATION:Gorebridge Beacon
CATEGORIES:Beacon,Garden,Gorebridge Community Development Trust
END:VEVENT
BEGIN:VEVENT
DTSTART;TZID=Europe/London:20240911T090000
DTEND;TZID=Europe/London:20240911T160000
DTSTAMP:20260425T021322
CREATED:20240612T171550Z
LAST-MODIFIED:20240612T171550Z
UID:11524-1726045200-1726070400@gorebridge.org.uk
SUMMARY:Skills Development Scotland
DESCRIPTION:Skills Development Scotland support help people find rewarding careers. They also provide careers information\, advice and guidance\, and work-based training programmes. \nSkills Development Scotland – Career Delivery Service will be at the Gorebridge Beacon 9 – 5PM on the following dates: \n20th June\n4th July\n18 July\n1 August\n15 August\n29 August \nCall 0131 663 7287 to make an appointment with a Career Adviser.
URL:https://gorebridge.org.uk/upcomingevents/skills-development-scotland/2024-09-11/
CATEGORIES:Beacon,Employability,Events
END:VEVENT
BEGIN:VEVENT
DTSTART;TZID=Europe/London:20240911T093000
DTEND;TZID=Europe/London:20240911T110000
DTSTAMP:20260425T021322
CREATED:20240605T130818Z
LAST-MODIFIED:20240605T130818Z
UID:11372-1726047000-1726052400@gorebridge.org.uk
SUMMARY:Serenity Yoga
DESCRIPTION:Please contact Michelle on 07973 638126 or michele@sereneyoga.co.uk for further details on any of my classes. \nClasses are pre-booked\, please call above number.
URL:https://gorebridge.org.uk/upcomingevents/serenity-yoga/2024-09-11/
CATEGORIES:Beacon,Events,Gorebridge Beacon
END:VEVENT
BEGIN:VEVENT
DTSTART;TZID=Europe/London:20240915T143000
DTEND;TZID=Europe/London:20240915T163000
DTSTAMP:20260425T021322
CREATED:20240605T124940Z
LAST-MODIFIED:20240605T124940Z
UID:11329-1726410600-1726417800@gorebridge.org.uk
SUMMARY:Community Gardening Drop-In Session
DESCRIPTION:Join our weekly community gardening sessions. Cultivate friendships\, learn new skills and be part of our sustainable community! All levels of experience welcome and no seed to sign up\, just pop in and get gardening! \nDrop-ins every Tuesday 6 – 8:30pm \nHot drinks available. \n*Important – drop-in sessions may be cancelled if the weather is rotten. Please contact the Beacon if you would like to confirm if a session is taking place or not. Times change during Winter months.
URL:https://gorebridge.org.uk/upcomingevents/community-gardening-drop-in-session-2/2024-09-15/
LOCATION:Gorebridge Beacon
CATEGORIES:Beacon,Garden,Gorebridge Community Development Trust
END:VEVENT
BEGIN:VEVENT
DTSTART;TZID=Europe/London:20240918T093000
DTEND;TZID=Europe/London:20240918T110000
DTSTAMP:20260425T021322
CREATED:20240605T130818Z
LAST-MODIFIED:20240605T130818Z
UID:11373-1726651800-1726657200@gorebridge.org.uk
SUMMARY:Serenity Yoga
DESCRIPTION:Please contact Michelle on 07973 638126 or michele@sereneyoga.co.uk for further details on any of my classes. \nClasses are pre-booked\, please call above number.
URL:https://gorebridge.org.uk/upcomingevents/serenity-yoga/2024-09-18/
CATEGORIES:Beacon,Events,Gorebridge Beacon
END:VEVENT
BEGIN:VEVENT
DTSTART;TZID=Europe/London:20240922T143000
DTEND;TZID=Europe/London:20240922T163000
DTSTAMP:20260425T021322
CREATED:20240605T124940Z
LAST-MODIFIED:20240605T124940Z
UID:11330-1727015400-1727022600@gorebridge.org.uk
SUMMARY:Community Gardening Drop-In Session
DESCRIPTION:Join our weekly community gardening sessions. Cultivate friendships\, learn new skills and be part of our sustainable community! All levels of experience welcome and no seed to sign up\, just pop in and get gardening! \nDrop-ins every Tuesday 6 – 8:30pm \nHot drinks available. \n*Important – drop-in sessions may be cancelled if the weather is rotten. Please contact the Beacon if you would like to confirm if a session is taking place or not. Times change during Winter months.
URL:https://gorebridge.org.uk/upcomingevents/community-gardening-drop-in-session-2/2024-09-22/
LOCATION:Gorebridge Beacon
CATEGORIES:Beacon,Garden,Gorebridge Community Development Trust
END:VEVENT
BEGIN:VEVENT
DTSTART;TZID=Europe/London:20240925T090000
DTEND;TZID=Europe/London:20240925T160000
DTSTAMP:20260425T021322
CREATED:20240612T171550Z
LAST-MODIFIED:20240612T171550Z
UID:11525-1727254800-1727280000@gorebridge.org.uk
SUMMARY:Skills Development Scotland
DESCRIPTION:Skills Development Scotland support help people find rewarding careers. They also provide careers information\, advice and guidance\, and work-based training programmes. \nSkills Development Scotland – Career Delivery Service will be at the Gorebridge Beacon 9 – 5PM on the following dates: \n20th June\n4th July\n18 July\n1 August\n15 August\n29 August \nCall 0131 663 7287 to make an appointment with a Career Adviser.
URL:https://gorebridge.org.uk/upcomingevents/skills-development-scotland/2024-09-25/
CATEGORIES:Beacon,Employability,Events
END:VEVENT
BEGIN:VEVENT
DTSTART;TZID=Europe/London:20240925T093000
DTEND;TZID=Europe/London:20240925T110000
DTSTAMP:20260425T021322
CREATED:20240605T130818Z
LAST-MODIFIED:20240605T130818Z
UID:11374-1727256600-1727262000@gorebridge.org.uk
SUMMARY:Serenity Yoga
DESCRIPTION:Please contact Michelle on 07973 638126 or michele@sereneyoga.co.uk for further details on any of my classes. \nClasses are pre-booked\, please call above number.
URL:https://gorebridge.org.uk/upcomingevents/serenity-yoga/2024-09-25/
CATEGORIES:Beacon,Events,Gorebridge Beacon
END:VEVENT
BEGIN:VEVENT
DTSTART;TZID=Europe/London:20240929T143000
DTEND;TZID=Europe/London:20240929T163000
DTSTAMP:20260425T021322
CREATED:20240605T124940Z
LAST-MODIFIED:20240605T124940Z
UID:11331-1727620200-1727627400@gorebridge.org.uk
SUMMARY:Community Gardening Drop-In Session
DESCRIPTION:Join our weekly community gardening sessions. Cultivate friendships\, learn new skills and be part of our sustainable community! All levels of experience welcome and no seed to sign up\, just pop in and get gardening! \nDrop-ins every Tuesday 6 – 8:30pm \nHot drinks available. \n*Important – drop-in sessions may be cancelled if the weather is rotten. Please contact the Beacon if you would like to confirm if a session is taking place or not. Times change during Winter months.
URL:https://gorebridge.org.uk/upcomingevents/community-gardening-drop-in-session-2/2024-09-29/
LOCATION:Gorebridge Beacon
CATEGORIES:Beacon,Garden,Gorebridge Community Development Trust
END:VEVENT
END:VCALENDAR