BEGIN:VCALENDAR
VERSION:2.0
PRODID:-//Gorebridge Community Development Trust - ECPv6.15.20//NONSGML v1.0//EN
CALSCALE:GREGORIAN
METHOD:PUBLISH
X-ORIGINAL-URL:https://gorebridge.org.uk
X-WR-CALDESC:Events for Gorebridge Community Development Trust
REFRESH-INTERVAL;VALUE=DURATION:PT1H
X-Robots-Tag:noindex
X-PUBLISHED-TTL:PT1H
BEGIN:VTIMEZONE
TZID:Europe/London
BEGIN:DAYLIGHT
TZOFFSETFROM:+0000
TZOFFSETTO:+0100
TZNAME:BST
DTSTART:20250330T010000
END:DAYLIGHT
BEGIN:STANDARD
TZOFFSETFROM:+0100
TZOFFSETTO:+0000
TZNAME:GMT
DTSTART:20251026T010000
END:STANDARD
BEGIN:DAYLIGHT
TZOFFSETFROM:+0000
TZOFFSETTO:+0100
TZNAME:BST
DTSTART:20260329T010000
END:DAYLIGHT
BEGIN:STANDARD
TZOFFSETFROM:+0100
TZOFFSETTO:+0000
TZNAME:GMT
DTSTART:20261025T010000
END:STANDARD
BEGIN:DAYLIGHT
TZOFFSETFROM:+0000
TZOFFSETTO:+0100
TZNAME:BST
DTSTART:20270328T010000
END:DAYLIGHT
BEGIN:STANDARD
TZOFFSETFROM:+0100
TZOFFSETTO:+0000
TZNAME:GMT
DTSTART:20271031T010000
END:STANDARD
END:VTIMEZONE
BEGIN:VEVENT
DTSTART;TZID=Europe/London:20260602T150000
DTEND;TZID=Europe/London:20260602T170000
DTSTAMP:20260424T004211
CREATED:20260107T223427Z
LAST-MODIFIED:20260107T223427Z
UID:14619-1780412400-1780419600@gorebridge.org.uk
SUMMARY:Gorebridge Community Pantry
DESCRIPTION:The Pantry is open to all households/residents of EH23\, anyone who lives in this Post Code area can apply to become members of the Pantry and ‘shop’ there once a week. Membership is limited to 1 person per household. Membership is free\, and weekly ‘shop’ costs £3.50 which is put back into buying stock into the Pantry the following week. Each member receives 10 credits for £3.50\, and these credits can be used to ‘spend’ on fresh\, ambient or store-cupboard ingredients. If available\, free bread will be offered\, and volunteers will make each member a bag of fresh fruit and veggies. \nThe Pantry is open to EVERYONE who lives in EH23. Pop along to the Beacon 3 until 5 on a Tuesday and we will sign you up and you can do your shop.
URL:https://gorebridge.org.uk/upcomingevents/gorebridge-community-pantry-3/2026-06-02/
LOCATION:Gorebridge Beacon
CATEGORIES:Beacon,GCDT
ATTACH;FMTTYPE=image/png:https://gorebridge.org.uk/wp-content/uploads/2023/07/Pantry-3000-copy.png
END:VEVENT
BEGIN:VEVENT
DTSTART;TZID=Europe/London:20260602T183000
DTEND;TZID=Europe/London:20260602T203000
DTSTAMP:20260424T004211
CREATED:20260407T120055Z
LAST-MODIFIED:20260407T120055Z
UID:15035-1780425000-1780432200@gorebridge.org.uk
SUMMARY:Spoken Word Poetry Workshop
DESCRIPTION:When: Spoken Word Poetry Workshop\, starts 28th April (8 weeks) 6:30 – 8:30PM \nWhere: Gorebridge Beacon\, Hunterfield Road\, Gorebridge\, EH23 4TT \nWhat: Interested in trying spoken word poetry? Join us for this eight-week workshop series with Scotland’s premiere spoken word group the Loud Poets! \nOver the workshop series facilitator Katie Ailes will introduce you to the basics of writing and performing your own spoken word poetry\, guiding you from initial idea through taking the stage. Through different prompts\, exercises\, and games\, we’ll write poems on a range of subjects and explore different styles. Sharing work aloud can be scary\, so we’ll equip you with plenty of performance tips to develop the core skills you need to perform with clarity and confidence. By the final session\, an opportunity to perform your work for friends and family\, you’ll have all the tools you need to articulate your unique perspective live onstage. \nThis workshop series is designed for new and developing writers; no experience required! Space is limited to 15 participants\, so book quickly. While attendance at all of the sessions is preferred\, it’s OK if you need to miss one or two; get in touch with us if you have any questions. \nWho: \nThe Loud Poets have been at the heart of Scottish spoken word for over a decade\, starting life as a monthly poetry night\, before blossoming into an internationally renowned producer of live shows\, workshops\, poetry films and more. Learn more at iamloud.co. \nKatie Ailes is a Scotland-based poet whose work explores themes of identity\, migration\, and compassion. She is the Education Director for I Am Loud CIC\, Scotland’s premier spoken word organisation\, and has co-devised and performed with the Loud Poets across the UK and internationally. In 2023 she served as the Glastonbury Festival Poet in Residence. Learn more at https://katieailes.com/ \n\n  \n\n\n\n\n\n\n\nClick Here to Book Your Spot (Free)
URL:https://gorebridge.org.uk/upcomingevents/spoken-word-poetry-workshop/2026-06-02/
CATEGORIES:Beacon,Gorebridge Community Development Trust
ATTACH;FMTTYPE=image/png:https://gorebridge.org.uk/wp-content/uploads/2026/04/Cartoon-Art-2.png
END:VEVENT
BEGIN:VEVENT
DTSTART;TZID=Europe/London:20260605T093000
DTEND;TZID=Europe/London:20260605T120000
DTSTAMP:20260424T004211
CREATED:20240418T083848Z
LAST-MODIFIED:20260217T155014Z
UID:14682-1780651800-1780660800@gorebridge.org.uk
SUMMARY:Friday Play Cafe
DESCRIPTION:Come along to the Beacon Play Cafe! \nThe café will be open and there is a dedicated space for pre-schoolers to play\, we have plenty buggy space and staff will be on hand for a blether.   \nThe café is a great place to meet with other parents/carers\, and make new friends. We have highchairs available and plenty changing facilities. Siblings are more than welcome to come along\, however the play area is really suitable for under 5’s. \nCost: £3 per child. Pay at cafe. \n  \n 
URL:https://gorebridge.org.uk/upcomingevents/friday-play-cafe/2026-06-05/
LOCATION:Gorebridge Beacon
CATEGORIES:Beacon,Events,Family Activities
ATTACH;FMTTYPE=image/png:https://gorebridge.org.uk/wp-content/uploads/2024/04/Play-Cafe-2.png
END:VEVENT
BEGIN:VEVENT
DTSTART;TZID=Europe/London:20260609T150000
DTEND;TZID=Europe/London:20260609T170000
DTSTAMP:20260424T004211
CREATED:20260107T223427Z
LAST-MODIFIED:20260107T223427Z
UID:14620-1781017200-1781024400@gorebridge.org.uk
SUMMARY:Gorebridge Community Pantry
DESCRIPTION:The Pantry is open to all households/residents of EH23\, anyone who lives in this Post Code area can apply to become members of the Pantry and ‘shop’ there once a week. Membership is limited to 1 person per household. Membership is free\, and weekly ‘shop’ costs £3.50 which is put back into buying stock into the Pantry the following week. Each member receives 10 credits for £3.50\, and these credits can be used to ‘spend’ on fresh\, ambient or store-cupboard ingredients. If available\, free bread will be offered\, and volunteers will make each member a bag of fresh fruit and veggies. \nThe Pantry is open to EVERYONE who lives in EH23. Pop along to the Beacon 3 until 5 on a Tuesday and we will sign you up and you can do your shop.
URL:https://gorebridge.org.uk/upcomingevents/gorebridge-community-pantry-3/2026-06-09/
LOCATION:Gorebridge Beacon
CATEGORIES:Beacon,GCDT
ATTACH;FMTTYPE=image/png:https://gorebridge.org.uk/wp-content/uploads/2023/07/Pantry-3000-copy.png
END:VEVENT
BEGIN:VEVENT
DTSTART;TZID=Europe/London:20260609T183000
DTEND;TZID=Europe/London:20260609T203000
DTSTAMP:20260424T004211
CREATED:20260407T120055Z
LAST-MODIFIED:20260407T120055Z
UID:15036-1781029800-1781037000@gorebridge.org.uk
SUMMARY:Spoken Word Poetry Workshop
DESCRIPTION:When: Spoken Word Poetry Workshop\, starts 28th April (8 weeks) 6:30 – 8:30PM \nWhere: Gorebridge Beacon\, Hunterfield Road\, Gorebridge\, EH23 4TT \nWhat: Interested in trying spoken word poetry? Join us for this eight-week workshop series with Scotland’s premiere spoken word group the Loud Poets! \nOver the workshop series facilitator Katie Ailes will introduce you to the basics of writing and performing your own spoken word poetry\, guiding you from initial idea through taking the stage. Through different prompts\, exercises\, and games\, we’ll write poems on a range of subjects and explore different styles. Sharing work aloud can be scary\, so we’ll equip you with plenty of performance tips to develop the core skills you need to perform with clarity and confidence. By the final session\, an opportunity to perform your work for friends and family\, you’ll have all the tools you need to articulate your unique perspective live onstage. \nThis workshop series is designed for new and developing writers; no experience required! Space is limited to 15 participants\, so book quickly. While attendance at all of the sessions is preferred\, it’s OK if you need to miss one or two; get in touch with us if you have any questions. \nWho: \nThe Loud Poets have been at the heart of Scottish spoken word for over a decade\, starting life as a monthly poetry night\, before blossoming into an internationally renowned producer of live shows\, workshops\, poetry films and more. Learn more at iamloud.co. \nKatie Ailes is a Scotland-based poet whose work explores themes of identity\, migration\, and compassion. She is the Education Director for I Am Loud CIC\, Scotland’s premier spoken word organisation\, and has co-devised and performed with the Loud Poets across the UK and internationally. In 2023 she served as the Glastonbury Festival Poet in Residence. Learn more at https://katieailes.com/ \n\n  \n\n\n\n\n\n\n\nClick Here to Book Your Spot (Free)
URL:https://gorebridge.org.uk/upcomingevents/spoken-word-poetry-workshop/2026-06-09/
CATEGORIES:Beacon,Gorebridge Community Development Trust
ATTACH;FMTTYPE=image/png:https://gorebridge.org.uk/wp-content/uploads/2026/04/Cartoon-Art-2.png
END:VEVENT
BEGIN:VEVENT
DTSTART;TZID=Europe/London:20260612T093000
DTEND;TZID=Europe/London:20260612T120000
DTSTAMP:20260424T004211
CREATED:20240418T083848Z
LAST-MODIFIED:20260217T155016Z
UID:14683-1781256600-1781265600@gorebridge.org.uk
SUMMARY:Friday Play Cafe
DESCRIPTION:Come along to the Beacon Play Cafe! \nThe café will be open and there is a dedicated space for pre-schoolers to play\, we have plenty buggy space and staff will be on hand for a blether.   \nThe café is a great place to meet with other parents/carers\, and make new friends. We have highchairs available and plenty changing facilities. Siblings are more than welcome to come along\, however the play area is really suitable for under 5’s. \nCost: £3 per child. Pay at cafe. \n  \n 
URL:https://gorebridge.org.uk/upcomingevents/friday-play-cafe/2026-06-12/
LOCATION:Gorebridge Beacon
CATEGORIES:Beacon,Events,Family Activities
ATTACH;FMTTYPE=image/png:https://gorebridge.org.uk/wp-content/uploads/2024/04/Play-Cafe-2.png
END:VEVENT
BEGIN:VEVENT
DTSTART;TZID=Europe/London:20260616T150000
DTEND;TZID=Europe/London:20260616T170000
DTSTAMP:20260424T004211
CREATED:20260107T223427Z
LAST-MODIFIED:20260107T223427Z
UID:14621-1781622000-1781629200@gorebridge.org.uk
SUMMARY:Gorebridge Community Pantry
DESCRIPTION:The Pantry is open to all households/residents of EH23\, anyone who lives in this Post Code area can apply to become members of the Pantry and ‘shop’ there once a week. Membership is limited to 1 person per household. Membership is free\, and weekly ‘shop’ costs £3.50 which is put back into buying stock into the Pantry the following week. Each member receives 10 credits for £3.50\, and these credits can be used to ‘spend’ on fresh\, ambient or store-cupboard ingredients. If available\, free bread will be offered\, and volunteers will make each member a bag of fresh fruit and veggies. \nThe Pantry is open to EVERYONE who lives in EH23. Pop along to the Beacon 3 until 5 on a Tuesday and we will sign you up and you can do your shop.
URL:https://gorebridge.org.uk/upcomingevents/gorebridge-community-pantry-3/2026-06-16/
LOCATION:Gorebridge Beacon
CATEGORIES:Beacon,GCDT
ATTACH;FMTTYPE=image/png:https://gorebridge.org.uk/wp-content/uploads/2023/07/Pantry-3000-copy.png
END:VEVENT
BEGIN:VEVENT
DTSTART;TZID=Europe/London:20260616T183000
DTEND;TZID=Europe/London:20260616T203000
DTSTAMP:20260424T004211
CREATED:20260407T120055Z
LAST-MODIFIED:20260407T120055Z
UID:15037-1781634600-1781641800@gorebridge.org.uk
SUMMARY:Spoken Word Poetry Workshop
DESCRIPTION:When: Spoken Word Poetry Workshop\, starts 28th April (8 weeks) 6:30 – 8:30PM \nWhere: Gorebridge Beacon\, Hunterfield Road\, Gorebridge\, EH23 4TT \nWhat: Interested in trying spoken word poetry? Join us for this eight-week workshop series with Scotland’s premiere spoken word group the Loud Poets! \nOver the workshop series facilitator Katie Ailes will introduce you to the basics of writing and performing your own spoken word poetry\, guiding you from initial idea through taking the stage. Through different prompts\, exercises\, and games\, we’ll write poems on a range of subjects and explore different styles. Sharing work aloud can be scary\, so we’ll equip you with plenty of performance tips to develop the core skills you need to perform with clarity and confidence. By the final session\, an opportunity to perform your work for friends and family\, you’ll have all the tools you need to articulate your unique perspective live onstage. \nThis workshop series is designed for new and developing writers; no experience required! Space is limited to 15 participants\, so book quickly. While attendance at all of the sessions is preferred\, it’s OK if you need to miss one or two; get in touch with us if you have any questions. \nWho: \nThe Loud Poets have been at the heart of Scottish spoken word for over a decade\, starting life as a monthly poetry night\, before blossoming into an internationally renowned producer of live shows\, workshops\, poetry films and more. Learn more at iamloud.co. \nKatie Ailes is a Scotland-based poet whose work explores themes of identity\, migration\, and compassion. She is the Education Director for I Am Loud CIC\, Scotland’s premier spoken word organisation\, and has co-devised and performed with the Loud Poets across the UK and internationally. In 2023 she served as the Glastonbury Festival Poet in Residence. Learn more at https://katieailes.com/ \n\n  \n\n\n\n\n\n\n\nClick Here to Book Your Spot (Free)
URL:https://gorebridge.org.uk/upcomingevents/spoken-word-poetry-workshop/2026-06-16/
CATEGORIES:Beacon,Gorebridge Community Development Trust
ATTACH;FMTTYPE=image/png:https://gorebridge.org.uk/wp-content/uploads/2026/04/Cartoon-Art-2.png
END:VEVENT
BEGIN:VEVENT
DTSTART;TZID=Europe/London:20260619T093000
DTEND;TZID=Europe/London:20260619T120000
DTSTAMP:20260424T004211
CREATED:20240418T083848Z
LAST-MODIFIED:20260217T155019Z
UID:14684-1781861400-1781870400@gorebridge.org.uk
SUMMARY:Friday Play Cafe
DESCRIPTION:Come along to the Beacon Play Cafe! \nThe café will be open and there is a dedicated space for pre-schoolers to play\, we have plenty buggy space and staff will be on hand for a blether.   \nThe café is a great place to meet with other parents/carers\, and make new friends. We have highchairs available and plenty changing facilities. Siblings are more than welcome to come along\, however the play area is really suitable for under 5’s. \nCost: £3 per child. Pay at cafe. \n  \n 
URL:https://gorebridge.org.uk/upcomingevents/friday-play-cafe/2026-06-19/
LOCATION:Gorebridge Beacon
CATEGORIES:Beacon,Events,Family Activities
ATTACH;FMTTYPE=image/png:https://gorebridge.org.uk/wp-content/uploads/2024/04/Play-Cafe-2.png
END:VEVENT
BEGIN:VEVENT
DTSTART;TZID=Europe/London:20260623T150000
DTEND;TZID=Europe/London:20260623T170000
DTSTAMP:20260424T004211
CREATED:20260107T223427Z
LAST-MODIFIED:20260107T223427Z
UID:14622-1782226800-1782234000@gorebridge.org.uk
SUMMARY:Gorebridge Community Pantry
DESCRIPTION:The Pantry is open to all households/residents of EH23\, anyone who lives in this Post Code area can apply to become members of the Pantry and ‘shop’ there once a week. Membership is limited to 1 person per household. Membership is free\, and weekly ‘shop’ costs £3.50 which is put back into buying stock into the Pantry the following week. Each member receives 10 credits for £3.50\, and these credits can be used to ‘spend’ on fresh\, ambient or store-cupboard ingredients. If available\, free bread will be offered\, and volunteers will make each member a bag of fresh fruit and veggies. \nThe Pantry is open to EVERYONE who lives in EH23. Pop along to the Beacon 3 until 5 on a Tuesday and we will sign you up and you can do your shop.
URL:https://gorebridge.org.uk/upcomingevents/gorebridge-community-pantry-3/2026-06-23/
LOCATION:Gorebridge Beacon
CATEGORIES:Beacon,GCDT
ATTACH;FMTTYPE=image/png:https://gorebridge.org.uk/wp-content/uploads/2023/07/Pantry-3000-copy.png
END:VEVENT
BEGIN:VEVENT
DTSTART;TZID=Europe/London:20260623T183000
DTEND;TZID=Europe/London:20260623T203000
DTSTAMP:20260424T004211
CREATED:20260407T120055Z
LAST-MODIFIED:20260407T120055Z
UID:15038-1782239400-1782246600@gorebridge.org.uk
SUMMARY:Spoken Word Poetry Workshop
DESCRIPTION:When: Spoken Word Poetry Workshop\, starts 28th April (8 weeks) 6:30 – 8:30PM \nWhere: Gorebridge Beacon\, Hunterfield Road\, Gorebridge\, EH23 4TT \nWhat: Interested in trying spoken word poetry? Join us for this eight-week workshop series with Scotland’s premiere spoken word group the Loud Poets! \nOver the workshop series facilitator Katie Ailes will introduce you to the basics of writing and performing your own spoken word poetry\, guiding you from initial idea through taking the stage. Through different prompts\, exercises\, and games\, we’ll write poems on a range of subjects and explore different styles. Sharing work aloud can be scary\, so we’ll equip you with plenty of performance tips to develop the core skills you need to perform with clarity and confidence. By the final session\, an opportunity to perform your work for friends and family\, you’ll have all the tools you need to articulate your unique perspective live onstage. \nThis workshop series is designed for new and developing writers; no experience required! Space is limited to 15 participants\, so book quickly. While attendance at all of the sessions is preferred\, it’s OK if you need to miss one or two; get in touch with us if you have any questions. \nWho: \nThe Loud Poets have been at the heart of Scottish spoken word for over a decade\, starting life as a monthly poetry night\, before blossoming into an internationally renowned producer of live shows\, workshops\, poetry films and more. Learn more at iamloud.co. \nKatie Ailes is a Scotland-based poet whose work explores themes of identity\, migration\, and compassion. She is the Education Director for I Am Loud CIC\, Scotland’s premier spoken word organisation\, and has co-devised and performed with the Loud Poets across the UK and internationally. In 2023 she served as the Glastonbury Festival Poet in Residence. Learn more at https://katieailes.com/ \n\n  \n\n\n\n\n\n\n\nClick Here to Book Your Spot (Free)
URL:https://gorebridge.org.uk/upcomingevents/spoken-word-poetry-workshop/2026-06-23/
CATEGORIES:Beacon,Gorebridge Community Development Trust
ATTACH;FMTTYPE=image/png:https://gorebridge.org.uk/wp-content/uploads/2026/04/Cartoon-Art-2.png
END:VEVENT
BEGIN:VEVENT
DTSTART;TZID=Europe/London:20260626T093000
DTEND;TZID=Europe/London:20260626T120000
DTSTAMP:20260424T004211
CREATED:20240418T083848Z
LAST-MODIFIED:20260217T155023Z
UID:14685-1782466200-1782475200@gorebridge.org.uk
SUMMARY:Friday Play Cafe
DESCRIPTION:Come along to the Beacon Play Cafe! \nThe café will be open and there is a dedicated space for pre-schoolers to play\, we have plenty buggy space and staff will be on hand for a blether.   \nThe café is a great place to meet with other parents/carers\, and make new friends. We have highchairs available and plenty changing facilities. Siblings are more than welcome to come along\, however the play area is really suitable for under 5’s. \nCost: £3 per child. Pay at cafe. \n  \n 
URL:https://gorebridge.org.uk/upcomingevents/friday-play-cafe/2026-06-26/
LOCATION:Gorebridge Beacon
CATEGORIES:Beacon,Events,Family Activities
ATTACH;FMTTYPE=image/png:https://gorebridge.org.uk/wp-content/uploads/2024/04/Play-Cafe-2.png
END:VEVENT
BEGIN:VEVENT
DTSTART;TZID=Europe/London:20260630T150000
DTEND;TZID=Europe/London:20260630T170000
DTSTAMP:20260424T004211
CREATED:20260107T223427Z
LAST-MODIFIED:20260107T223427Z
UID:14623-1782831600-1782838800@gorebridge.org.uk
SUMMARY:Gorebridge Community Pantry
DESCRIPTION:The Pantry is open to all households/residents of EH23\, anyone who lives in this Post Code area can apply to become members of the Pantry and ‘shop’ there once a week. Membership is limited to 1 person per household. Membership is free\, and weekly ‘shop’ costs £3.50 which is put back into buying stock into the Pantry the following week. Each member receives 10 credits for £3.50\, and these credits can be used to ‘spend’ on fresh\, ambient or store-cupboard ingredients. If available\, free bread will be offered\, and volunteers will make each member a bag of fresh fruit and veggies. \nThe Pantry is open to EVERYONE who lives in EH23. Pop along to the Beacon 3 until 5 on a Tuesday and we will sign you up and you can do your shop.
URL:https://gorebridge.org.uk/upcomingevents/gorebridge-community-pantry-3/2026-06-30/
LOCATION:Gorebridge Beacon
CATEGORIES:Beacon,GCDT
ATTACH;FMTTYPE=image/png:https://gorebridge.org.uk/wp-content/uploads/2023/07/Pantry-3000-copy.png
END:VEVENT
END:VCALENDAR