BEGIN:VCALENDAR
VERSION:2.0
PRODID:-//Gorebridge Community Development Trust - ECPv6.15.20//NONSGML v1.0//EN
CALSCALE:GREGORIAN
METHOD:PUBLISH
X-WR-CALNAME:Gorebridge Community Development Trust
X-ORIGINAL-URL:https://gorebridge.org.uk
X-WR-CALDESC:Events for Gorebridge Community Development Trust
REFRESH-INTERVAL;VALUE=DURATION:PT1H
X-Robots-Tag:noindex
X-PUBLISHED-TTL:PT1H
BEGIN:VTIMEZONE
TZID:Europe/London
BEGIN:DAYLIGHT
TZOFFSETFROM:+0000
TZOFFSETTO:+0100
TZNAME:BST
DTSTART:20240331T010000
END:DAYLIGHT
BEGIN:STANDARD
TZOFFSETFROM:+0100
TZOFFSETTO:+0000
TZNAME:GMT
DTSTART:20241027T010000
END:STANDARD
BEGIN:DAYLIGHT
TZOFFSETFROM:+0000
TZOFFSETTO:+0100
TZNAME:BST
DTSTART:20250330T010000
END:DAYLIGHT
BEGIN:STANDARD
TZOFFSETFROM:+0100
TZOFFSETTO:+0000
TZNAME:GMT
DTSTART:20251026T010000
END:STANDARD
BEGIN:DAYLIGHT
TZOFFSETFROM:+0000
TZOFFSETTO:+0100
TZNAME:BST
DTSTART:20260329T010000
END:DAYLIGHT
BEGIN:STANDARD
TZOFFSETFROM:+0100
TZOFFSETTO:+0000
TZNAME:GMT
DTSTART:20261025T010000
END:STANDARD
END:VTIMEZONE
BEGIN:VEVENT
DTSTART;TZID=Europe/London:20250417T173000
DTEND;TZID=Europe/London:20250417T210000
DTSTAMP:20260425T173547
CREATED:20250221T121807Z
LAST-MODIFIED:20250221T121807Z
UID:13010-1744911000-1744923600@gorebridge.org.uk
SUMMARY:Judo Heriot Wado-Kai
DESCRIPTION:Judo at the Beacon Monday and Thursday evenings. \nJuniors 5 – 8 years 5:30 – 6:30pm \nJuniors 9 – 12 years 6:30 – 7:30pm \nAdults 7:30 – 9:00pm \nFor more information please contact Paul Conner at heriotwadokai(at)gmail.com or call 07989 427390
URL:https://gorebridge.org.uk/upcomingevents/judo-heriot-wado-kai/2025-04-17/
LOCATION:Gorebridge Beacon
CATEGORIES:Beacon,Events
END:VEVENT
BEGIN:VEVENT
DTSTART;TZID=Europe/London:20250419T090000
DTEND;TZID=Europe/London:20250419T120000
DTSTAMP:20260425T173547
CREATED:20250221T133434Z
LAST-MODIFIED:20250221T133434Z
UID:13368-1745053200-1745064000@gorebridge.org.uk
SUMMARY:Judo
DESCRIPTION:Sportif Judo aim is to create a friendly\, positive environment for people to learn judo and ultimately to create confident\, respectful and skillful judo players and athletes. Sportif Judo’s club moto is “Judo builds people” and the entire ethos and development of Sportif is built around this simple philosophy. Children’s classes run at the Beacon on a Saturday morning. For more information please contact Hanna on Mbl: 07907 308876
URL:https://gorebridge.org.uk/upcomingevents/judo/2025-04-19/
CATEGORIES:Beacon,Events
END:VEVENT
BEGIN:VEVENT
DTSTART;TZID=Europe/London:20250421T173000
DTEND;TZID=Europe/London:20250421T210000
DTSTAMP:20260425T173547
CREATED:20250221T121807Z
LAST-MODIFIED:20250221T121807Z
UID:13011-1745256600-1745269200@gorebridge.org.uk
SUMMARY:Judo Heriot Wado-Kai
DESCRIPTION:Judo at the Beacon Monday and Thursday evenings. \nJuniors 5 – 8 years 5:30 – 6:30pm \nJuniors 9 – 12 years 6:30 – 7:30pm \nAdults 7:30 – 9:00pm \nFor more information please contact Paul Conner at heriotwadokai(at)gmail.com or call 07989 427390
URL:https://gorebridge.org.uk/upcomingevents/judo-heriot-wado-kai/2025-04-21/
LOCATION:Gorebridge Beacon
CATEGORIES:Beacon,Events
END:VEVENT
BEGIN:VEVENT
DTSTART;TZID=Europe/London:20250422T100000
DTEND;TZID=Europe/London:20250422T110000
DTSTAMP:20260425T173547
CREATED:20250221T112927Z
LAST-MODIFIED:20250221T124245Z
UID:12934-1745316000-1745319600@gorebridge.org.uk
SUMMARY:Mat Pilates with Lynne
DESCRIPTION:Improve flexibility. Increase your range of movement. Improve posture. Ease still joints and lower back pain. Feel great. \nLynne offers Pilates classes on a Tuesday morning at the Beacon. For more information/booking please go to here Facebook Page: https://www.facebook.com/MatpilateswithLynne/
URL:https://gorebridge.org.uk/upcomingevents/mat-pilates-with-lynne/2025-04-22/
CATEGORIES:Beacon,Events
END:VEVENT
BEGIN:VEVENT
DTSTART;TZID=Europe/London:20250422T180000
DTEND;TZID=Europe/London:20250422T203000
DTSTAMP:20260425T173547
CREATED:20250408T214107Z
LAST-MODIFIED:20250408T214107Z
UID:13497-1745344800-1745353800@gorebridge.org.uk
SUMMARY:Gorebridge Community Gardeners Drop In Session
DESCRIPTION:Volunteers WANTED! \nJoin our weekly community gardening sessions. Cultivate friendships\, learn new skills and be part of our sustainable community! All levels of experience welcome and no seed to sign up\, just pop in and get gardening! \nDrop-ins every Tuesday 6 – 8:30pm \nHot drinks available. \n*Important – drop-in sessions may be cancelled if the weather is rotten. Please contact the Beacon if you would like to confirm if a session is taking place or not. Times change during Winter months.
URL:https://gorebridge.org.uk/upcomingevents/gorebridge-community-gardeners-drop-in-session/2025-04-22/
CATEGORIES:Beacon
END:VEVENT
BEGIN:VEVENT
DTSTART;TZID=Europe/London:20250422T191500
DTEND;TZID=Europe/London:20250422T201500
DTSTAMP:20260425T173547
CREATED:20250221T112927Z
LAST-MODIFIED:20250221T112927Z
UID:13122-1745349300-1745352900@gorebridge.org.uk
SUMMARY:Mat Pilates with Lynne
DESCRIPTION:Improve flexibility. Increase your range of movement. Improve posture. Ease still joints and lower back pain. Feel great. \nLynne offers Pilates classes on a Tuesday morning at the Beacon. For more information/booking please go to here Facebook Page: https://www.facebook.com/MatpilateswithLynne/
URL:https://gorebridge.org.uk/upcomingevents/mat-pilates-with-lynne/2025-04-22/
CATEGORIES:Beacon,Events
END:VEVENT
BEGIN:VEVENT
DTSTART;TZID=Europe/London:20250423T191500
DTEND;TZID=Europe/London:20250423T201500
DTSTAMP:20260425T173547
CREATED:20250221T112927Z
LAST-MODIFIED:20250221T112927Z
UID:13123-1745435700-1745439300@gorebridge.org.uk
SUMMARY:Mat Pilates with Lynne
DESCRIPTION:Improve flexibility. Increase your range of movement. Improve posture. Ease still joints and lower back pain. Feel great. \nLynne offers Pilates classes on a Tuesday morning at the Beacon. For more information/booking please go to here Facebook Page: https://www.facebook.com/MatpilateswithLynne/
URL:https://gorebridge.org.uk/upcomingevents/mat-pilates-with-lynne/2025-04-23/
CATEGORIES:Beacon,Events
END:VEVENT
BEGIN:VEVENT
DTSTART;TZID=Europe/London:20250424T103000
DTEND;TZID=Europe/London:20250424T113000
DTSTAMP:20260425T173547
CREATED:20210511T104331Z
LAST-MODIFIED:20210511T104331Z
UID:12837-1745490600-1745494200@gorebridge.org.uk
SUMMARY:Baby Massage (Claire Houston)
DESCRIPTION:[External User of Beacon] \nClaire Houston runs Baby Massage classes at the Beacon on a Thursday morning. Please contact her via her Facebook page to book/check dates https://www.facebook.com/clairehoustonmassageandyoga/
URL:https://gorebridge.org.uk/upcomingevents/baby-massage-claire-houston/2025-04-24/
LOCATION:Gorebridge Beacon
CATEGORIES:Beacon,Events
END:VEVENT
BEGIN:VEVENT
DTSTART;TZID=Europe/London:20250424T173000
DTEND;TZID=Europe/London:20250424T210000
DTSTAMP:20260425T173547
CREATED:20250221T121807Z
LAST-MODIFIED:20250221T121807Z
UID:13012-1745515800-1745528400@gorebridge.org.uk
SUMMARY:Judo Heriot Wado-Kai
DESCRIPTION:Judo at the Beacon Monday and Thursday evenings. \nJuniors 5 – 8 years 5:30 – 6:30pm \nJuniors 9 – 12 years 6:30 – 7:30pm \nAdults 7:30 – 9:00pm \nFor more information please contact Paul Conner at heriotwadokai(at)gmail.com or call 07989 427390
URL:https://gorebridge.org.uk/upcomingevents/judo-heriot-wado-kai/2025-04-24/
LOCATION:Gorebridge Beacon
CATEGORIES:Beacon,Events
END:VEVENT
BEGIN:VEVENT
DTSTART;TZID=Europe/London:20250426T090000
DTEND;TZID=Europe/London:20250426T120000
DTSTAMP:20260425T173547
CREATED:20250221T133434Z
LAST-MODIFIED:20250221T133434Z
UID:13369-1745658000-1745668800@gorebridge.org.uk
SUMMARY:Judo
DESCRIPTION:Sportif Judo aim is to create a friendly\, positive environment for people to learn judo and ultimately to create confident\, respectful and skillful judo players and athletes. Sportif Judo’s club moto is “Judo builds people” and the entire ethos and development of Sportif is built around this simple philosophy. Children’s classes run at the Beacon on a Saturday morning. For more information please contact Hanna on Mbl: 07907 308876
URL:https://gorebridge.org.uk/upcomingevents/judo/2025-04-26/
CATEGORIES:Beacon,Events
END:VEVENT
BEGIN:VEVENT
DTSTART;TZID=Europe/London:20250428T173000
DTEND;TZID=Europe/London:20250428T210000
DTSTAMP:20260425T173547
CREATED:20250221T121807Z
LAST-MODIFIED:20250221T121807Z
UID:13013-1745861400-1745874000@gorebridge.org.uk
SUMMARY:Judo Heriot Wado-Kai
DESCRIPTION:Judo at the Beacon Monday and Thursday evenings. \nJuniors 5 – 8 years 5:30 – 6:30pm \nJuniors 9 – 12 years 6:30 – 7:30pm \nAdults 7:30 – 9:00pm \nFor more information please contact Paul Conner at heriotwadokai(at)gmail.com or call 07989 427390
URL:https://gorebridge.org.uk/upcomingevents/judo-heriot-wado-kai/2025-04-28/
LOCATION:Gorebridge Beacon
CATEGORIES:Beacon,Events
END:VEVENT
BEGIN:VEVENT
DTSTART;TZID=Europe/London:20250429T100000
DTEND;TZID=Europe/London:20250429T110000
DTSTAMP:20260425T173547
CREATED:20250221T112927Z
LAST-MODIFIED:20250221T124248Z
UID:12935-1745920800-1745924400@gorebridge.org.uk
SUMMARY:Mat Pilates with Lynne
DESCRIPTION:Improve flexibility. Increase your range of movement. Improve posture. Ease still joints and lower back pain. Feel great. \nLynne offers Pilates classes on a Tuesday morning at the Beacon. For more information/booking please go to here Facebook Page: https://www.facebook.com/MatpilateswithLynne/
URL:https://gorebridge.org.uk/upcomingevents/mat-pilates-with-lynne/2025-04-29/
CATEGORIES:Beacon,Events
END:VEVENT
BEGIN:VEVENT
DTSTART;TZID=Europe/London:20250429T100000
DTEND;TZID=Europe/London:20250429T120000
DTSTAMP:20260425T173547
CREATED:20250221T123954Z
LAST-MODIFIED:20250221T124632Z
UID:13088-1745920800-1745928000@gorebridge.org.uk
SUMMARY:FUSE Networking
DESCRIPTION:Are you a local business woman? Yes? A warm invite is for you from Kirsty and Catherine of FUSE Networking.\n\n\n\nHeld on the last Tuesday morning and Wednesday evening of every month in the lovely Beacon in Gorebridge.\n\nThey provide the perfect environment to have a good networking natter and to spread the word about your business.\n\n\nPM us for more info. For more information please visit their Facebook Page here.
URL:https://gorebridge.org.uk/upcomingevents/fuse-networking/2025-04-29/
CATEGORIES:Beacon,Events
END:VEVENT
BEGIN:VEVENT
DTSTART;TZID=Europe/London:20250429T180000
DTEND;TZID=Europe/London:20250429T203000
DTSTAMP:20260425T173547
CREATED:20250408T214107Z
LAST-MODIFIED:20250408T214107Z
UID:13498-1745949600-1745958600@gorebridge.org.uk
SUMMARY:Gorebridge Community Gardeners Drop In Session
DESCRIPTION:Volunteers WANTED! \nJoin our weekly community gardening sessions. Cultivate friendships\, learn new skills and be part of our sustainable community! All levels of experience welcome and no seed to sign up\, just pop in and get gardening! \nDrop-ins every Tuesday 6 – 8:30pm \nHot drinks available. \n*Important – drop-in sessions may be cancelled if the weather is rotten. Please contact the Beacon if you would like to confirm if a session is taking place or not. Times change during Winter months.
URL:https://gorebridge.org.uk/upcomingevents/gorebridge-community-gardeners-drop-in-session/2025-04-29/
CATEGORIES:Beacon
END:VEVENT
BEGIN:VEVENT
DTSTART;TZID=Europe/London:20250429T191500
DTEND;TZID=Europe/London:20250429T201500
DTSTAMP:20260425T173547
CREATED:20250221T112927Z
LAST-MODIFIED:20250221T112927Z
UID:13124-1745954100-1745957700@gorebridge.org.uk
SUMMARY:Mat Pilates with Lynne
DESCRIPTION:Improve flexibility. Increase your range of movement. Improve posture. Ease still joints and lower back pain. Feel great. \nLynne offers Pilates classes on a Tuesday morning at the Beacon. For more information/booking please go to here Facebook Page: https://www.facebook.com/MatpilateswithLynne/
URL:https://gorebridge.org.uk/upcomingevents/mat-pilates-with-lynne/2025-04-29/
CATEGORIES:Beacon,Events
END:VEVENT
BEGIN:VEVENT
DTSTART;TZID=Europe/London:20250430T190000
DTEND;TZID=Europe/London:20250430T210000
DTSTAMP:20260425T173547
CREATED:20250221T123954Z
LAST-MODIFIED:20250221T124635Z
UID:13089-1746039600-1746046800@gorebridge.org.uk
SUMMARY:FUSE Networking
DESCRIPTION:Are you a local business woman? Yes? A warm invite is for you from Kirsty and Catherine of FUSE Networking.\n\n\n\nHeld on the last Tuesday morning and Wednesday evening of every month in the lovely Beacon in Gorebridge.\n\nThey provide the perfect environment to have a good networking natter and to spread the word about your business.\n\n\nPM us for more info. For more information please visit their Facebook Page here.
URL:https://gorebridge.org.uk/upcomingevents/fuse-networking/2025-04-30/
CATEGORIES:Beacon,Events
END:VEVENT
BEGIN:VEVENT
DTSTART;TZID=Europe/London:20250430T191500
DTEND;TZID=Europe/London:20250430T201500
DTSTAMP:20260425T173547
CREATED:20250221T112927Z
LAST-MODIFIED:20250221T112927Z
UID:13125-1746040500-1746044100@gorebridge.org.uk
SUMMARY:Mat Pilates with Lynne
DESCRIPTION:Improve flexibility. Increase your range of movement. Improve posture. Ease still joints and lower back pain. Feel great. \nLynne offers Pilates classes on a Tuesday morning at the Beacon. For more information/booking please go to here Facebook Page: https://www.facebook.com/MatpilateswithLynne/
URL:https://gorebridge.org.uk/upcomingevents/mat-pilates-with-lynne/2025-04-30/
CATEGORIES:Beacon,Events
END:VEVENT
BEGIN:VEVENT
DTSTART;TZID=Europe/London:20250501T103000
DTEND;TZID=Europe/London:20250501T113000
DTSTAMP:20260425T173547
CREATED:20210511T104331Z
LAST-MODIFIED:20210511T104331Z
UID:12838-1746095400-1746099000@gorebridge.org.uk
SUMMARY:Baby Massage (Claire Houston)
DESCRIPTION:[External User of Beacon] \nClaire Houston runs Baby Massage classes at the Beacon on a Thursday morning. Please contact her via her Facebook page to book/check dates https://www.facebook.com/clairehoustonmassageandyoga/
URL:https://gorebridge.org.uk/upcomingevents/baby-massage-claire-houston/2025-05-01/
LOCATION:Gorebridge Beacon
CATEGORIES:Beacon,Events
END:VEVENT
BEGIN:VEVENT
DTSTART;TZID=Europe/London:20250501T173000
DTEND;TZID=Europe/London:20250501T210000
DTSTAMP:20260425T173547
CREATED:20250221T121807Z
LAST-MODIFIED:20250221T121807Z
UID:13014-1746120600-1746133200@gorebridge.org.uk
SUMMARY:Judo Heriot Wado-Kai
DESCRIPTION:Judo at the Beacon Monday and Thursday evenings. \nJuniors 5 – 8 years 5:30 – 6:30pm \nJuniors 9 – 12 years 6:30 – 7:30pm \nAdults 7:30 – 9:00pm \nFor more information please contact Paul Conner at heriotwadokai(at)gmail.com or call 07989 427390
URL:https://gorebridge.org.uk/upcomingevents/judo-heriot-wado-kai/2025-05-01/
LOCATION:Gorebridge Beacon
CATEGORIES:Beacon,Events
END:VEVENT
BEGIN:VEVENT
DTSTART;TZID=Europe/London:20250503T090000
DTEND;TZID=Europe/London:20250503T120000
DTSTAMP:20260425T173547
CREATED:20250221T133434Z
LAST-MODIFIED:20250221T133434Z
UID:13370-1746262800-1746273600@gorebridge.org.uk
SUMMARY:Judo
DESCRIPTION:Sportif Judo aim is to create a friendly\, positive environment for people to learn judo and ultimately to create confident\, respectful and skillful judo players and athletes. Sportif Judo’s club moto is “Judo builds people” and the entire ethos and development of Sportif is built around this simple philosophy. Children’s classes run at the Beacon on a Saturday morning. For more information please contact Hanna on Mbl: 07907 308876
URL:https://gorebridge.org.uk/upcomingevents/judo/2025-05-03/
CATEGORIES:Beacon,Events
END:VEVENT
BEGIN:VEVENT
DTSTART;TZID=Europe/London:20250505T173000
DTEND;TZID=Europe/London:20250505T210000
DTSTAMP:20260425T173547
CREATED:20250221T121807Z
LAST-MODIFIED:20250221T121807Z
UID:13015-1746466200-1746478800@gorebridge.org.uk
SUMMARY:Judo Heriot Wado-Kai
DESCRIPTION:Judo at the Beacon Monday and Thursday evenings. \nJuniors 5 – 8 years 5:30 – 6:30pm \nJuniors 9 – 12 years 6:30 – 7:30pm \nAdults 7:30 – 9:00pm \nFor more information please contact Paul Conner at heriotwadokai(at)gmail.com or call 07989 427390
URL:https://gorebridge.org.uk/upcomingevents/judo-heriot-wado-kai/2025-05-05/
LOCATION:Gorebridge Beacon
CATEGORIES:Beacon,Events
END:VEVENT
BEGIN:VEVENT
DTSTART;TZID=Europe/London:20250506T100000
DTEND;TZID=Europe/London:20250506T110000
DTSTAMP:20260425T173547
CREATED:20250221T112927Z
LAST-MODIFIED:20250221T124250Z
UID:12937-1746525600-1746529200@gorebridge.org.uk
SUMMARY:Mat Pilates with Lynne
DESCRIPTION:Improve flexibility. Increase your range of movement. Improve posture. Ease still joints and lower back pain. Feel great. \nLynne offers Pilates classes on a Tuesday morning at the Beacon. For more information/booking please go to here Facebook Page: https://www.facebook.com/MatpilateswithLynne/
URL:https://gorebridge.org.uk/upcomingevents/mat-pilates-with-lynne/2025-05-06/
CATEGORIES:Beacon,Events
END:VEVENT
BEGIN:VEVENT
DTSTART;TZID=Europe/London:20250506T180000
DTEND;TZID=Europe/London:20250506T203000
DTSTAMP:20260425T173547
CREATED:20250408T214107Z
LAST-MODIFIED:20250408T214107Z
UID:13499-1746554400-1746563400@gorebridge.org.uk
SUMMARY:Gorebridge Community Gardeners Drop In Session
DESCRIPTION:Volunteers WANTED! \nJoin our weekly community gardening sessions. Cultivate friendships\, learn new skills and be part of our sustainable community! All levels of experience welcome and no seed to sign up\, just pop in and get gardening! \nDrop-ins every Tuesday 6 – 8:30pm \nHot drinks available. \n*Important – drop-in sessions may be cancelled if the weather is rotten. Please contact the Beacon if you would like to confirm if a session is taking place or not. Times change during Winter months.
URL:https://gorebridge.org.uk/upcomingevents/gorebridge-community-gardeners-drop-in-session/2025-05-06/
CATEGORIES:Beacon
END:VEVENT
BEGIN:VEVENT
DTSTART;TZID=Europe/London:20250506T191500
DTEND;TZID=Europe/London:20250506T201500
DTSTAMP:20260425T173547
CREATED:20250221T112927Z
LAST-MODIFIED:20250221T112927Z
UID:13126-1746558900-1746562500@gorebridge.org.uk
SUMMARY:Mat Pilates with Lynne
DESCRIPTION:Improve flexibility. Increase your range of movement. Improve posture. Ease still joints and lower back pain. Feel great. \nLynne offers Pilates classes on a Tuesday morning at the Beacon. For more information/booking please go to here Facebook Page: https://www.facebook.com/MatpilateswithLynne/
URL:https://gorebridge.org.uk/upcomingevents/mat-pilates-with-lynne/2025-05-06/
CATEGORIES:Beacon,Events
END:VEVENT
BEGIN:VEVENT
DTSTART;TZID=Europe/London:20250507T191500
DTEND;TZID=Europe/London:20250507T201500
DTSTAMP:20260425T173547
CREATED:20250221T112927Z
LAST-MODIFIED:20250221T112927Z
UID:13127-1746645300-1746648900@gorebridge.org.uk
SUMMARY:Mat Pilates with Lynne
DESCRIPTION:Improve flexibility. Increase your range of movement. Improve posture. Ease still joints and lower back pain. Feel great. \nLynne offers Pilates classes on a Tuesday morning at the Beacon. For more information/booking please go to here Facebook Page: https://www.facebook.com/MatpilateswithLynne/
URL:https://gorebridge.org.uk/upcomingevents/mat-pilates-with-lynne/2025-05-07/
CATEGORIES:Beacon,Events
END:VEVENT
BEGIN:VEVENT
DTSTART;TZID=Europe/London:20250508T103000
DTEND;TZID=Europe/London:20250508T113000
DTSTAMP:20260425T173547
CREATED:20210511T104331Z
LAST-MODIFIED:20210511T104331Z
UID:12839-1746700200-1746703800@gorebridge.org.uk
SUMMARY:Baby Massage (Claire Houston)
DESCRIPTION:[External User of Beacon] \nClaire Houston runs Baby Massage classes at the Beacon on a Thursday morning. Please contact her via her Facebook page to book/check dates https://www.facebook.com/clairehoustonmassageandyoga/
URL:https://gorebridge.org.uk/upcomingevents/baby-massage-claire-houston/2025-05-08/
LOCATION:Gorebridge Beacon
CATEGORIES:Beacon,Events
END:VEVENT
BEGIN:VEVENT
DTSTART;TZID=Europe/London:20250508T173000
DTEND;TZID=Europe/London:20250508T210000
DTSTAMP:20260425T173547
CREATED:20250221T121807Z
LAST-MODIFIED:20250221T121807Z
UID:13016-1746725400-1746738000@gorebridge.org.uk
SUMMARY:Judo Heriot Wado-Kai
DESCRIPTION:Judo at the Beacon Monday and Thursday evenings. \nJuniors 5 – 8 years 5:30 – 6:30pm \nJuniors 9 – 12 years 6:30 – 7:30pm \nAdults 7:30 – 9:00pm \nFor more information please contact Paul Conner at heriotwadokai(at)gmail.com or call 07989 427390
URL:https://gorebridge.org.uk/upcomingevents/judo-heriot-wado-kai/2025-05-08/
LOCATION:Gorebridge Beacon
CATEGORIES:Beacon,Events
END:VEVENT
BEGIN:VEVENT
DTSTART;TZID=Europe/London:20250510T090000
DTEND;TZID=Europe/London:20250510T120000
DTSTAMP:20260425T173547
CREATED:20250221T133434Z
LAST-MODIFIED:20250221T133434Z
UID:13371-1746867600-1746878400@gorebridge.org.uk
SUMMARY:Judo
DESCRIPTION:Sportif Judo aim is to create a friendly\, positive environment for people to learn judo and ultimately to create confident\, respectful and skillful judo players and athletes. Sportif Judo’s club moto is “Judo builds people” and the entire ethos and development of Sportif is built around this simple philosophy. Children’s classes run at the Beacon on a Saturday morning. For more information please contact Hanna on Mbl: 07907 308876
URL:https://gorebridge.org.uk/upcomingevents/judo/2025-05-10/
CATEGORIES:Beacon,Events
END:VEVENT
BEGIN:VEVENT
DTSTART;TZID=Europe/London:20250512T173000
DTEND;TZID=Europe/London:20250512T210000
DTSTAMP:20260425T173547
CREATED:20250221T121807Z
LAST-MODIFIED:20250221T121807Z
UID:13017-1747071000-1747083600@gorebridge.org.uk
SUMMARY:Judo Heriot Wado-Kai
DESCRIPTION:Judo at the Beacon Monday and Thursday evenings. \nJuniors 5 – 8 years 5:30 – 6:30pm \nJuniors 9 – 12 years 6:30 – 7:30pm \nAdults 7:30 – 9:00pm \nFor more information please contact Paul Conner at heriotwadokai(at)gmail.com or call 07989 427390
URL:https://gorebridge.org.uk/upcomingevents/judo-heriot-wado-kai/2025-05-12/
LOCATION:Gorebridge Beacon
CATEGORIES:Beacon,Events
END:VEVENT
BEGIN:VEVENT
DTSTART;TZID=Europe/London:20250513T100000
DTEND;TZID=Europe/London:20250513T110000
DTSTAMP:20260425T173547
CREATED:20250221T112927Z
LAST-MODIFIED:20250221T124252Z
UID:12938-1747130400-1747134000@gorebridge.org.uk
SUMMARY:Mat Pilates with Lynne
DESCRIPTION:Improve flexibility. Increase your range of movement. Improve posture. Ease still joints and lower back pain. Feel great. \nLynne offers Pilates classes on a Tuesday morning at the Beacon. For more information/booking please go to here Facebook Page: https://www.facebook.com/MatpilateswithLynne/
URL:https://gorebridge.org.uk/upcomingevents/mat-pilates-with-lynne/2025-05-13/
CATEGORIES:Beacon,Events
END:VEVENT
END:VCALENDAR