BEGIN:VCALENDAR
VERSION:2.0
PRODID:-//Gorebridge Community Development Trust - ECPv6.15.20//NONSGML v1.0//EN
CALSCALE:GREGORIAN
METHOD:PUBLISH
X-WR-CALNAME:Gorebridge Community Development Trust
X-ORIGINAL-URL:https://gorebridge.org.uk
X-WR-CALDESC:Events for Gorebridge Community Development Trust
REFRESH-INTERVAL;VALUE=DURATION:PT1H
X-Robots-Tag:noindex
X-PUBLISHED-TTL:PT1H
BEGIN:VTIMEZONE
TZID:Europe/London
BEGIN:DAYLIGHT
TZOFFSETFROM:+0000
TZOFFSETTO:+0100
TZNAME:BST
DTSTART:20230326T010000
END:DAYLIGHT
BEGIN:STANDARD
TZOFFSETFROM:+0100
TZOFFSETTO:+0000
TZNAME:GMT
DTSTART:20231029T010000
END:STANDARD
BEGIN:DAYLIGHT
TZOFFSETFROM:+0000
TZOFFSETTO:+0100
TZNAME:BST
DTSTART:20240331T010000
END:DAYLIGHT
BEGIN:STANDARD
TZOFFSETFROM:+0100
TZOFFSETTO:+0000
TZNAME:GMT
DTSTART:20241027T010000
END:STANDARD
BEGIN:DAYLIGHT
TZOFFSETFROM:+0000
TZOFFSETTO:+0100
TZNAME:BST
DTSTART:20250330T010000
END:DAYLIGHT
BEGIN:STANDARD
TZOFFSETFROM:+0100
TZOFFSETTO:+0000
TZNAME:GMT
DTSTART:20251026T010000
END:STANDARD
END:VTIMEZONE
BEGIN:VEVENT
DTSTART;TZID=Europe/London:20240925T090000
DTEND;TZID=Europe/London:20240925T160000
DTSTAMP:20260425T051545
CREATED:20240612T171550Z
LAST-MODIFIED:20240612T171550Z
UID:11525-1727254800-1727280000@gorebridge.org.uk
SUMMARY:Skills Development Scotland
DESCRIPTION:Skills Development Scotland support help people find rewarding careers. They also provide careers information\, advice and guidance\, and work-based training programmes. \nSkills Development Scotland – Career Delivery Service will be at the Gorebridge Beacon 9 – 5PM on the following dates: \n20th June\n4th July\n18 July\n1 August\n15 August\n29 August \nCall 0131 663 7287 to make an appointment with a Career Adviser.
URL:https://gorebridge.org.uk/upcomingevents/skills-development-scotland/2024-09-25/
CATEGORIES:Beacon,Employability,Events
END:VEVENT
BEGIN:VEVENT
DTSTART;TZID=Europe/London:20240925T093000
DTEND;TZID=Europe/London:20240925T110000
DTSTAMP:20260425T051545
CREATED:20240605T130818Z
LAST-MODIFIED:20240605T130818Z
UID:11374-1727256600-1727262000@gorebridge.org.uk
SUMMARY:Serenity Yoga
DESCRIPTION:Please contact Michelle on 07973 638126 or michele@sereneyoga.co.uk for further details on any of my classes. \nClasses are pre-booked\, please call above number.
URL:https://gorebridge.org.uk/upcomingevents/serenity-yoga/2024-09-25/
CATEGORIES:Beacon,Events,Gorebridge Beacon
END:VEVENT
BEGIN:VEVENT
DTSTART;TZID=Europe/London:20240929T143000
DTEND;TZID=Europe/London:20240929T163000
DTSTAMP:20260425T051545
CREATED:20240605T124940Z
LAST-MODIFIED:20240605T124940Z
UID:11331-1727620200-1727627400@gorebridge.org.uk
SUMMARY:Community Gardening Drop-In Session
DESCRIPTION:Join our weekly community gardening sessions. Cultivate friendships\, learn new skills and be part of our sustainable community! All levels of experience welcome and no seed to sign up\, just pop in and get gardening! \nDrop-ins every Tuesday 6 – 8:30pm \nHot drinks available. \n*Important – drop-in sessions may be cancelled if the weather is rotten. Please contact the Beacon if you would like to confirm if a session is taking place or not. Times change during Winter months.
URL:https://gorebridge.org.uk/upcomingevents/community-gardening-drop-in-session-2/2024-09-29/
LOCATION:Gorebridge Beacon
CATEGORIES:Beacon,Garden,Gorebridge Community Development Trust
END:VEVENT
BEGIN:VEVENT
DTSTART;TZID=Europe/London:20241002T093000
DTEND;TZID=Europe/London:20241002T110000
DTSTAMP:20260425T051545
CREATED:20240605T130818Z
LAST-MODIFIED:20240605T130818Z
UID:11375-1727861400-1727866800@gorebridge.org.uk
SUMMARY:Serenity Yoga
DESCRIPTION:Please contact Michelle on 07973 638126 or michele@sereneyoga.co.uk for further details on any of my classes. \nClasses are pre-booked\, please call above number.
URL:https://gorebridge.org.uk/upcomingevents/serenity-yoga/2024-10-02/
CATEGORIES:Beacon,Events,Gorebridge Beacon
END:VEVENT
BEGIN:VEVENT
DTSTART;TZID=Europe/London:20241006T143000
DTEND;TZID=Europe/London:20241006T163000
DTSTAMP:20260425T051545
CREATED:20240605T124940Z
LAST-MODIFIED:20240605T124940Z
UID:11332-1728225000-1728232200@gorebridge.org.uk
SUMMARY:Community Gardening Drop-In Session
DESCRIPTION:Join our weekly community gardening sessions. Cultivate friendships\, learn new skills and be part of our sustainable community! All levels of experience welcome and no seed to sign up\, just pop in and get gardening! \nDrop-ins every Tuesday 6 – 8:30pm \nHot drinks available. \n*Important – drop-in sessions may be cancelled if the weather is rotten. Please contact the Beacon if you would like to confirm if a session is taking place or not. Times change during Winter months.
URL:https://gorebridge.org.uk/upcomingevents/community-gardening-drop-in-session-2/2024-10-06/
LOCATION:Gorebridge Beacon
CATEGORIES:Beacon,Garden,Gorebridge Community Development Trust
END:VEVENT
BEGIN:VEVENT
DTSTART;TZID=Europe/London:20241009T090000
DTEND;TZID=Europe/London:20241009T160000
DTSTAMP:20260425T051545
CREATED:20240612T171550Z
LAST-MODIFIED:20240612T171550Z
UID:11526-1728464400-1728489600@gorebridge.org.uk
SUMMARY:Skills Development Scotland
DESCRIPTION:Skills Development Scotland support help people find rewarding careers. They also provide careers information\, advice and guidance\, and work-based training programmes. \nSkills Development Scotland – Career Delivery Service will be at the Gorebridge Beacon 9 – 5PM on the following dates: \n20th June\n4th July\n18 July\n1 August\n15 August\n29 August \nCall 0131 663 7287 to make an appointment with a Career Adviser.
URL:https://gorebridge.org.uk/upcomingevents/skills-development-scotland/2024-10-09/
CATEGORIES:Beacon,Employability,Events
END:VEVENT
BEGIN:VEVENT
DTSTART;TZID=Europe/London:20241009T093000
DTEND;TZID=Europe/London:20241009T110000
DTSTAMP:20260425T051545
CREATED:20240605T130818Z
LAST-MODIFIED:20240605T130818Z
UID:11376-1728466200-1728471600@gorebridge.org.uk
SUMMARY:Serenity Yoga
DESCRIPTION:Please contact Michelle on 07973 638126 or michele@sereneyoga.co.uk for further details on any of my classes. \nClasses are pre-booked\, please call above number.
URL:https://gorebridge.org.uk/upcomingevents/serenity-yoga/2024-10-09/
CATEGORIES:Beacon,Events,Gorebridge Beacon
END:VEVENT
BEGIN:VEVENT
DTSTART;TZID=Europe/London:20241013T143000
DTEND;TZID=Europe/London:20241013T163000
DTSTAMP:20260425T051545
CREATED:20240605T124940Z
LAST-MODIFIED:20240605T124940Z
UID:11333-1728829800-1728837000@gorebridge.org.uk
SUMMARY:Community Gardening Drop-In Session
DESCRIPTION:Join our weekly community gardening sessions. Cultivate friendships\, learn new skills and be part of our sustainable community! All levels of experience welcome and no seed to sign up\, just pop in and get gardening! \nDrop-ins every Tuesday 6 – 8:30pm \nHot drinks available. \n*Important – drop-in sessions may be cancelled if the weather is rotten. Please contact the Beacon if you would like to confirm if a session is taking place or not. Times change during Winter months.
URL:https://gorebridge.org.uk/upcomingevents/community-gardening-drop-in-session-2/2024-10-13/
LOCATION:Gorebridge Beacon
CATEGORIES:Beacon,Garden,Gorebridge Community Development Trust
END:VEVENT
BEGIN:VEVENT
DTSTART;TZID=Europe/London:20241016T093000
DTEND;TZID=Europe/London:20241016T110000
DTSTAMP:20260425T051545
CREATED:20240605T130818Z
LAST-MODIFIED:20240605T130818Z
UID:11377-1729071000-1729076400@gorebridge.org.uk
SUMMARY:Serenity Yoga
DESCRIPTION:Please contact Michelle on 07973 638126 or michele@sereneyoga.co.uk for further details on any of my classes. \nClasses are pre-booked\, please call above number.
URL:https://gorebridge.org.uk/upcomingevents/serenity-yoga/2024-10-16/
CATEGORIES:Beacon,Events,Gorebridge Beacon
END:VEVENT
BEGIN:VEVENT
DTSTART;TZID=Europe/London:20241019T130000
DTEND;TZID=Europe/London:20241019T153000
DTSTAMP:20260425T051545
CREATED:20240915T104814Z
LAST-MODIFIED:20241015T194744Z
UID:11876-1729342800-1729351800@gorebridge.org.uk
SUMMARY:Dogs' Day Out
DESCRIPTION:We are having a Dogs’ Day Out \nYour pooches and you are invited to a Dogs’ Day Out at the Gorebridge Beacon. As well as a few talks by dog training seminars and rescues. A few people that will be here: Nick from Esk Valley Training\, Lesley from Fostering Compassion\, Edinburgh Dog and Cat Home\, Click and Collect grooming\, Dixies Natural Treats … \nWe will have a Doggy Show with lots of classes to enter included: \nBest Girl\nBest Boy\nBest Trickster\nCute Pup\nGoldie Oldie (8 plus)\nWaggiest Tail\nBest Ball Catch\nYoung Handler (under 16)\nDog Most Like Owner\nSit and Stayer \nHope to see you here.
URL:https://gorebridge.org.uk/upcomingevents/dogs-day-out/
LOCATION:Gorebridge Beacon
CATEGORIES:Beacon
ATTACH;FMTTYPE=image/png:https://gorebridge.org.uk/wp-content/uploads/2024/09/dogs-‘.png
END:VEVENT
BEGIN:VEVENT
DTSTART;TZID=Europe/London:20241020T143000
DTEND;TZID=Europe/London:20241020T163000
DTSTAMP:20260425T051545
CREATED:20240605T124940Z
LAST-MODIFIED:20240605T124940Z
UID:11334-1729434600-1729441800@gorebridge.org.uk
SUMMARY:Community Gardening Drop-In Session
DESCRIPTION:Join our weekly community gardening sessions. Cultivate friendships\, learn new skills and be part of our sustainable community! All levels of experience welcome and no seed to sign up\, just pop in and get gardening! \nDrop-ins every Tuesday 6 – 8:30pm \nHot drinks available. \n*Important – drop-in sessions may be cancelled if the weather is rotten. Please contact the Beacon if you would like to confirm if a session is taking place or not. Times change during Winter months.
URL:https://gorebridge.org.uk/upcomingevents/community-gardening-drop-in-session-2/2024-10-20/
LOCATION:Gorebridge Beacon
CATEGORIES:Beacon,Garden,Gorebridge Community Development Trust
END:VEVENT
BEGIN:VEVENT
DTSTART;TZID=Europe/London:20241023T090000
DTEND;TZID=Europe/London:20241023T160000
DTSTAMP:20260425T051545
CREATED:20240612T171550Z
LAST-MODIFIED:20240612T171550Z
UID:11527-1729674000-1729699200@gorebridge.org.uk
SUMMARY:Skills Development Scotland
DESCRIPTION:Skills Development Scotland support help people find rewarding careers. They also provide careers information\, advice and guidance\, and work-based training programmes. \nSkills Development Scotland – Career Delivery Service will be at the Gorebridge Beacon 9 – 5PM on the following dates: \n20th June\n4th July\n18 July\n1 August\n15 August\n29 August \nCall 0131 663 7287 to make an appointment with a Career Adviser.
URL:https://gorebridge.org.uk/upcomingevents/skills-development-scotland/2024-10-23/
CATEGORIES:Beacon,Employability,Events
END:VEVENT
BEGIN:VEVENT
DTSTART;TZID=Europe/London:20241023T093000
DTEND;TZID=Europe/London:20241023T110000
DTSTAMP:20260425T051545
CREATED:20240605T130818Z
LAST-MODIFIED:20240605T130818Z
UID:11378-1729675800-1729681200@gorebridge.org.uk
SUMMARY:Serenity Yoga
DESCRIPTION:Please contact Michelle on 07973 638126 or michele@sereneyoga.co.uk for further details on any of my classes. \nClasses are pre-booked\, please call above number.
URL:https://gorebridge.org.uk/upcomingevents/serenity-yoga/2024-10-23/
CATEGORIES:Beacon,Events,Gorebridge Beacon
END:VEVENT
BEGIN:VEVENT
DTSTART;TZID=Europe/London:20241024T183000
DTEND;TZID=Europe/London:20241024T200000
DTSTAMP:20260425T051545
CREATED:20240917T080548Z
LAST-MODIFIED:20240917T080726Z
UID:11879-1729794600-1729800000@gorebridge.org.uk
SUMMARY:Dementia Friends Training
DESCRIPTION:Open to everyone. Dementia Friends with Alzheimer Scotland. Free. Please sign up below so we know numbers. \nWith the right support and understanding\, people can live well with dementia and be an active part of their local community. By becoming a Dementia Friend\, you will learn about what it can be like to live with dementia and how to turn that understanding into action. \nWhen: Wednesday 9th October 2024\, 6.30-8.00pm \nWhere: Gorebridge Beacon\, Gorebridge\, EH23 4TT \nFor more information about this event contact: Dawn Barclay\, Gorebridge Beacon 01875 816320. \nFor more information re the work of Alzheimer Scotland contact: Michael Huddleston\, Alzheimer Scotland Dementia Advisor on 0131 654 1114 \n \n 
URL:https://gorebridge.org.uk/upcomingevents/dementia-friends/
CATEGORIES:Beacon,Events,Gorebridge Community Development Trust
END:VEVENT
BEGIN:VEVENT
DTSTART;TZID=Europe/London:20241027T143000
DTEND;TZID=Europe/London:20241027T163000
DTSTAMP:20260425T051545
CREATED:20240605T124940Z
LAST-MODIFIED:20240605T124940Z
UID:11335-1730039400-1730046600@gorebridge.org.uk
SUMMARY:Community Gardening Drop-In Session
DESCRIPTION:Join our weekly community gardening sessions. Cultivate friendships\, learn new skills and be part of our sustainable community! All levels of experience welcome and no seed to sign up\, just pop in and get gardening! \nDrop-ins every Tuesday 6 – 8:30pm \nHot drinks available. \n*Important – drop-in sessions may be cancelled if the weather is rotten. Please contact the Beacon if you would like to confirm if a session is taking place or not. Times change during Winter months.
URL:https://gorebridge.org.uk/upcomingevents/community-gardening-drop-in-session-2/2024-10-27/
LOCATION:Gorebridge Beacon
CATEGORIES:Beacon,Garden,Gorebridge Community Development Trust
END:VEVENT
BEGIN:VEVENT
DTSTART;TZID=Europe/London:20241030T093000
DTEND;TZID=Europe/London:20241030T110000
DTSTAMP:20260425T051545
CREATED:20240605T130818Z
LAST-MODIFIED:20240605T130818Z
UID:11379-1730280600-1730286000@gorebridge.org.uk
SUMMARY:Serenity Yoga
DESCRIPTION:Please contact Michelle on 07973 638126 or michele@sereneyoga.co.uk for further details on any of my classes. \nClasses are pre-booked\, please call above number.
URL:https://gorebridge.org.uk/upcomingevents/serenity-yoga/2024-10-30/
CATEGORIES:Beacon,Events,Gorebridge Beacon
END:VEVENT
BEGIN:VEVENT
DTSTART;TZID=Europe/London:20241106T093000
DTEND;TZID=Europe/London:20241106T110000
DTSTAMP:20260425T051545
CREATED:20240605T130818Z
LAST-MODIFIED:20240605T130818Z
UID:11380-1730885400-1730890800@gorebridge.org.uk
SUMMARY:Serenity Yoga
DESCRIPTION:Please contact Michelle on 07973 638126 or michele@sereneyoga.co.uk for further details on any of my classes. \nClasses are pre-booked\, please call above number.
URL:https://gorebridge.org.uk/upcomingevents/serenity-yoga/2024-11-06/
CATEGORIES:Beacon,Events,Gorebridge Beacon
END:VEVENT
BEGIN:VEVENT
DTSTART;TZID=Europe/London:20241113T093000
DTEND;TZID=Europe/London:20241113T110000
DTSTAMP:20260425T051545
CREATED:20240605T130818Z
LAST-MODIFIED:20240605T130818Z
UID:11381-1731490200-1731495600@gorebridge.org.uk
SUMMARY:Serenity Yoga
DESCRIPTION:Please contact Michelle on 07973 638126 or michele@sereneyoga.co.uk for further details on any of my classes. \nClasses are pre-booked\, please call above number.
URL:https://gorebridge.org.uk/upcomingevents/serenity-yoga/2024-11-13/
CATEGORIES:Beacon,Events,Gorebridge Beacon
END:VEVENT
BEGIN:VEVENT
DTSTART;TZID=Europe/London:20241115T183000
DTEND;TZID=Europe/London:20241115T200000
DTSTAMP:20260425T051545
CREATED:20240927T201051Z
LAST-MODIFIED:20241107T135508Z
UID:11948-1731695400-1731700800@gorebridge.org.uk
SUMMARY:Author Talk Pip Fallow 'Dragged Up Proppa'
DESCRIPTION:We are super excited to welcome author Pip Fallow to the Gorebridge Beacon. \nWhen? 15th November 6:30PM at the Beacon. \nAbout this event: \nPip Fallow was born in the coal-miner’s cottage where his family of eight lived\, in a village near Durham. Pip was destined to join his father down the pit\, but the closure of his village’s mine in the 1980s saw him at the back of the dole queue like the rest. This is Pip’s story of being ‘dragged up proppa’\, living by his wits\, working and travelling the world before finally settling a few miles from where he grew up. \nA lot has been written about the red wall in recent years but Pip Fallow has lived it. This is his account of some of the most important issues affecting Britain today; from levelling-up and the north-south divide\, to social mobility and class\, and the devastating social upheaval caused by decades of deindustrialization and government neglect. Showing how broken promises of the past impact his village and the politics of today. \nThis is the memoir of a man who left school illiterate\, but has now written a book. The story of a lost generation who were prepared for a life that had disappeared by the time they were ready for it\, of communities with once strong social ties that have now disintegrated\, and a way of living that simply no longer exists in Britain today. \n‘Fallow’s memoir is not just a classic piece of working-class writing\, but a truly gripping narrative’ – Brian Groom\, author of Northerners: A History \nCafe will be open\, or BYOB. Book a space below\, choose ‘free’ or you can make a donation if you would like to. \nP.S. There is a little background to his visit\, in short\, a mere one copy of his book Dragged Up Proppa: Growing Up In Britain’s Forgotten North has been passed around the Beacon for months now\, volunteers\, users and staff reading their way through and all of us saying ‘we remember these times\, we lived them too’. On a whim (read: heck\, nothing to lose) we contacted Pip to see if he would like to come and talk about the book\, and even though we confessed to have been sharing one copy\, he still said yes to coming along. \nP.P.S We are delighted Gordy from Wedale Bookshop in Stow will be here with copies of Dragged Up Proppa to purchase on the night. \n  \n  \n\n			\n				\n			\n			\n				\n			\n			\n				\n			\n			\n				\n			\n			\n				\n			\n			\n				\n			\n			\n				\n			\n			\n				\n			\n		\n\n 
URL:https://gorebridge.org.uk/upcomingevents/author-pip-fallow/
CATEGORIES:Beacon
END:VEVENT
BEGIN:VEVENT
DTSTART;TZID=Europe/London:20241120T093000
DTEND;TZID=Europe/London:20241120T110000
DTSTAMP:20260425T051545
CREATED:20240605T130818Z
LAST-MODIFIED:20240605T130818Z
UID:11382-1732095000-1732100400@gorebridge.org.uk
SUMMARY:Serenity Yoga
DESCRIPTION:Please contact Michelle on 07973 638126 or michele@sereneyoga.co.uk for further details on any of my classes. \nClasses are pre-booked\, please call above number.
URL:https://gorebridge.org.uk/upcomingevents/serenity-yoga/2024-11-20/
CATEGORIES:Beacon,Events,Gorebridge Beacon
END:VEVENT
BEGIN:VEVENT
DTSTART;TZID=Europe/London:20241127T093000
DTEND;TZID=Europe/London:20241127T110000
DTSTAMP:20260425T051545
CREATED:20240605T130818Z
LAST-MODIFIED:20240605T130818Z
UID:11383-1732699800-1732705200@gorebridge.org.uk
SUMMARY:Serenity Yoga
DESCRIPTION:Please contact Michelle on 07973 638126 or michele@sereneyoga.co.uk for further details on any of my classes. \nClasses are pre-booked\, please call above number.
URL:https://gorebridge.org.uk/upcomingevents/serenity-yoga/2024-11-27/
CATEGORIES:Beacon,Events,Gorebridge Beacon
END:VEVENT
BEGIN:VEVENT
DTSTART;TZID=Europe/London:20241202T170000
DTEND;TZID=Europe/London:20241202T190000
DTSTAMP:20260425T051545
CREATED:20241003T094132Z
LAST-MODIFIED:20241003T094132Z
UID:12064-1733158800-1733166000@gorebridge.org.uk
SUMMARY:Lantern Making
DESCRIPTION:Come along and learn how to make a willow lantern. \nThey are mighty impressive and not as tricky to make as you might think. We will make a pyramid lantern\, and hopefully you will progress next year onto other shapes and sizes. Children must be supervised by an adult. \nMaterials provided. £3 to cover the cost. \n 
URL:https://gorebridge.org.uk/upcomingevents/lantern-making/
LOCATION:Gorebridge Beacon
CATEGORIES:Beacon,Events,Family Activities
ATTACH;FMTTYPE=image/png:https://gorebridge.org.uk/wp-content/uploads/2024/09/Lantern-Making-Winter-2024.png
END:VEVENT
BEGIN:VEVENT
DTSTART;TZID=Europe/London:20241204T093000
DTEND;TZID=Europe/London:20241204T110000
DTSTAMP:20260425T051545
CREATED:20240605T130818Z
LAST-MODIFIED:20240605T130818Z
UID:11384-1733304600-1733310000@gorebridge.org.uk
SUMMARY:Serenity Yoga
DESCRIPTION:Please contact Michelle on 07973 638126 or michele@sereneyoga.co.uk for further details on any of my classes. \nClasses are pre-booked\, please call above number.
URL:https://gorebridge.org.uk/upcomingevents/serenity-yoga/2024-12-04/
CATEGORIES:Beacon,Events,Gorebridge Beacon
END:VEVENT
BEGIN:VEVENT
DTSTART;TZID=Europe/London:20241207T100000
DTEND;TZID=Europe/London:20241207T150000
DTSTAMP:20260425T051545
CREATED:20241001T195315Z
LAST-MODIFIED:20241201T155313Z
UID:11985-1733565600-1733583600@gorebridge.org.uk
SUMMARY:Wreath Making Workshop
DESCRIPTION:Come along to one of our lovely Wreath Making Workshops on the 7th December. \nWe have an AM and a PM workshop. You are more than welcome to bring bits and bobs with you that would you like to use i.e. some foliage from your garden you would like to use\, or maybe wee lights. \nIf you have them\, bring along secateurs\, or your favourite sharp scissors. Everything else will be provided. \nThe café will be open at 9AM if you want to have breakfast first\, and into the afternoon. x \nAh\, a few pics of previous workshops in years gone by! Look how stunning they are\, and the wreaths. x \n\n			\n				\n			\n			\n				\n			\n			\n				\n			\n			\n				\n			\n		\n\n 
URL:https://gorebridge.org.uk/upcomingevents/wreath-24/
LOCATION:Gorebridge Beacon
CATEGORIES:Beacon
ATTACH;FMTTYPE=image/png:https://gorebridge.org.uk/wp-content/uploads/2024/10/Copy-of-Wreath-Making-1-to-3-Winter-2024-1.png
END:VEVENT
BEGIN:VEVENT
DTSTART;TZID=Europe/London:20241208T100000
DTEND;TZID=Europe/London:20241208T113000
DTSTAMP:20260425T051545
CREATED:20241003T103106Z
LAST-MODIFIED:20241003T103137Z
UID:12072-1733652000-1733657400@gorebridge.org.uk
SUMMARY:Breakfast With Santa 8th December
DESCRIPTION:A very special guest is coming to the Beacon for breakfast.  \nJoin Santa and his elves for a special pancake breakfast. The Elves will show you to your table so you can tuck into your breakfast as Santa makes his way round to talk with your little ones. \nBefore things wrap up\, each child will receive a present and have the chance for a photo with Santa to share with your loved ones. \nBreakfast of pancakes and toppings is included\, as well as tea\, filter coffee and juice. Toppings include fresh fruit\, raspberry coulis\, cream and chocolate. \nPlease make us aware of any allergies or dietary requirements at the time of booking.
URL:https://gorebridge.org.uk/upcomingevents/breakfast-with-santa-8th/
LOCATION:Gorebridge Beacon
CATEGORIES:Beacon
ATTACH;FMTTYPE=image/png:https://gorebridge.org.uk/wp-content/uploads/2024/09/Breakfast-with-Santa-8th-Winter-2024.png
END:VEVENT
BEGIN:VEVENT
DTSTART;TZID=Europe/London:20241210T160000
DTEND;TZID=Europe/London:20241210T183000
DTSTAMP:20260425T051545
CREATED:20241003T142829Z
LAST-MODIFIED:20241003T142829Z
UID:12155-1733846400-1733855400@gorebridge.org.uk
SUMMARY:Frozen Sing-a-Long
DESCRIPTION:Let it go! \nLet it go! \nCan’t hold us back anymore! \nThe cold never bothered you anyway! \nCome and join us when we show Disney’s movie Frozen at our pop-up community cinema. \nFearless optimist Anna sets off on an epic journey\, teaming up with rugged mountain man Kristoff and his loyal reindeer Sven to find her sister Elsa\, whose icy powers have trapped the kingdom of Arendelle in eternal winter. Encountering Everest-like conditions\, mystical trolls and a hilarious snowman named Olaf\, Anna and Kristoff battle the elements in a race to save the kingdom. \nTickets £4 (child\, under 12) and £5 (adult) and can be purchased here on the website. All children must be accompanied by an adult. \n 
URL:https://gorebridge.org.uk/upcomingevents/frozen-sing-a-long/
LOCATION:Gorebridge Beacon
CATEGORIES:Beacon
ATTACH;FMTTYPE=image/png:https://gorebridge.org.uk/wp-content/uploads/2024/10/Frozen-Winter-2024.png
END:VEVENT
BEGIN:VEVENT
DTSTART;TZID=Europe/London:20241211T093000
DTEND;TZID=Europe/London:20241211T110000
DTSTAMP:20260425T051545
CREATED:20240605T130818Z
LAST-MODIFIED:20240605T130818Z
UID:11385-1733909400-1733914800@gorebridge.org.uk
SUMMARY:Serenity Yoga
DESCRIPTION:Please contact Michelle on 07973 638126 or michele@sereneyoga.co.uk for further details on any of my classes. \nClasses are pre-booked\, please call above number.
URL:https://gorebridge.org.uk/upcomingevents/serenity-yoga/2024-12-11/
CATEGORIES:Beacon,Events,Gorebridge Beacon
END:VEVENT
BEGIN:VEVENT
DTSTART;TZID=Europe/London:20241214T170000
DTEND;TZID=Europe/London:20241214T200000
DTSTAMP:20260425T051545
CREATED:20241212T155649Z
LAST-MODIFIED:20241213T113747Z
UID:12636-1734195600-1734206400@gorebridge.org.uk
SUMMARY:Winter in the Community Garden/Party
DESCRIPTION:Due to Storm Darragh last weekend Winter in the Garden is happening 14th Dec. Did you book on the 6th and 7th? No need to book again. We have your details. New? Book below. \nBring your family and friends to our magical Winter Event at the Beacon Community Garden! We will be twinkle lighting the garden\, Santa will be making another appearance (get a photo)\, hot chocolate to warm you up\, a little food\, festive tunes and some good community banter. \nInside will be music\, and in the last hour we will be welcoming the Tubby Horse Company in the last hour to play in the cafe area. \nAll welcome. Children must be accompanied by an adult. The event is free however you can choose to make a donation. \nPlease book below so we have an idea of numbers (choose free\, or donation).
URL:https://gorebridge.org.uk/upcomingevents/winter-garden-14th-dec/
LOCATION:Gorebridge Beacon
CATEGORIES:Beacon,Events
ATTACH;FMTTYPE=image/png:https://gorebridge.org.uk/wp-content/uploads/2024/12/New-Date-Winter-in-the-Garden-14th-Dec-2024.png
END:VEVENT
BEGIN:VEVENT
DTSTART;TZID=Europe/London:20241215T100000
DTEND;TZID=Europe/London:20241215T113000
DTSTAMP:20260425T051545
CREATED:20241003T110052Z
LAST-MODIFIED:20241210T203702Z
UID:12139-1734256800-1734262200@gorebridge.org.uk
SUMMARY:Breakfast With Santa 15th Dec
DESCRIPTION:A very special guest is coming to the Beacon for breakfast.  \nJoin Santa and his elves for a special pancake breakfast. The Elves will show you to your table so you can tuck into your breakfast as Santa makes his way round to talk with your little ones. \nBefore things wrap up\, each child will receive a present and have the chance for a photo with Santa to share with your loved ones. \nBreakfast of pancakes and toppings is included\, as well as tea\, filter coffee and juice. Toppings include fresh fruit\, raspberry coulis\, cream and chocolate. \nPlease make us aware of any allergies or dietary requirements at the time of booking.
URL:https://gorebridge.org.uk/upcomingevents/breakfast-with-santa-15th-dec/
LOCATION:Gorebridge Beacon
CATEGORIES:Beacon,Family Activities
ATTACH;FMTTYPE=image/png:https://gorebridge.org.uk/wp-content/uploads/2024/09/Copy-of-Breakfast-with-Santa-15th-Winter-2024.png
END:VEVENT
BEGIN:VEVENT
DTSTART;TZID=Europe/London:20241218T093000
DTEND;TZID=Europe/London:20241218T110000
DTSTAMP:20260425T051545
CREATED:20240605T130818Z
LAST-MODIFIED:20240605T130818Z
UID:11386-1734514200-1734519600@gorebridge.org.uk
SUMMARY:Serenity Yoga
DESCRIPTION:Please contact Michelle on 07973 638126 or michele@sereneyoga.co.uk for further details on any of my classes. \nClasses are pre-booked\, please call above number.
URL:https://gorebridge.org.uk/upcomingevents/serenity-yoga/2024-12-18/
CATEGORIES:Beacon,Events,Gorebridge Beacon
END:VEVENT
END:VCALENDAR