BEGIN:VCALENDAR
VERSION:2.0
PRODID:-//Gorebridge Community Development Trust - ECPv6.15.20//NONSGML v1.0//EN
CALSCALE:GREGORIAN
METHOD:PUBLISH
X-ORIGINAL-URL:https://gorebridge.org.uk
X-WR-CALDESC:Events for Gorebridge Community Development Trust
REFRESH-INTERVAL;VALUE=DURATION:PT1H
X-Robots-Tag:noindex
X-PUBLISHED-TTL:PT1H
BEGIN:VTIMEZONE
TZID:Europe/London
BEGIN:DAYLIGHT
TZOFFSETFROM:+0000
TZOFFSETTO:+0100
TZNAME:BST
DTSTART:20240331T010000
END:DAYLIGHT
BEGIN:STANDARD
TZOFFSETFROM:+0100
TZOFFSETTO:+0000
TZNAME:GMT
DTSTART:20241027T010000
END:STANDARD
BEGIN:DAYLIGHT
TZOFFSETFROM:+0000
TZOFFSETTO:+0100
TZNAME:BST
DTSTART:20250330T010000
END:DAYLIGHT
BEGIN:STANDARD
TZOFFSETFROM:+0100
TZOFFSETTO:+0000
TZNAME:GMT
DTSTART:20251026T010000
END:STANDARD
BEGIN:DAYLIGHT
TZOFFSETFROM:+0000
TZOFFSETTO:+0100
TZNAME:BST
DTSTART:20260329T010000
END:DAYLIGHT
BEGIN:STANDARD
TZOFFSETFROM:+0100
TZOFFSETTO:+0000
TZNAME:GMT
DTSTART:20261025T010000
END:STANDARD
END:VTIMEZONE
BEGIN:VEVENT
DTSTART;TZID=Europe/London:20251009T103000
DTEND;TZID=Europe/London:20251009T113000
DTSTAMP:20260424T100253
CREATED:20210511T104331Z
LAST-MODIFIED:20210511T104331Z
UID:12861-1760005800-1760009400@gorebridge.org.uk
SUMMARY:Baby Massage (Claire Houston)
DESCRIPTION:[External User of Beacon] \nClaire Houston runs Baby Massage classes at the Beacon on a Thursday morning. Please contact her via her Facebook page to book/check dates https://www.facebook.com/clairehoustonmassageandyoga/
URL:https://gorebridge.org.uk/upcomingevents/baby-massage-claire-houston/2025-10-09/
LOCATION:Gorebridge Beacon
CATEGORIES:Beacon,Events
END:VEVENT
BEGIN:VEVENT
DTSTART;TZID=Europe/London:20251009T173000
DTEND;TZID=Europe/London:20251009T210000
DTSTAMP:20260424T100253
CREATED:20250221T121807Z
LAST-MODIFIED:20250221T121807Z
UID:13060-1760031000-1760043600@gorebridge.org.uk
SUMMARY:Judo Heriot Wado-Kai
DESCRIPTION:Judo at the Beacon Monday and Thursday evenings. \nJuniors 5 – 8 years 5:30 – 6:30pm \nJuniors 9 – 12 years 6:30 – 7:30pm \nAdults 7:30 – 9:00pm \nFor more information please contact Paul Conner at heriotwadokai(at)gmail.com or call 07989 427390
URL:https://gorebridge.org.uk/upcomingevents/judo-heriot-wado-kai/2025-10-09/
LOCATION:Gorebridge Beacon
CATEGORIES:Beacon,Events
END:VEVENT
BEGIN:VEVENT
DTSTART;TZID=Europe/London:20251011T090000
DTEND;TZID=Europe/London:20251011T120000
DTSTAMP:20260424T100253
CREATED:20250221T133434Z
LAST-MODIFIED:20250221T133434Z
UID:13393-1760173200-1760184000@gorebridge.org.uk
SUMMARY:Judo
DESCRIPTION:Sportif Judo aim is to create a friendly\, positive environment for people to learn judo and ultimately to create confident\, respectful and skillful judo players and athletes. Sportif Judo’s club moto is “Judo builds people” and the entire ethos and development of Sportif is built around this simple philosophy. Children’s classes run at the Beacon on a Saturday morning. For more information please contact Hanna on Mbl: 07907 308876
URL:https://gorebridge.org.uk/upcomingevents/judo/2025-10-11/
CATEGORIES:Beacon,Events
END:VEVENT
BEGIN:VEVENT
DTSTART;TZID=Europe/London:20251013T173000
DTEND;TZID=Europe/London:20251013T210000
DTSTAMP:20260424T100253
CREATED:20250221T121807Z
LAST-MODIFIED:20250221T121807Z
UID:13061-1760376600-1760389200@gorebridge.org.uk
SUMMARY:Judo Heriot Wado-Kai
DESCRIPTION:Judo at the Beacon Monday and Thursday evenings. \nJuniors 5 – 8 years 5:30 – 6:30pm \nJuniors 9 – 12 years 6:30 – 7:30pm \nAdults 7:30 – 9:00pm \nFor more information please contact Paul Conner at heriotwadokai(at)gmail.com or call 07989 427390
URL:https://gorebridge.org.uk/upcomingevents/judo-heriot-wado-kai/2025-10-13/
LOCATION:Gorebridge Beacon
CATEGORIES:Beacon,Events
END:VEVENT
BEGIN:VEVENT
DTSTART;TZID=Europe/London:20251014T100000
DTEND;TZID=Europe/London:20251014T110000
DTSTAMP:20260424T100253
CREATED:20250221T112927Z
LAST-MODIFIED:20250221T124421Z
UID:12960-1760436000-1760439600@gorebridge.org.uk
SUMMARY:Mat Pilates with Lynne
DESCRIPTION:Improve flexibility. Increase your range of movement. Improve posture. Ease still joints and lower back pain. Feel great. \nLynne offers Pilates classes on a Tuesday morning at the Beacon. For more information/booking please go to here Facebook Page: https://www.facebook.com/MatpilateswithLynne/
URL:https://gorebridge.org.uk/upcomingevents/mat-pilates-with-lynne/2025-10-14/
CATEGORIES:Beacon,Events
END:VEVENT
BEGIN:VEVENT
DTSTART;TZID=Europe/London:20251014T180000
DTEND;TZID=Europe/London:20251014T203000
DTSTAMP:20260424T100253
CREATED:20250408T214107Z
LAST-MODIFIED:20250408T214107Z
UID:13523-1760464800-1760473800@gorebridge.org.uk
SUMMARY:Gorebridge Community Gardeners Drop In Session
DESCRIPTION:Volunteers WANTED! \nJoin our weekly community gardening sessions. Cultivate friendships\, learn new skills and be part of our sustainable community! All levels of experience welcome and no seed to sign up\, just pop in and get gardening! \nDrop-ins every Tuesday 6 – 8:30pm \nHot drinks available. \n*Important – drop-in sessions may be cancelled if the weather is rotten. Please contact the Beacon if you would like to confirm if a session is taking place or not. Times change during Winter months.
URL:https://gorebridge.org.uk/upcomingevents/gorebridge-community-gardeners-drop-in-session/2025-10-14/
CATEGORIES:Beacon
END:VEVENT
BEGIN:VEVENT
DTSTART;TZID=Europe/London:20251014T191500
DTEND;TZID=Europe/London:20251014T201500
DTSTAMP:20260424T100253
CREATED:20250221T112927Z
LAST-MODIFIED:20250221T112927Z
UID:13172-1760469300-1760472900@gorebridge.org.uk
SUMMARY:Mat Pilates with Lynne
DESCRIPTION:Improve flexibility. Increase your range of movement. Improve posture. Ease still joints and lower back pain. Feel great. \nLynne offers Pilates classes on a Tuesday morning at the Beacon. For more information/booking please go to here Facebook Page: https://www.facebook.com/MatpilateswithLynne/
URL:https://gorebridge.org.uk/upcomingevents/mat-pilates-with-lynne/2025-10-14/
CATEGORIES:Beacon,Events
END:VEVENT
BEGIN:VEVENT
DTSTART;TZID=Europe/London:20251015T191500
DTEND;TZID=Europe/London:20251015T201500
DTSTAMP:20260424T100253
CREATED:20250221T112927Z
LAST-MODIFIED:20250221T112927Z
UID:13173-1760555700-1760559300@gorebridge.org.uk
SUMMARY:Mat Pilates with Lynne
DESCRIPTION:Improve flexibility. Increase your range of movement. Improve posture. Ease still joints and lower back pain. Feel great. \nLynne offers Pilates classes on a Tuesday morning at the Beacon. For more information/booking please go to here Facebook Page: https://www.facebook.com/MatpilateswithLynne/
URL:https://gorebridge.org.uk/upcomingevents/mat-pilates-with-lynne/2025-10-15/
CATEGORIES:Beacon,Events
END:VEVENT
BEGIN:VEVENT
DTSTART;TZID=Europe/London:20251016T103000
DTEND;TZID=Europe/London:20251016T113000
DTSTAMP:20260424T100253
CREATED:20210511T104331Z
LAST-MODIFIED:20210511T104331Z
UID:12862-1760610600-1760614200@gorebridge.org.uk
SUMMARY:Baby Massage (Claire Houston)
DESCRIPTION:[External User of Beacon] \nClaire Houston runs Baby Massage classes at the Beacon on a Thursday morning. Please contact her via her Facebook page to book/check dates https://www.facebook.com/clairehoustonmassageandyoga/
URL:https://gorebridge.org.uk/upcomingevents/baby-massage-claire-houston/2025-10-16/
LOCATION:Gorebridge Beacon
CATEGORIES:Beacon,Events
END:VEVENT
BEGIN:VEVENT
DTSTART;TZID=Europe/London:20251016T173000
DTEND;TZID=Europe/London:20251016T210000
DTSTAMP:20260424T100253
CREATED:20250221T121807Z
LAST-MODIFIED:20250221T121807Z
UID:13062-1760635800-1760648400@gorebridge.org.uk
SUMMARY:Judo Heriot Wado-Kai
DESCRIPTION:Judo at the Beacon Monday and Thursday evenings. \nJuniors 5 – 8 years 5:30 – 6:30pm \nJuniors 9 – 12 years 6:30 – 7:30pm \nAdults 7:30 – 9:00pm \nFor more information please contact Paul Conner at heriotwadokai(at)gmail.com or call 07989 427390
URL:https://gorebridge.org.uk/upcomingevents/judo-heriot-wado-kai/2025-10-16/
LOCATION:Gorebridge Beacon
CATEGORIES:Beacon,Events
END:VEVENT
BEGIN:VEVENT
DTSTART;TZID=Europe/London:20251018T090000
DTEND;TZID=Europe/London:20251018T120000
DTSTAMP:20260424T100253
CREATED:20250221T133434Z
LAST-MODIFIED:20250221T133434Z
UID:13394-1760778000-1760788800@gorebridge.org.uk
SUMMARY:Judo
DESCRIPTION:Sportif Judo aim is to create a friendly\, positive environment for people to learn judo and ultimately to create confident\, respectful and skillful judo players and athletes. Sportif Judo’s club moto is “Judo builds people” and the entire ethos and development of Sportif is built around this simple philosophy. Children’s classes run at the Beacon on a Saturday morning. For more information please contact Hanna on Mbl: 07907 308876
URL:https://gorebridge.org.uk/upcomingevents/judo/2025-10-18/
CATEGORIES:Beacon,Events
END:VEVENT
BEGIN:VEVENT
DTSTART;TZID=Europe/London:20251020T173000
DTEND;TZID=Europe/London:20251020T210000
DTSTAMP:20260424T100253
CREATED:20250221T121807Z
LAST-MODIFIED:20250221T121807Z
UID:13063-1760981400-1760994000@gorebridge.org.uk
SUMMARY:Judo Heriot Wado-Kai
DESCRIPTION:Judo at the Beacon Monday and Thursday evenings. \nJuniors 5 – 8 years 5:30 – 6:30pm \nJuniors 9 – 12 years 6:30 – 7:30pm \nAdults 7:30 – 9:00pm \nFor more information please contact Paul Conner at heriotwadokai(at)gmail.com or call 07989 427390
URL:https://gorebridge.org.uk/upcomingevents/judo-heriot-wado-kai/2025-10-20/
LOCATION:Gorebridge Beacon
CATEGORIES:Beacon,Events
END:VEVENT
BEGIN:VEVENT
DTSTART;TZID=Europe/London:20251021T100000
DTEND;TZID=Europe/London:20251021T110000
DTSTAMP:20260424T100253
CREATED:20250221T112927Z
LAST-MODIFIED:20250221T124424Z
UID:12961-1761040800-1761044400@gorebridge.org.uk
SUMMARY:Mat Pilates with Lynne
DESCRIPTION:Improve flexibility. Increase your range of movement. Improve posture. Ease still joints and lower back pain. Feel great. \nLynne offers Pilates classes on a Tuesday morning at the Beacon. For more information/booking please go to here Facebook Page: https://www.facebook.com/MatpilateswithLynne/
URL:https://gorebridge.org.uk/upcomingevents/mat-pilates-with-lynne/2025-10-21/
CATEGORIES:Beacon,Events
END:VEVENT
BEGIN:VEVENT
DTSTART;TZID=Europe/London:20251021T180000
DTEND;TZID=Europe/London:20251021T203000
DTSTAMP:20260424T100253
CREATED:20250408T214107Z
LAST-MODIFIED:20250408T214107Z
UID:13524-1761069600-1761078600@gorebridge.org.uk
SUMMARY:Gorebridge Community Gardeners Drop In Session
DESCRIPTION:Volunteers WANTED! \nJoin our weekly community gardening sessions. Cultivate friendships\, learn new skills and be part of our sustainable community! All levels of experience welcome and no seed to sign up\, just pop in and get gardening! \nDrop-ins every Tuesday 6 – 8:30pm \nHot drinks available. \n*Important – drop-in sessions may be cancelled if the weather is rotten. Please contact the Beacon if you would like to confirm if a session is taking place or not. Times change during Winter months.
URL:https://gorebridge.org.uk/upcomingevents/gorebridge-community-gardeners-drop-in-session/2025-10-21/
CATEGORIES:Beacon
END:VEVENT
BEGIN:VEVENT
DTSTART;TZID=Europe/London:20251021T191500
DTEND;TZID=Europe/London:20251021T201500
DTSTAMP:20260424T100253
CREATED:20250221T112927Z
LAST-MODIFIED:20250221T112927Z
UID:13174-1761074100-1761077700@gorebridge.org.uk
SUMMARY:Mat Pilates with Lynne
DESCRIPTION:Improve flexibility. Increase your range of movement. Improve posture. Ease still joints and lower back pain. Feel great. \nLynne offers Pilates classes on a Tuesday morning at the Beacon. For more information/booking please go to here Facebook Page: https://www.facebook.com/MatpilateswithLynne/
URL:https://gorebridge.org.uk/upcomingevents/mat-pilates-with-lynne/2025-10-21/
CATEGORIES:Beacon,Events
END:VEVENT
BEGIN:VEVENT
DTSTART;TZID=Europe/London:20251022T191500
DTEND;TZID=Europe/London:20251022T201500
DTSTAMP:20260424T100253
CREATED:20250221T112927Z
LAST-MODIFIED:20250221T112927Z
UID:13175-1761160500-1761164100@gorebridge.org.uk
SUMMARY:Mat Pilates with Lynne
DESCRIPTION:Improve flexibility. Increase your range of movement. Improve posture. Ease still joints and lower back pain. Feel great. \nLynne offers Pilates classes on a Tuesday morning at the Beacon. For more information/booking please go to here Facebook Page: https://www.facebook.com/MatpilateswithLynne/
URL:https://gorebridge.org.uk/upcomingevents/mat-pilates-with-lynne/2025-10-22/
CATEGORIES:Beacon,Events
END:VEVENT
BEGIN:VEVENT
DTSTART;TZID=Europe/London:20251023T103000
DTEND;TZID=Europe/London:20251023T113000
DTSTAMP:20260424T100253
CREATED:20210511T104331Z
LAST-MODIFIED:20210511T104331Z
UID:12863-1761215400-1761219000@gorebridge.org.uk
SUMMARY:Baby Massage (Claire Houston)
DESCRIPTION:[External User of Beacon] \nClaire Houston runs Baby Massage classes at the Beacon on a Thursday morning. Please contact her via her Facebook page to book/check dates https://www.facebook.com/clairehoustonmassageandyoga/
URL:https://gorebridge.org.uk/upcomingevents/baby-massage-claire-houston/2025-10-23/
LOCATION:Gorebridge Beacon
CATEGORIES:Beacon,Events
END:VEVENT
BEGIN:VEVENT
DTSTART;TZID=Europe/London:20251023T173000
DTEND;TZID=Europe/London:20251023T210000
DTSTAMP:20260424T100253
CREATED:20250221T121807Z
LAST-MODIFIED:20250221T121807Z
UID:13064-1761240600-1761253200@gorebridge.org.uk
SUMMARY:Judo Heriot Wado-Kai
DESCRIPTION:Judo at the Beacon Monday and Thursday evenings. \nJuniors 5 – 8 years 5:30 – 6:30pm \nJuniors 9 – 12 years 6:30 – 7:30pm \nAdults 7:30 – 9:00pm \nFor more information please contact Paul Conner at heriotwadokai(at)gmail.com or call 07989 427390
URL:https://gorebridge.org.uk/upcomingevents/judo-heriot-wado-kai/2025-10-23/
LOCATION:Gorebridge Beacon
CATEGORIES:Beacon,Events
END:VEVENT
BEGIN:VEVENT
DTSTART;TZID=Europe/London:20251025T090000
DTEND;TZID=Europe/London:20251025T120000
DTSTAMP:20260424T100253
CREATED:20250221T133434Z
LAST-MODIFIED:20250221T133434Z
UID:13395-1761382800-1761393600@gorebridge.org.uk
SUMMARY:Judo
DESCRIPTION:Sportif Judo aim is to create a friendly\, positive environment for people to learn judo and ultimately to create confident\, respectful and skillful judo players and athletes. Sportif Judo’s club moto is “Judo builds people” and the entire ethos and development of Sportif is built around this simple philosophy. Children’s classes run at the Beacon on a Saturday morning. For more information please contact Hanna on Mbl: 07907 308876
URL:https://gorebridge.org.uk/upcomingevents/judo/2025-10-25/
CATEGORIES:Beacon,Events
END:VEVENT
BEGIN:VEVENT
DTSTART;TZID=Europe/London:20251027T173000
DTEND;TZID=Europe/London:20251027T210000
DTSTAMP:20260424T100253
CREATED:20250221T121807Z
LAST-MODIFIED:20250221T121807Z
UID:13065-1761586200-1761598800@gorebridge.org.uk
SUMMARY:Judo Heriot Wado-Kai
DESCRIPTION:Judo at the Beacon Monday and Thursday evenings. \nJuniors 5 – 8 years 5:30 – 6:30pm \nJuniors 9 – 12 years 6:30 – 7:30pm \nAdults 7:30 – 9:00pm \nFor more information please contact Paul Conner at heriotwadokai(at)gmail.com or call 07989 427390
URL:https://gorebridge.org.uk/upcomingevents/judo-heriot-wado-kai/2025-10-27/
LOCATION:Gorebridge Beacon
CATEGORIES:Beacon,Events
END:VEVENT
BEGIN:VEVENT
DTSTART;TZID=Europe/London:20251028T100000
DTEND;TZID=Europe/London:20251028T110000
DTSTAMP:20260424T100253
CREATED:20250221T112927Z
LAST-MODIFIED:20250221T124427Z
UID:12962-1761645600-1761649200@gorebridge.org.uk
SUMMARY:Mat Pilates with Lynne
DESCRIPTION:Improve flexibility. Increase your range of movement. Improve posture. Ease still joints and lower back pain. Feel great. \nLynne offers Pilates classes on a Tuesday morning at the Beacon. For more information/booking please go to here Facebook Page: https://www.facebook.com/MatpilateswithLynne/
URL:https://gorebridge.org.uk/upcomingevents/mat-pilates-with-lynne/2025-10-28/
CATEGORIES:Beacon,Events
END:VEVENT
BEGIN:VEVENT
DTSTART;TZID=Europe/London:20251028T100000
DTEND;TZID=Europe/London:20251028T120000
DTSTAMP:20260424T100253
CREATED:20250221T123954Z
LAST-MODIFIED:20250221T124722Z
UID:13101-1761645600-1761652800@gorebridge.org.uk
SUMMARY:FUSE Networking
DESCRIPTION:Are you a local business woman? Yes? A warm invite is for you from Kirsty and Catherine of FUSE Networking.\n\n\n\nHeld on the last Tuesday morning and Wednesday evening of every month in the lovely Beacon in Gorebridge.\n\nThey provide the perfect environment to have a good networking natter and to spread the word about your business.\n\n\nPM us for more info. For more information please visit their Facebook Page here.
URL:https://gorebridge.org.uk/upcomingevents/fuse-networking/2025-10-28/
CATEGORIES:Beacon,Events
END:VEVENT
BEGIN:VEVENT
DTSTART;TZID=Europe/London:20251028T180000
DTEND;TZID=Europe/London:20251028T203000
DTSTAMP:20260424T100253
CREATED:20250408T214107Z
LAST-MODIFIED:20250408T214107Z
UID:13525-1761674400-1761683400@gorebridge.org.uk
SUMMARY:Gorebridge Community Gardeners Drop In Session
DESCRIPTION:Volunteers WANTED! \nJoin our weekly community gardening sessions. Cultivate friendships\, learn new skills and be part of our sustainable community! All levels of experience welcome and no seed to sign up\, just pop in and get gardening! \nDrop-ins every Tuesday 6 – 8:30pm \nHot drinks available. \n*Important – drop-in sessions may be cancelled if the weather is rotten. Please contact the Beacon if you would like to confirm if a session is taking place or not. Times change during Winter months.
URL:https://gorebridge.org.uk/upcomingevents/gorebridge-community-gardeners-drop-in-session/2025-10-28/
CATEGORIES:Beacon
END:VEVENT
BEGIN:VEVENT
DTSTART;TZID=Europe/London:20251028T191500
DTEND;TZID=Europe/London:20251028T201500
DTSTAMP:20260424T100253
CREATED:20250221T112927Z
LAST-MODIFIED:20250221T112927Z
UID:13176-1761678900-1761682500@gorebridge.org.uk
SUMMARY:Mat Pilates with Lynne
DESCRIPTION:Improve flexibility. Increase your range of movement. Improve posture. Ease still joints and lower back pain. Feel great. \nLynne offers Pilates classes on a Tuesday morning at the Beacon. For more information/booking please go to here Facebook Page: https://www.facebook.com/MatpilateswithLynne/
URL:https://gorebridge.org.uk/upcomingevents/mat-pilates-with-lynne/2025-10-28/
CATEGORIES:Beacon,Events
END:VEVENT
BEGIN:VEVENT
DTSTART;TZID=Europe/London:20251029T190000
DTEND;TZID=Europe/London:20251029T210000
DTSTAMP:20260424T100253
CREATED:20250221T123954Z
LAST-MODIFIED:20250221T124725Z
UID:13102-1761764400-1761771600@gorebridge.org.uk
SUMMARY:FUSE Networking
DESCRIPTION:Are you a local business woman? Yes? A warm invite is for you from Kirsty and Catherine of FUSE Networking.\n\n\n\nHeld on the last Tuesday morning and Wednesday evening of every month in the lovely Beacon in Gorebridge.\n\nThey provide the perfect environment to have a good networking natter and to spread the word about your business.\n\n\nPM us for more info. For more information please visit their Facebook Page here.
URL:https://gorebridge.org.uk/upcomingevents/fuse-networking/2025-10-29/
CATEGORIES:Beacon,Events
END:VEVENT
BEGIN:VEVENT
DTSTART;TZID=Europe/London:20251029T191500
DTEND;TZID=Europe/London:20251029T201500
DTSTAMP:20260424T100253
CREATED:20250221T112927Z
LAST-MODIFIED:20250221T112927Z
UID:13177-1761765300-1761768900@gorebridge.org.uk
SUMMARY:Mat Pilates with Lynne
DESCRIPTION:Improve flexibility. Increase your range of movement. Improve posture. Ease still joints and lower back pain. Feel great. \nLynne offers Pilates classes on a Tuesday morning at the Beacon. For more information/booking please go to here Facebook Page: https://www.facebook.com/MatpilateswithLynne/
URL:https://gorebridge.org.uk/upcomingevents/mat-pilates-with-lynne/2025-10-29/
CATEGORIES:Beacon,Events
END:VEVENT
BEGIN:VEVENT
DTSTART;TZID=Europe/London:20251030T103000
DTEND;TZID=Europe/London:20251030T113000
DTSTAMP:20260424T100253
CREATED:20210511T104331Z
LAST-MODIFIED:20210511T104331Z
UID:12864-1761820200-1761823800@gorebridge.org.uk
SUMMARY:Baby Massage (Claire Houston)
DESCRIPTION:[External User of Beacon] \nClaire Houston runs Baby Massage classes at the Beacon on a Thursday morning. Please contact her via her Facebook page to book/check dates https://www.facebook.com/clairehoustonmassageandyoga/
URL:https://gorebridge.org.uk/upcomingevents/baby-massage-claire-houston/2025-10-30/
LOCATION:Gorebridge Beacon
CATEGORIES:Beacon,Events
END:VEVENT
BEGIN:VEVENT
DTSTART;TZID=Europe/London:20251030T173000
DTEND;TZID=Europe/London:20251030T210000
DTSTAMP:20260424T100253
CREATED:20250221T121807Z
LAST-MODIFIED:20250221T121807Z
UID:13066-1761845400-1761858000@gorebridge.org.uk
SUMMARY:Judo Heriot Wado-Kai
DESCRIPTION:Judo at the Beacon Monday and Thursday evenings. \nJuniors 5 – 8 years 5:30 – 6:30pm \nJuniors 9 – 12 years 6:30 – 7:30pm \nAdults 7:30 – 9:00pm \nFor more information please contact Paul Conner at heriotwadokai(at)gmail.com or call 07989 427390
URL:https://gorebridge.org.uk/upcomingevents/judo-heriot-wado-kai/2025-10-30/
LOCATION:Gorebridge Beacon
CATEGORIES:Beacon,Events
END:VEVENT
BEGIN:VEVENT
DTSTART;TZID=Europe/London:20251101T090000
DTEND;TZID=Europe/London:20251101T120000
DTSTAMP:20260424T100253
CREATED:20250221T133434Z
LAST-MODIFIED:20250221T133434Z
UID:13396-1761987600-1761998400@gorebridge.org.uk
SUMMARY:Judo
DESCRIPTION:Sportif Judo aim is to create a friendly\, positive environment for people to learn judo and ultimately to create confident\, respectful and skillful judo players and athletes. Sportif Judo’s club moto is “Judo builds people” and the entire ethos and development of Sportif is built around this simple philosophy. Children’s classes run at the Beacon on a Saturday morning. For more information please contact Hanna on Mbl: 07907 308876
URL:https://gorebridge.org.uk/upcomingevents/judo/2025-11-01/
CATEGORIES:Beacon,Events
END:VEVENT
BEGIN:VEVENT
DTSTART;TZID=Europe/London:20251103T173000
DTEND;TZID=Europe/London:20251103T210000
DTSTAMP:20260424T100253
CREATED:20250221T121807Z
LAST-MODIFIED:20250221T121807Z
UID:13067-1762191000-1762203600@gorebridge.org.uk
SUMMARY:Judo Heriot Wado-Kai
DESCRIPTION:Judo at the Beacon Monday and Thursday evenings. \nJuniors 5 – 8 years 5:30 – 6:30pm \nJuniors 9 – 12 years 6:30 – 7:30pm \nAdults 7:30 – 9:00pm \nFor more information please contact Paul Conner at heriotwadokai(at)gmail.com or call 07989 427390
URL:https://gorebridge.org.uk/upcomingevents/judo-heriot-wado-kai/2025-11-03/
LOCATION:Gorebridge Beacon
CATEGORIES:Beacon,Events
END:VEVENT
END:VCALENDAR