BEGIN:VCALENDAR
VERSION:2.0
PRODID:-//Gorebridge Community Development Trust - ECPv6.15.20//NONSGML v1.0//EN
CALSCALE:GREGORIAN
METHOD:PUBLISH
X-WR-CALNAME:Gorebridge Community Development Trust
X-ORIGINAL-URL:https://gorebridge.org.uk
X-WR-CALDESC:Events for Gorebridge Community Development Trust
REFRESH-INTERVAL;VALUE=DURATION:PT1H
X-Robots-Tag:noindex
X-PUBLISHED-TTL:PT1H
BEGIN:VTIMEZONE
TZID:Europe/London
BEGIN:DAYLIGHT
TZOFFSETFROM:+0000
TZOFFSETTO:+0100
TZNAME:BST
DTSTART:20170326T010000
END:DAYLIGHT
BEGIN:STANDARD
TZOFFSETFROM:+0100
TZOFFSETTO:+0000
TZNAME:GMT
DTSTART:20171029T010000
END:STANDARD
BEGIN:DAYLIGHT
TZOFFSETFROM:+0000
TZOFFSETTO:+0100
TZNAME:BST
DTSTART:20180325T010000
END:DAYLIGHT
BEGIN:STANDARD
TZOFFSETFROM:+0100
TZOFFSETTO:+0000
TZNAME:GMT
DTSTART:20181028T010000
END:STANDARD
BEGIN:DAYLIGHT
TZOFFSETFROM:+0000
TZOFFSETTO:+0100
TZNAME:BST
DTSTART:20190331T010000
END:DAYLIGHT
BEGIN:STANDARD
TZOFFSETFROM:+0100
TZOFFSETTO:+0000
TZNAME:GMT
DTSTART:20191027T010000
END:STANDARD
END:VTIMEZONE
BEGIN:VEVENT
DTSTART;TZID=Europe/London:20180314T100000
DTEND;TZID=Europe/London:20180314T160000
DTSTAMP:20260424T043433
CREATED:20180122T111104Z
LAST-MODIFIED:20180223T154920Z
UID:1922-1521021600-1521043200@gorebridge.org.uk
SUMMARY:Bio Fest 2018
DESCRIPTION:The Railway Station Adopters are celebrating the importance of local plants\, animals\, birds and insects with a day of workshops and activities for all ages. Taking part are Greening Gorebridge\, RSPB\, Scottish Wildlife Trust and the Bat Conservation Trust. \nMake wildflower seed bombs\, help build bat boxes\, and be entertained by Dr Bunheads amazing climate action puppet show with surprises in store. Refreshments provided. \nTo book a session please contact Gorebridge Development Trust office@gorebridge.org.uk call 01875 232202 \nSharing Stories\, Sharing Heritage: Two weeks of workshops\, talks and events for all are planned to celebrate the completion of the Conservation Area Restoration Project Gorebridge (2103-2018) sharing and exploring the rich and diverse heritage of Gorebridge.
URL:https://gorebridge.org.uk/upcomingevents/bio-fest-2018/
CATEGORIES:Biodiversity
END:VEVENT
END:VCALENDAR