BEGIN:VCALENDAR
VERSION:2.0
PRODID:-//Gorebridge Community Development Trust - ECPv6.15.20//NONSGML v1.0//EN
CALSCALE:GREGORIAN
METHOD:PUBLISH
X-WR-CALNAME:Gorebridge Community Development Trust
X-ORIGINAL-URL:https://gorebridge.org.uk
X-WR-CALDESC:Events for Gorebridge Community Development Trust
REFRESH-INTERVAL;VALUE=DURATION:PT1H
X-Robots-Tag:noindex
X-PUBLISHED-TTL:PT1H
BEGIN:VTIMEZONE
TZID:Europe/London
BEGIN:DAYLIGHT
TZOFFSETFROM:+0000
TZOFFSETTO:+0100
TZNAME:BST
DTSTART:20150329T010000
END:DAYLIGHT
BEGIN:STANDARD
TZOFFSETFROM:+0100
TZOFFSETTO:+0000
TZNAME:GMT
DTSTART:20151025T010000
END:STANDARD
BEGIN:DAYLIGHT
TZOFFSETFROM:+0000
TZOFFSETTO:+0100
TZNAME:BST
DTSTART:20160327T010000
END:DAYLIGHT
BEGIN:STANDARD
TZOFFSETFROM:+0100
TZOFFSETTO:+0000
TZNAME:GMT
DTSTART:20161030T010000
END:STANDARD
BEGIN:DAYLIGHT
TZOFFSETFROM:+0000
TZOFFSETTO:+0100
TZNAME:BST
DTSTART:20170326T010000
END:DAYLIGHT
BEGIN:STANDARD
TZOFFSETFROM:+0100
TZOFFSETTO:+0000
TZNAME:GMT
DTSTART:20171029T010000
END:STANDARD
BEGIN:DAYLIGHT
TZOFFSETFROM:+0000
TZOFFSETTO:+0100
TZNAME:BST
DTSTART:20180325T010000
END:DAYLIGHT
BEGIN:STANDARD
TZOFFSETFROM:+0100
TZOFFSETTO:+0000
TZNAME:GMT
DTSTART:20181028T010000
END:STANDARD
END:VTIMEZONE
BEGIN:VEVENT
DTSTART;TZID=Europe/London:20170628T133000
DTEND;TZID=Europe/London:20170628T153000
DTSTAMP:20260423T202741
CREATED:20170531T213306Z
LAST-MODIFIED:20170531T213306Z
UID:1466-1498656600-1498663800@gorebridge.org.uk
SUMMARY:Crafternoon
DESCRIPTION:Join us every Wednesday 1.30pm – 3.30pm drop-in. Bring your own project or join in with a group activity. Kitty for tea\, coffee and baked goods. All ages and crafting abilities welcome. \nFor further information please contact the Trust office on 01875 823202\, or just pop in.
URL:https://gorebridge.org.uk/upcomingevents/crafternoon-4/
CATEGORIES:Crafternoon
END:VEVENT
BEGIN:VEVENT
DTSTART;TZID=Europe/London:20170621T133000
DTEND;TZID=Europe/London:20170621T153000
DTSTAMP:20260423T202741
CREATED:20170531T213117Z
LAST-MODIFIED:20170531T213117Z
UID:1464-1498051800-1498059000@gorebridge.org.uk
SUMMARY:Crafternoon
DESCRIPTION:Join us every Wednesday 1.30pm – 3.30pm drop-in. Bring your own project or join in with a group activity. Kitty for tea\, coffee and baked goods. All ages and crafting abilities welcome. \nFor further information please contact the Trust office on 01875 823202\, or just pop in.
URL:https://gorebridge.org.uk/upcomingevents/crafternoon-3/
CATEGORIES:Crafternoon
END:VEVENT
BEGIN:VEVENT
DTSTART;TZID=Europe/London:20170614T133000
DTEND;TZID=Europe/London:20170614T153000
DTSTAMP:20260423T202741
CREATED:20170531T212915Z
LAST-MODIFIED:20170531T212915Z
UID:1461-1497447000-1497454200@gorebridge.org.uk
SUMMARY:Crafternoon
DESCRIPTION:Join us every Wednesday 1.30pm – 3.30pm drop-in. Bring your own project or join in with a group activity. Kitty for tea\, coffee and baked goods. All ages and crafting abilities welcome. \nFor further information please contact the Trust office on 01875 823202\, or just pop in.
URL:https://gorebridge.org.uk/upcomingevents/crafternoon-2/
CATEGORIES:Crafternoon
END:VEVENT
BEGIN:VEVENT
DTSTART;TZID=Europe/London:20170607T133000
DTEND;TZID=Europe/London:20170607T153000
DTSTAMP:20260423T202741
CREATED:20170531T212638Z
LAST-MODIFIED:20170531T212638Z
UID:1459-1496842200-1496849400@gorebridge.org.uk
SUMMARY:Crafternoon
DESCRIPTION:Join us every Wednesday 1.30pm – 3.30pm drop-in. Bring your own project or join in with a group activity. Kitty for tea\, coffee and baked goods. All ages and crafting abilities welcome.
URL:https://gorebridge.org.uk/upcomingevents/crafternoon/
CATEGORIES:Crafternoon
END:VEVENT
BEGIN:VEVENT
DTSTART;TZID=Europe/London:20161005T133000
DTEND;TZID=Europe/London:20161005T153000
DTSTAMP:20260423T202741
CREATED:20160929T001144Z
LAST-MODIFIED:20160929T003252Z
UID:747-1475674200-1475681400@gorebridge.org.uk
SUMMARY:Crafternoon 5th Oct
DESCRIPTION:We enjoy making things together every Wednesday afternoon from 1.30pm in 58 Main Street\, with tea\, coffee & the occasional cake to get creative juices flowing. \nGorebridge Crafternoon Tea began in the back room of 58 Main Street\, Gorebridge following a trip to West Kilbride\, which inspired a few Gorebridge residents to get together to try out crafting together\, discover unhidden talents and enjoy a good catch up. \nJoin us every Wednesday 1.30pm – 3.30pm drop-in. Bring your own project or join in with a group activity. Kitty for tea\, coffee and baked goods. \nAll ages and crafting abilities welcome.
URL:https://gorebridge.org.uk/upcomingevents/crafternoonoct5/
CATEGORIES:Crafternoon
ATTACH;FMTTYPE=image/png:https://gorebridge.org.uk/wp-content/uploads/2016/09/Crafternoon-Gorebridge-e1531158982834.png
END:VEVENT
BEGIN:VEVENT
DTSTART;TZID=Europe/London:20160928T013000
DTEND;TZID=Europe/London:20160928T153000
DTSTAMP:20260423T202741
CREATED:20160928T015901Z
LAST-MODIFIED:20160928T221434Z
UID:712-1475026200-1475076600@gorebridge.org.uk
SUMMARY:Crafternoon
DESCRIPTION:We enjoy making things together every Wednesday afternoon from 1.30pm in 58 Main Street\, with tea\, coffee & the occasional cake to get creative juices flowing. \nGorebridge Crafternoon Tea began in the back room of 58 Main Street\, Gorebridge following a trip to West Kilbride\, which inspired a few Gorebridge residents to get together to try out crafting together\, discover unhidden talents and enjoy a good catch up. \nJoin us every Wednesday 1.30pm – 3.30pm drop-in. Bring your own project or join in with a group activity. Kitty for tea\, coffee and baked goods. \nAll ages and crafting abilities welcome.
URL:https://gorebridge.org.uk/upcomingevents/crafternoonsept28/
CATEGORIES:Crafternoon
ATTACH;FMTTYPE=image/jpeg:https://gorebridge.org.uk/wp-content/uploads/2016/08/crafternoonposter-scaled.jpg
END:VEVENT
END:VCALENDAR