BEGIN:VCALENDAR
VERSION:2.0
PRODID:-//Gorebridge Community Development Trust - ECPv6.15.20//NONSGML v1.0//EN
CALSCALE:GREGORIAN
METHOD:PUBLISH
X-ORIGINAL-URL:https://gorebridge.org.uk
X-WR-CALDESC:Events for Gorebridge Community Development Trust
REFRESH-INTERVAL;VALUE=DURATION:PT1H
X-Robots-Tag:noindex
X-PUBLISHED-TTL:PT1H
BEGIN:VTIMEZONE
TZID:Europe/London
BEGIN:DAYLIGHT
TZOFFSETFROM:+0000
TZOFFSETTO:+0100
TZNAME:BST
DTSTART:20250330T010000
END:DAYLIGHT
BEGIN:STANDARD
TZOFFSETFROM:+0100
TZOFFSETTO:+0000
TZNAME:GMT
DTSTART:20251026T010000
END:STANDARD
BEGIN:DAYLIGHT
TZOFFSETFROM:+0000
TZOFFSETTO:+0100
TZNAME:BST
DTSTART:20260329T010000
END:DAYLIGHT
BEGIN:STANDARD
TZOFFSETFROM:+0100
TZOFFSETTO:+0000
TZNAME:GMT
DTSTART:20261025T010000
END:STANDARD
BEGIN:DAYLIGHT
TZOFFSETFROM:+0000
TZOFFSETTO:+0100
TZNAME:BST
DTSTART:20270328T010000
END:DAYLIGHT
BEGIN:STANDARD
TZOFFSETFROM:+0100
TZOFFSETTO:+0000
TZNAME:GMT
DTSTART:20271031T010000
END:STANDARD
END:VTIMEZONE
BEGIN:VEVENT
DTSTART;TZID=Europe/London:20260202T090000
DTEND;TZID=Europe/London:20260202T113000
DTSTAMP:20260424T004356
CREATED:20260107T211313Z
LAST-MODIFIED:20260107T232656Z
UID:14585-1770022800-1770031800@gorebridge.org.uk
SUMMARY:Growing Together: Parent and Care Giver Group
DESCRIPTION:As a parent or carer\, you’re the most important person in your child’s world. We’re here to help you enjoy these precious early years with your child. \nRun by parents and care givers\, for parents and care givers. Starting January 2026 at the Beacon. \nThis is an informal community session for adults and young children to come together to socialise\, get and give support\, reduce isolation and provide peer support for parent’s and care givers mental wellbeing. \nCome along and share. Sessions are term time only.
URL:https://gorebridge.org.uk/upcomingevents/growing-together-parent-and-carer-giver-group/2026-02-02/
LOCATION:Gorebridge Beacon
CATEGORIES:Beacon,Family Activities,GCDT
ATTACH;FMTTYPE=image/png:https://gorebridge.org.uk/wp-content/uploads/2026/01/Parents-and-Carer-Givers-Group-2.png
END:VEVENT
BEGIN:VEVENT
DTSTART;TZID=Europe/London:20260206T093000
DTEND;TZID=Europe/London:20260206T120000
DTSTAMP:20260424T004356
CREATED:20240418T083848Z
LAST-MODIFIED:20260217T154857Z
UID:14665-1770370200-1770379200@gorebridge.org.uk
SUMMARY:Friday Play Cafe
DESCRIPTION:Come along to the Beacon Play Cafe! \nThe café will be open and there is a dedicated space for pre-schoolers to play\, we have plenty buggy space and staff will be on hand for a blether.   \nThe café is a great place to meet with other parents/carers\, and make new friends. We have highchairs available and plenty changing facilities. Siblings are more than welcome to come along\, however the play area is really suitable for under 5’s. \nCost: £3 per child. Pay at cafe. \n  \n 
URL:https://gorebridge.org.uk/upcomingevents/friday-play-cafe/2026-02-06/
LOCATION:Gorebridge Beacon
CATEGORIES:Beacon,Events,Family Activities
ATTACH;FMTTYPE=image/png:https://gorebridge.org.uk/wp-content/uploads/2024/04/Play-Cafe-2.png
END:VEVENT
BEGIN:VEVENT
DTSTART;TZID=Europe/London:20260209T090000
DTEND;TZID=Europe/London:20260209T113000
DTSTAMP:20260424T004356
CREATED:20260107T211313Z
LAST-MODIFIED:20260107T232659Z
UID:14586-1770627600-1770636600@gorebridge.org.uk
SUMMARY:Growing Together: Parent and Care Giver Group
DESCRIPTION:As a parent or carer\, you’re the most important person in your child’s world. We’re here to help you enjoy these precious early years with your child. \nRun by parents and care givers\, for parents and care givers. Starting January 2026 at the Beacon. \nThis is an informal community session for adults and young children to come together to socialise\, get and give support\, reduce isolation and provide peer support for parent’s and care givers mental wellbeing. \nCome along and share. Sessions are term time only.
URL:https://gorebridge.org.uk/upcomingevents/growing-together-parent-and-carer-giver-group/2026-02-09/
LOCATION:Gorebridge Beacon
CATEGORIES:Beacon,Family Activities,GCDT
ATTACH;FMTTYPE=image/png:https://gorebridge.org.uk/wp-content/uploads/2026/01/Parents-and-Carer-Givers-Group-2.png
END:VEVENT
BEGIN:VEVENT
DTSTART;TZID=Europe/London:20260213T093000
DTEND;TZID=Europe/London:20260213T120000
DTSTAMP:20260424T004356
CREATED:20240418T083848Z
LAST-MODIFIED:20260217T154900Z
UID:14666-1770975000-1770984000@gorebridge.org.uk
SUMMARY:Friday Play Cafe
DESCRIPTION:Come along to the Beacon Play Cafe! \nThe café will be open and there is a dedicated space for pre-schoolers to play\, we have plenty buggy space and staff will be on hand for a blether.   \nThe café is a great place to meet with other parents/carers\, and make new friends. We have highchairs available and plenty changing facilities. Siblings are more than welcome to come along\, however the play area is really suitable for under 5’s. \nCost: £3 per child. Pay at cafe. \n  \n 
URL:https://gorebridge.org.uk/upcomingevents/friday-play-cafe/2026-02-13/
LOCATION:Gorebridge Beacon
CATEGORIES:Beacon,Events,Family Activities
ATTACH;FMTTYPE=image/png:https://gorebridge.org.uk/wp-content/uploads/2024/04/Play-Cafe-2.png
END:VEVENT
BEGIN:VEVENT
DTSTART;TZID=Europe/London:20260220T093000
DTEND;TZID=Europe/London:20260220T120000
DTSTAMP:20260424T004356
CREATED:20240418T083848Z
LAST-MODIFIED:20260217T154904Z
UID:14667-1771579800-1771588800@gorebridge.org.uk
SUMMARY:Friday Play Cafe
DESCRIPTION:Come along to the Beacon Play Cafe! \nThe café will be open and there is a dedicated space for pre-schoolers to play\, we have plenty buggy space and staff will be on hand for a blether.   \nThe café is a great place to meet with other parents/carers\, and make new friends. We have highchairs available and plenty changing facilities. Siblings are more than welcome to come along\, however the play area is really suitable for under 5’s. \nCost: £3 per child. Pay at cafe. \n  \n 
URL:https://gorebridge.org.uk/upcomingevents/friday-play-cafe/2026-02-20/
LOCATION:Gorebridge Beacon
CATEGORIES:Beacon,Events,Family Activities
ATTACH;FMTTYPE=image/png:https://gorebridge.org.uk/wp-content/uploads/2024/04/Play-Cafe-2.png
END:VEVENT
BEGIN:VEVENT
DTSTART;TZID=Europe/London:20260223T090000
DTEND;TZID=Europe/London:20260223T113000
DTSTAMP:20260424T004356
CREATED:20260107T211313Z
LAST-MODIFIED:20260107T232702Z
UID:14588-1771837200-1771846200@gorebridge.org.uk
SUMMARY:Growing Together: Parent and Care Giver Group
DESCRIPTION:As a parent or carer\, you’re the most important person in your child’s world. We’re here to help you enjoy these precious early years with your child. \nRun by parents and care givers\, for parents and care givers. Starting January 2026 at the Beacon. \nThis is an informal community session for adults and young children to come together to socialise\, get and give support\, reduce isolation and provide peer support for parent’s and care givers mental wellbeing. \nCome along and share. Sessions are term time only.
URL:https://gorebridge.org.uk/upcomingevents/growing-together-parent-and-carer-giver-group/2026-02-23/
LOCATION:Gorebridge Beacon
CATEGORIES:Beacon,Family Activities,GCDT
ATTACH;FMTTYPE=image/png:https://gorebridge.org.uk/wp-content/uploads/2026/01/Parents-and-Carer-Givers-Group-2.png
END:VEVENT
BEGIN:VEVENT
DTSTART;TZID=Europe/London:20260227T093000
DTEND;TZID=Europe/London:20260227T120000
DTSTAMP:20260424T004356
CREATED:20240418T083848Z
LAST-MODIFIED:20260217T154907Z
UID:14668-1772184600-1772193600@gorebridge.org.uk
SUMMARY:Friday Play Cafe
DESCRIPTION:Come along to the Beacon Play Cafe! \nThe café will be open and there is a dedicated space for pre-schoolers to play\, we have plenty buggy space and staff will be on hand for a blether.   \nThe café is a great place to meet with other parents/carers\, and make new friends. We have highchairs available and plenty changing facilities. Siblings are more than welcome to come along\, however the play area is really suitable for under 5’s. \nCost: £3 per child. Pay at cafe. \n  \n 
URL:https://gorebridge.org.uk/upcomingevents/friday-play-cafe/2026-02-27/
LOCATION:Gorebridge Beacon
CATEGORIES:Beacon,Events,Family Activities
ATTACH;FMTTYPE=image/png:https://gorebridge.org.uk/wp-content/uploads/2024/04/Play-Cafe-2.png
END:VEVENT
END:VCALENDAR