BEGIN:VCALENDAR
VERSION:2.0
PRODID:-//Gorebridge Community Development Trust - ECPv6.15.20//NONSGML v1.0//EN
CALSCALE:GREGORIAN
METHOD:PUBLISH
X-ORIGINAL-URL:https://gorebridge.org.uk
X-WR-CALDESC:Events for Gorebridge Community Development Trust
REFRESH-INTERVAL;VALUE=DURATION:PT1H
X-Robots-Tag:noindex
X-PUBLISHED-TTL:PT1H
BEGIN:VTIMEZONE
TZID:Europe/London
BEGIN:DAYLIGHT
TZOFFSETFROM:+0000
TZOFFSETTO:+0100
TZNAME:BST
DTSTART:20250330T010000
END:DAYLIGHT
BEGIN:STANDARD
TZOFFSETFROM:+0100
TZOFFSETTO:+0000
TZNAME:GMT
DTSTART:20251026T010000
END:STANDARD
BEGIN:DAYLIGHT
TZOFFSETFROM:+0000
TZOFFSETTO:+0100
TZNAME:BST
DTSTART:20260329T010000
END:DAYLIGHT
BEGIN:STANDARD
TZOFFSETFROM:+0100
TZOFFSETTO:+0000
TZNAME:GMT
DTSTART:20261025T010000
END:STANDARD
BEGIN:DAYLIGHT
TZOFFSETFROM:+0000
TZOFFSETTO:+0100
TZNAME:BST
DTSTART:20270328T010000
END:DAYLIGHT
BEGIN:STANDARD
TZOFFSETFROM:+0100
TZOFFSETTO:+0000
TZNAME:GMT
DTSTART:20271031T010000
END:STANDARD
END:VTIMEZONE
BEGIN:VEVENT
DTSTART;TZID=Europe/London:20260302T090000
DTEND;TZID=Europe/London:20260302T113000
DTSTAMP:20260424T005126
CREATED:20260107T211313Z
LAST-MODIFIED:20260107T232705Z
UID:14589-1772442000-1772451000@gorebridge.org.uk
SUMMARY:Growing Together: Parent and Care Giver Group
DESCRIPTION:As a parent or carer\, you’re the most important person in your child’s world. We’re here to help you enjoy these precious early years with your child. \nRun by parents and care givers\, for parents and care givers. Starting January 2026 at the Beacon. \nThis is an informal community session for adults and young children to come together to socialise\, get and give support\, reduce isolation and provide peer support for parent’s and care givers mental wellbeing. \nCome along and share. Sessions are term time only.
URL:https://gorebridge.org.uk/upcomingevents/growing-together-parent-and-carer-giver-group/2026-03-02/
LOCATION:Gorebridge Beacon
CATEGORIES:Beacon,Family Activities,GCDT
ATTACH;FMTTYPE=image/png:https://gorebridge.org.uk/wp-content/uploads/2026/01/Parents-and-Carer-Givers-Group-2.png
END:VEVENT
BEGIN:VEVENT
DTSTART;TZID=Europe/London:20260306T093000
DTEND;TZID=Europe/London:20260306T120000
DTSTAMP:20260424T005126
CREATED:20240418T083848Z
LAST-MODIFIED:20260217T154910Z
UID:14669-1772789400-1772798400@gorebridge.org.uk
SUMMARY:Friday Play Cafe
DESCRIPTION:Come along to the Beacon Play Cafe! \nThe café will be open and there is a dedicated space for pre-schoolers to play\, we have plenty buggy space and staff will be on hand for a blether.   \nThe café is a great place to meet with other parents/carers\, and make new friends. We have highchairs available and plenty changing facilities. Siblings are more than welcome to come along\, however the play area is really suitable for under 5’s. \nCost: £3 per child. Pay at cafe. \n  \n 
URL:https://gorebridge.org.uk/upcomingevents/friday-play-cafe/2026-03-06/
LOCATION:Gorebridge Beacon
CATEGORIES:Beacon,Events,Family Activities
ATTACH;FMTTYPE=image/png:https://gorebridge.org.uk/wp-content/uploads/2024/04/Play-Cafe-2.png
END:VEVENT
BEGIN:VEVENT
DTSTART;TZID=Europe/London:20260309T090000
DTEND;TZID=Europe/London:20260309T113000
DTSTAMP:20260424T005126
CREATED:20260107T211313Z
LAST-MODIFIED:20260107T232708Z
UID:14590-1773046800-1773055800@gorebridge.org.uk
SUMMARY:Growing Together: Parent and Care Giver Group
DESCRIPTION:As a parent or carer\, you’re the most important person in your child’s world. We’re here to help you enjoy these precious early years with your child. \nRun by parents and care givers\, for parents and care givers. Starting January 2026 at the Beacon. \nThis is an informal community session for adults and young children to come together to socialise\, get and give support\, reduce isolation and provide peer support for parent’s and care givers mental wellbeing. \nCome along and share. Sessions are term time only.
URL:https://gorebridge.org.uk/upcomingevents/growing-together-parent-and-carer-giver-group/2026-03-09/
LOCATION:Gorebridge Beacon
CATEGORIES:Beacon,Family Activities,GCDT
ATTACH;FMTTYPE=image/png:https://gorebridge.org.uk/wp-content/uploads/2026/01/Parents-and-Carer-Givers-Group-2.png
END:VEVENT
BEGIN:VEVENT
DTSTART;TZID=Europe/London:20260313T093000
DTEND;TZID=Europe/London:20260313T120000
DTSTAMP:20260424T005126
CREATED:20240418T083848Z
LAST-MODIFIED:20260217T154914Z
UID:14670-1773394200-1773403200@gorebridge.org.uk
SUMMARY:Friday Play Cafe
DESCRIPTION:Come along to the Beacon Play Cafe! \nThe café will be open and there is a dedicated space for pre-schoolers to play\, we have plenty buggy space and staff will be on hand for a blether.   \nThe café is a great place to meet with other parents/carers\, and make new friends. We have highchairs available and plenty changing facilities. Siblings are more than welcome to come along\, however the play area is really suitable for under 5’s. \nCost: £3 per child. Pay at cafe. \n  \n 
URL:https://gorebridge.org.uk/upcomingevents/friday-play-cafe/2026-03-13/
LOCATION:Gorebridge Beacon
CATEGORIES:Beacon,Events,Family Activities
ATTACH;FMTTYPE=image/png:https://gorebridge.org.uk/wp-content/uploads/2024/04/Play-Cafe-2.png
END:VEVENT
BEGIN:VEVENT
DTSTART;TZID=Europe/London:20260316T090000
DTEND;TZID=Europe/London:20260316T113000
DTSTAMP:20260424T005126
CREATED:20260107T211313Z
LAST-MODIFIED:20260107T232712Z
UID:14591-1773651600-1773660600@gorebridge.org.uk
SUMMARY:Growing Together: Parent and Care Giver Group
DESCRIPTION:As a parent or carer\, you’re the most important person in your child’s world. We’re here to help you enjoy these precious early years with your child. \nRun by parents and care givers\, for parents and care givers. Starting January 2026 at the Beacon. \nThis is an informal community session for adults and young children to come together to socialise\, get and give support\, reduce isolation and provide peer support for parent’s and care givers mental wellbeing. \nCome along and share. Sessions are term time only.
URL:https://gorebridge.org.uk/upcomingevents/growing-together-parent-and-carer-giver-group/2026-03-16/
LOCATION:Gorebridge Beacon
CATEGORIES:Beacon,Family Activities,GCDT
ATTACH;FMTTYPE=image/png:https://gorebridge.org.uk/wp-content/uploads/2026/01/Parents-and-Carer-Givers-Group-2.png
END:VEVENT
BEGIN:VEVENT
DTSTART;TZID=Europe/London:20260320T093000
DTEND;TZID=Europe/London:20260320T120000
DTSTAMP:20260424T005126
CREATED:20240418T083848Z
LAST-MODIFIED:20260217T154917Z
UID:14671-1773999000-1774008000@gorebridge.org.uk
SUMMARY:Friday Play Cafe
DESCRIPTION:Come along to the Beacon Play Cafe! \nThe café will be open and there is a dedicated space for pre-schoolers to play\, we have plenty buggy space and staff will be on hand for a blether.   \nThe café is a great place to meet with other parents/carers\, and make new friends. We have highchairs available and plenty changing facilities. Siblings are more than welcome to come along\, however the play area is really suitable for under 5’s. \nCost: £3 per child. Pay at cafe. \n  \n 
URL:https://gorebridge.org.uk/upcomingevents/friday-play-cafe/2026-03-20/
LOCATION:Gorebridge Beacon
CATEGORIES:Beacon,Events,Family Activities
ATTACH;FMTTYPE=image/png:https://gorebridge.org.uk/wp-content/uploads/2024/04/Play-Cafe-2.png
END:VEVENT
BEGIN:VEVENT
DTSTART;TZID=Europe/London:20260323T090000
DTEND;TZID=Europe/London:20260323T113000
DTSTAMP:20260424T005126
CREATED:20260107T211313Z
LAST-MODIFIED:20260107T232715Z
UID:14592-1774256400-1774265400@gorebridge.org.uk
SUMMARY:Growing Together: Parent and Care Giver Group
DESCRIPTION:As a parent or carer\, you’re the most important person in your child’s world. We’re here to help you enjoy these precious early years with your child. \nRun by parents and care givers\, for parents and care givers. Starting January 2026 at the Beacon. \nThis is an informal community session for adults and young children to come together to socialise\, get and give support\, reduce isolation and provide peer support for parent’s and care givers mental wellbeing. \nCome along and share. Sessions are term time only.
URL:https://gorebridge.org.uk/upcomingevents/growing-together-parent-and-carer-giver-group/2026-03-23/
LOCATION:Gorebridge Beacon
CATEGORIES:Beacon,Family Activities,GCDT
ATTACH;FMTTYPE=image/png:https://gorebridge.org.uk/wp-content/uploads/2026/01/Parents-and-Carer-Givers-Group-2.png
END:VEVENT
BEGIN:VEVENT
DTSTART;TZID=Europe/London:20260327T093000
DTEND;TZID=Europe/London:20260327T120000
DTSTAMP:20260424T005126
CREATED:20240418T083848Z
LAST-MODIFIED:20260217T154926Z
UID:14672-1774603800-1774612800@gorebridge.org.uk
SUMMARY:Friday Play Cafe
DESCRIPTION:Come along to the Beacon Play Cafe! \nThe café will be open and there is a dedicated space for pre-schoolers to play\, we have plenty buggy space and staff will be on hand for a blether.   \nThe café is a great place to meet with other parents/carers\, and make new friends. We have highchairs available and plenty changing facilities. Siblings are more than welcome to come along\, however the play area is really suitable for under 5’s. \nCost: £3 per child. Pay at cafe. \n  \n 
URL:https://gorebridge.org.uk/upcomingevents/friday-play-cafe/2026-03-27/
LOCATION:Gorebridge Beacon
CATEGORIES:Beacon,Events,Family Activities
ATTACH;FMTTYPE=image/png:https://gorebridge.org.uk/wp-content/uploads/2024/04/Play-Cafe-2.png
END:VEVENT
BEGIN:VEVENT
DTSTART;TZID=Europe/London:20260330T090000
DTEND;TZID=Europe/London:20260330T113000
DTSTAMP:20260424T005126
CREATED:20260107T211313Z
LAST-MODIFIED:20260107T232718Z
UID:14593-1774861200-1774870200@gorebridge.org.uk
SUMMARY:Growing Together: Parent and Care Giver Group
DESCRIPTION:As a parent or carer\, you’re the most important person in your child’s world. We’re here to help you enjoy these precious early years with your child. \nRun by parents and care givers\, for parents and care givers. Starting January 2026 at the Beacon. \nThis is an informal community session for adults and young children to come together to socialise\, get and give support\, reduce isolation and provide peer support for parent’s and care givers mental wellbeing. \nCome along and share. Sessions are term time only.
URL:https://gorebridge.org.uk/upcomingevents/growing-together-parent-and-carer-giver-group/2026-03-30/
LOCATION:Gorebridge Beacon
CATEGORIES:Beacon,Family Activities,GCDT
ATTACH;FMTTYPE=image/png:https://gorebridge.org.uk/wp-content/uploads/2026/01/Parents-and-Carer-Givers-Group-2.png
END:VEVENT
END:VCALENDAR