BEGIN:VCALENDAR
VERSION:2.0
PRODID:-//Gorebridge Community Development Trust - ECPv6.15.20//NONSGML v1.0//EN
CALSCALE:GREGORIAN
METHOD:PUBLISH
X-ORIGINAL-URL:https://gorebridge.org.uk
X-WR-CALDESC:Events for Gorebridge Community Development Trust
REFRESH-INTERVAL;VALUE=DURATION:PT1H
X-Robots-Tag:noindex
X-PUBLISHED-TTL:PT1H
BEGIN:VTIMEZONE
TZID:Europe/London
BEGIN:DAYLIGHT
TZOFFSETFROM:+0000
TZOFFSETTO:+0100
TZNAME:BST
DTSTART:20250330T010000
END:DAYLIGHT
BEGIN:STANDARD
TZOFFSETFROM:+0100
TZOFFSETTO:+0000
TZNAME:GMT
DTSTART:20251026T010000
END:STANDARD
BEGIN:DAYLIGHT
TZOFFSETFROM:+0000
TZOFFSETTO:+0100
TZNAME:BST
DTSTART:20260329T010000
END:DAYLIGHT
BEGIN:STANDARD
TZOFFSETFROM:+0100
TZOFFSETTO:+0000
TZNAME:GMT
DTSTART:20261025T010000
END:STANDARD
BEGIN:DAYLIGHT
TZOFFSETFROM:+0000
TZOFFSETTO:+0100
TZNAME:BST
DTSTART:20270328T010000
END:DAYLIGHT
BEGIN:STANDARD
TZOFFSETFROM:+0100
TZOFFSETTO:+0000
TZNAME:GMT
DTSTART:20271031T010000
END:STANDARD
END:VTIMEZONE
BEGIN:VEVENT
DTSTART;TZID=Europe/London:20260501T093000
DTEND;TZID=Europe/London:20260501T120000
DTSTAMP:20260423T231558
CREATED:20240418T083848Z
LAST-MODIFIED:20260217T154955Z
UID:14677-1777627800-1777636800@gorebridge.org.uk
SUMMARY:Friday Play Cafe
DESCRIPTION:Come along to the Beacon Play Cafe! \nThe café will be open and there is a dedicated space for pre-schoolers to play\, we have plenty buggy space and staff will be on hand for a blether.   \nThe café is a great place to meet with other parents/carers\, and make new friends. We have highchairs available and plenty changing facilities. Siblings are more than welcome to come along\, however the play area is really suitable for under 5’s. \nCost: £3 per child. Pay at cafe. \n  \n 
URL:https://gorebridge.org.uk/upcomingevents/friday-play-cafe/2026-05-01/
LOCATION:Gorebridge Beacon
CATEGORIES:Beacon,Events,Family Activities
ATTACH;FMTTYPE=image/png:https://gorebridge.org.uk/wp-content/uploads/2024/04/Play-Cafe-2.png
END:VEVENT
BEGIN:VEVENT
DTSTART;TZID=Europe/London:20260508T093000
DTEND;TZID=Europe/London:20260508T120000
DTSTAMP:20260423T231558
CREATED:20240418T083848Z
LAST-MODIFIED:20260217T154958Z
UID:14678-1778232600-1778241600@gorebridge.org.uk
SUMMARY:Friday Play Cafe
DESCRIPTION:Come along to the Beacon Play Cafe! \nThe café will be open and there is a dedicated space for pre-schoolers to play\, we have plenty buggy space and staff will be on hand for a blether.   \nThe café is a great place to meet with other parents/carers\, and make new friends. We have highchairs available and plenty changing facilities. Siblings are more than welcome to come along\, however the play area is really suitable for under 5’s. \nCost: £3 per child. Pay at cafe. \n  \n 
URL:https://gorebridge.org.uk/upcomingevents/friday-play-cafe/2026-05-08/
LOCATION:Gorebridge Beacon
CATEGORIES:Beacon,Events,Family Activities
ATTACH;FMTTYPE=image/png:https://gorebridge.org.uk/wp-content/uploads/2024/04/Play-Cafe-2.png
END:VEVENT
BEGIN:VEVENT
DTSTART;TZID=Europe/London:20260515T093000
DTEND;TZID=Europe/London:20260515T120000
DTSTAMP:20260423T231558
CREATED:20240418T083848Z
LAST-MODIFIED:20260217T155002Z
UID:14679-1778837400-1778846400@gorebridge.org.uk
SUMMARY:Friday Play Cafe
DESCRIPTION:Come along to the Beacon Play Cafe! \nThe café will be open and there is a dedicated space for pre-schoolers to play\, we have plenty buggy space and staff will be on hand for a blether.   \nThe café is a great place to meet with other parents/carers\, and make new friends. We have highchairs available and plenty changing facilities. Siblings are more than welcome to come along\, however the play area is really suitable for under 5’s. \nCost: £3 per child. Pay at cafe. \n  \n 
URL:https://gorebridge.org.uk/upcomingevents/friday-play-cafe/2026-05-15/
LOCATION:Gorebridge Beacon
CATEGORIES:Beacon,Events,Family Activities
ATTACH;FMTTYPE=image/png:https://gorebridge.org.uk/wp-content/uploads/2024/04/Play-Cafe-2.png
END:VEVENT
BEGIN:VEVENT
DTSTART;TZID=Europe/London:20260522T093000
DTEND;TZID=Europe/London:20260522T120000
DTSTAMP:20260423T231558
CREATED:20240418T083848Z
LAST-MODIFIED:20260217T155005Z
UID:14680-1779442200-1779451200@gorebridge.org.uk
SUMMARY:Friday Play Cafe
DESCRIPTION:Come along to the Beacon Play Cafe! \nThe café will be open and there is a dedicated space for pre-schoolers to play\, we have plenty buggy space and staff will be on hand for a blether.   \nThe café is a great place to meet with other parents/carers\, and make new friends. We have highchairs available and plenty changing facilities. Siblings are more than welcome to come along\, however the play area is really suitable for under 5’s. \nCost: £3 per child. Pay at cafe. \n  \n 
URL:https://gorebridge.org.uk/upcomingevents/friday-play-cafe/2026-05-22/
LOCATION:Gorebridge Beacon
CATEGORIES:Beacon,Events,Family Activities
ATTACH;FMTTYPE=image/png:https://gorebridge.org.uk/wp-content/uploads/2024/04/Play-Cafe-2.png
END:VEVENT
BEGIN:VEVENT
DTSTART;TZID=Europe/London:20260529T093000
DTEND;TZID=Europe/London:20260529T120000
DTSTAMP:20260423T231558
CREATED:20240418T083848Z
LAST-MODIFIED:20260217T155008Z
UID:14681-1780047000-1780056000@gorebridge.org.uk
SUMMARY:Friday Play Cafe
DESCRIPTION:Come along to the Beacon Play Cafe! \nThe café will be open and there is a dedicated space for pre-schoolers to play\, we have plenty buggy space and staff will be on hand for a blether.   \nThe café is a great place to meet with other parents/carers\, and make new friends. We have highchairs available and plenty changing facilities. Siblings are more than welcome to come along\, however the play area is really suitable for under 5’s. \nCost: £3 per child. Pay at cafe. \n  \n 
URL:https://gorebridge.org.uk/upcomingevents/friday-play-cafe/2026-05-29/
LOCATION:Gorebridge Beacon
CATEGORIES:Beacon,Events,Family Activities
ATTACH;FMTTYPE=image/png:https://gorebridge.org.uk/wp-content/uploads/2024/04/Play-Cafe-2.png
END:VEVENT
END:VCALENDAR