BEGIN:VCALENDAR
VERSION:2.0
PRODID:-//Gorebridge Community Development Trust - ECPv6.15.20//NONSGML v1.0//EN
CALSCALE:GREGORIAN
METHOD:PUBLISH
X-WR-CALNAME:Gorebridge Community Development Trust
X-ORIGINAL-URL:https://gorebridge.org.uk
X-WR-CALDESC:Events for Gorebridge Community Development Trust
REFRESH-INTERVAL;VALUE=DURATION:PT1H
X-Robots-Tag:noindex
X-PUBLISHED-TTL:PT1H
BEGIN:VTIMEZONE
TZID:Europe/London
BEGIN:DAYLIGHT
TZOFFSETFROM:+0000
TZOFFSETTO:+0100
TZNAME:BST
DTSTART:20250330T010000
END:DAYLIGHT
BEGIN:STANDARD
TZOFFSETFROM:+0100
TZOFFSETTO:+0000
TZNAME:GMT
DTSTART:20251026T010000
END:STANDARD
BEGIN:DAYLIGHT
TZOFFSETFROM:+0000
TZOFFSETTO:+0100
TZNAME:BST
DTSTART:20260329T010000
END:DAYLIGHT
BEGIN:STANDARD
TZOFFSETFROM:+0100
TZOFFSETTO:+0000
TZNAME:GMT
DTSTART:20261025T010000
END:STANDARD
BEGIN:DAYLIGHT
TZOFFSETFROM:+0000
TZOFFSETTO:+0100
TZNAME:BST
DTSTART:20270328T010000
END:DAYLIGHT
BEGIN:STANDARD
TZOFFSETFROM:+0100
TZOFFSETTO:+0000
TZNAME:GMT
DTSTART:20271031T010000
END:STANDARD
END:VTIMEZONE
BEGIN:VEVENT
DTSTART;TZID=Europe/London:20260605T093000
DTEND;TZID=Europe/London:20260605T120000
DTSTAMP:20260424T004948
CREATED:20240418T083848Z
LAST-MODIFIED:20260217T155014Z
UID:14682-1780651800-1780660800@gorebridge.org.uk
SUMMARY:Friday Play Cafe
DESCRIPTION:Come along to the Beacon Play Cafe! \nThe café will be open and there is a dedicated space for pre-schoolers to play\, we have plenty buggy space and staff will be on hand for a blether.   \nThe café is a great place to meet with other parents/carers\, and make new friends. We have highchairs available and plenty changing facilities. Siblings are more than welcome to come along\, however the play area is really suitable for under 5’s. \nCost: £3 per child. Pay at cafe. \n  \n 
URL:https://gorebridge.org.uk/upcomingevents/friday-play-cafe/2026-06-05/
LOCATION:Gorebridge Beacon
CATEGORIES:Beacon,Events,Family Activities
ATTACH;FMTTYPE=image/png:https://gorebridge.org.uk/wp-content/uploads/2024/04/Play-Cafe-2.png
END:VEVENT
BEGIN:VEVENT
DTSTART;TZID=Europe/London:20260612T093000
DTEND;TZID=Europe/London:20260612T120000
DTSTAMP:20260424T004948
CREATED:20240418T083848Z
LAST-MODIFIED:20260217T155016Z
UID:14683-1781256600-1781265600@gorebridge.org.uk
SUMMARY:Friday Play Cafe
DESCRIPTION:Come along to the Beacon Play Cafe! \nThe café will be open and there is a dedicated space for pre-schoolers to play\, we have plenty buggy space and staff will be on hand for a blether.   \nThe café is a great place to meet with other parents/carers\, and make new friends. We have highchairs available and plenty changing facilities. Siblings are more than welcome to come along\, however the play area is really suitable for under 5’s. \nCost: £3 per child. Pay at cafe. \n  \n 
URL:https://gorebridge.org.uk/upcomingevents/friday-play-cafe/2026-06-12/
LOCATION:Gorebridge Beacon
CATEGORIES:Beacon,Events,Family Activities
ATTACH;FMTTYPE=image/png:https://gorebridge.org.uk/wp-content/uploads/2024/04/Play-Cafe-2.png
END:VEVENT
BEGIN:VEVENT
DTSTART;TZID=Europe/London:20260619T093000
DTEND;TZID=Europe/London:20260619T120000
DTSTAMP:20260424T004948
CREATED:20240418T083848Z
LAST-MODIFIED:20260217T155019Z
UID:14684-1781861400-1781870400@gorebridge.org.uk
SUMMARY:Friday Play Cafe
DESCRIPTION:Come along to the Beacon Play Cafe! \nThe café will be open and there is a dedicated space for pre-schoolers to play\, we have plenty buggy space and staff will be on hand for a blether.   \nThe café is a great place to meet with other parents/carers\, and make new friends. We have highchairs available and plenty changing facilities. Siblings are more than welcome to come along\, however the play area is really suitable for under 5’s. \nCost: £3 per child. Pay at cafe. \n  \n 
URL:https://gorebridge.org.uk/upcomingevents/friday-play-cafe/2026-06-19/
LOCATION:Gorebridge Beacon
CATEGORIES:Beacon,Events,Family Activities
ATTACH;FMTTYPE=image/png:https://gorebridge.org.uk/wp-content/uploads/2024/04/Play-Cafe-2.png
END:VEVENT
BEGIN:VEVENT
DTSTART;TZID=Europe/London:20260626T093000
DTEND;TZID=Europe/London:20260626T120000
DTSTAMP:20260424T004948
CREATED:20240418T083848Z
LAST-MODIFIED:20260217T155023Z
UID:14685-1782466200-1782475200@gorebridge.org.uk
SUMMARY:Friday Play Cafe
DESCRIPTION:Come along to the Beacon Play Cafe! \nThe café will be open and there is a dedicated space for pre-schoolers to play\, we have plenty buggy space and staff will be on hand for a blether.   \nThe café is a great place to meet with other parents/carers\, and make new friends. We have highchairs available and plenty changing facilities. Siblings are more than welcome to come along\, however the play area is really suitable for under 5’s. \nCost: £3 per child. Pay at cafe. \n  \n 
URL:https://gorebridge.org.uk/upcomingevents/friday-play-cafe/2026-06-26/
LOCATION:Gorebridge Beacon
CATEGORIES:Beacon,Events,Family Activities
ATTACH;FMTTYPE=image/png:https://gorebridge.org.uk/wp-content/uploads/2024/04/Play-Cafe-2.png
END:VEVENT
END:VCALENDAR