BEGIN:VCALENDAR
VERSION:2.0
PRODID:-//Gorebridge Community Development Trust - ECPv6.15.20//NONSGML v1.0//EN
CALSCALE:GREGORIAN
METHOD:PUBLISH
X-ORIGINAL-URL:https://gorebridge.org.uk
X-WR-CALDESC:Events for Gorebridge Community Development Trust
REFRESH-INTERVAL;VALUE=DURATION:PT1H
X-Robots-Tag:noindex
X-PUBLISHED-TTL:PT1H
BEGIN:VTIMEZONE
TZID:Europe/London
BEGIN:DAYLIGHT
TZOFFSETFROM:+0000
TZOFFSETTO:+0100
TZNAME:BST
DTSTART:20160327T010000
END:DAYLIGHT
BEGIN:STANDARD
TZOFFSETFROM:+0100
TZOFFSETTO:+0000
TZNAME:GMT
DTSTART:20161030T010000
END:STANDARD
BEGIN:DAYLIGHT
TZOFFSETFROM:+0000
TZOFFSETTO:+0100
TZNAME:BST
DTSTART:20170326T010000
END:DAYLIGHT
BEGIN:STANDARD
TZOFFSETFROM:+0100
TZOFFSETTO:+0000
TZNAME:GMT
DTSTART:20171029T010000
END:STANDARD
BEGIN:DAYLIGHT
TZOFFSETFROM:+0000
TZOFFSETTO:+0100
TZNAME:BST
DTSTART:20180325T010000
END:DAYLIGHT
BEGIN:STANDARD
TZOFFSETFROM:+0100
TZOFFSETTO:+0000
TZNAME:GMT
DTSTART:20181028T010000
END:STANDARD
BEGIN:DAYLIGHT
TZOFFSETFROM:+0000
TZOFFSETTO:+0100
TZNAME:BST
DTSTART:20190331T010000
END:DAYLIGHT
BEGIN:STANDARD
TZOFFSETFROM:+0100
TZOFFSETTO:+0000
TZNAME:GMT
DTSTART:20191027T010000
END:STANDARD
BEGIN:DAYLIGHT
TZOFFSETFROM:+0000
TZOFFSETTO:+0100
TZNAME:BST
DTSTART:20200329T010000
END:DAYLIGHT
BEGIN:STANDARD
TZOFFSETFROM:+0100
TZOFFSETTO:+0000
TZNAME:GMT
DTSTART:20201025T010000
END:STANDARD
BEGIN:DAYLIGHT
TZOFFSETFROM:+0000
TZOFFSETTO:+0100
TZNAME:BST
DTSTART:20210328T010000
END:DAYLIGHT
BEGIN:STANDARD
TZOFFSETFROM:+0100
TZOFFSETTO:+0000
TZNAME:GMT
DTSTART:20211031T010000
END:STANDARD
BEGIN:DAYLIGHT
TZOFFSETFROM:+0000
TZOFFSETTO:+0100
TZNAME:BST
DTSTART:20220327T010000
END:DAYLIGHT
BEGIN:STANDARD
TZOFFSETFROM:+0100
TZOFFSETTO:+0000
TZNAME:GMT
DTSTART:20221030T010000
END:STANDARD
BEGIN:DAYLIGHT
TZOFFSETFROM:+0000
TZOFFSETTO:+0100
TZNAME:BST
DTSTART:20230326T010000
END:DAYLIGHT
BEGIN:STANDARD
TZOFFSETFROM:+0100
TZOFFSETTO:+0000
TZNAME:GMT
DTSTART:20231029T010000
END:STANDARD
BEGIN:DAYLIGHT
TZOFFSETFROM:+0000
TZOFFSETTO:+0100
TZNAME:BST
DTSTART:20240331T010000
END:DAYLIGHT
BEGIN:STANDARD
TZOFFSETFROM:+0100
TZOFFSETTO:+0000
TZNAME:GMT
DTSTART:20241027T010000
END:STANDARD
BEGIN:DAYLIGHT
TZOFFSETFROM:+0000
TZOFFSETTO:+0100
TZNAME:BST
DTSTART:20250330T010000
END:DAYLIGHT
BEGIN:STANDARD
TZOFFSETFROM:+0100
TZOFFSETTO:+0000
TZNAME:GMT
DTSTART:20251026T010000
END:STANDARD
END:VTIMEZONE
BEGIN:VEVENT
DTSTART;TZID=Europe/London:20240514T150000
DTEND;TZID=Europe/London:20240514T170000
DTSTAMP:20260424T071021
CREATED:20240605T124327Z
LAST-MODIFIED:20240605T124327Z
UID:12675-1715698800-1715706000@gorebridge.org.uk
SUMMARY:Gorebridge Community Pantry
DESCRIPTION:The Gorebridge Community Pantry is open every Tuesday evening 3 – 5PM (until 31st March 2025) \nTo read more about the Pantry please click here.
URL:https://gorebridge.org.uk/upcomingevents/gorebridge-community-pantry-2/2024-05-14/
LOCATION:Gorebridge Beacon
CATEGORIES:Food,Gorebridge Beacon,Gorebridge Community Development Trust
END:VEVENT
BEGIN:VEVENT
DTSTART;TZID=Europe/London:20240507T150000
DTEND;TZID=Europe/London:20240507T170000
DTSTAMP:20260424T071021
CREATED:20240605T124327Z
LAST-MODIFIED:20240605T124327Z
UID:12674-1715094000-1715101200@gorebridge.org.uk
SUMMARY:Gorebridge Community Pantry
DESCRIPTION:The Gorebridge Community Pantry is open every Tuesday evening 3 – 5PM (until 31st March 2025) \nTo read more about the Pantry please click here.
URL:https://gorebridge.org.uk/upcomingevents/gorebridge-community-pantry-2/2024-05-07/
LOCATION:Gorebridge Beacon
CATEGORIES:Food,Gorebridge Beacon,Gorebridge Community Development Trust
END:VEVENT
BEGIN:VEVENT
DTSTART;TZID=Europe/London:20240430T150000
DTEND;TZID=Europe/London:20240430T170000
DTSTAMP:20260424T071021
CREATED:20240605T124327Z
LAST-MODIFIED:20240605T124327Z
UID:12673-1714489200-1714496400@gorebridge.org.uk
SUMMARY:Gorebridge Community Pantry
DESCRIPTION:The Gorebridge Community Pantry is open every Tuesday evening 3 – 5PM (until 31st March 2025) \nTo read more about the Pantry please click here.
URL:https://gorebridge.org.uk/upcomingevents/gorebridge-community-pantry-2/2024-04-30/
LOCATION:Gorebridge Beacon
CATEGORIES:Food,Gorebridge Beacon,Gorebridge Community Development Trust
END:VEVENT
BEGIN:VEVENT
DTSTART;TZID=Europe/London:20240423T150000
DTEND;TZID=Europe/London:20240423T170000
DTSTAMP:20260424T071021
CREATED:20240605T124327Z
LAST-MODIFIED:20240605T124327Z
UID:12672-1713884400-1713891600@gorebridge.org.uk
SUMMARY:Gorebridge Community Pantry
DESCRIPTION:The Gorebridge Community Pantry is open every Tuesday evening 3 – 5PM (until 31st March 2025) \nTo read more about the Pantry please click here.
URL:https://gorebridge.org.uk/upcomingevents/gorebridge-community-pantry-2/2024-04-23/
LOCATION:Gorebridge Beacon
CATEGORIES:Food,Gorebridge Beacon,Gorebridge Community Development Trust
END:VEVENT
BEGIN:VEVENT
DTSTART;TZID=Europe/London:20240402T150000
DTEND;TZID=Europe/London:20240402T170000
DTSTAMP:20260424T071021
CREATED:20240605T124327Z
LAST-MODIFIED:20250221T105904Z
UID:11240-1712070000-1712077200@gorebridge.org.uk
SUMMARY:Gorebridge Community Pantry
DESCRIPTION:The Gorebridge Community Pantry is open every Tuesday evening 3 – 5PM (until 31st March 2025) \nTo read more about the Pantry please click here.
URL:https://gorebridge.org.uk/upcomingevents/gorebridge-community-pantry-2/2024-04-02/
LOCATION:Gorebridge Beacon
CATEGORIES:Food,Gorebridge Beacon,Gorebridge Community Development Trust
END:VEVENT
BEGIN:VEVENT
DTSTART;TZID=Europe/London:20181027T183000
DTEND;TZID=Europe/London:20181027T203000
DTSTAMP:20260424T071021
CREATED:20180830T143945Z
LAST-MODIFIED:20180830T143945Z
UID:2935-1540665000-1540672200@gorebridge.org.uk
SUMMARY:Film and Food night
DESCRIPTION:Come and join us for an evening of delicious food and watch an environmental themed film \nDetails to follow \nVenue- 58 Main Street
URL:https://gorebridge.org.uk/upcomingevents/film-and-food-night/
CATEGORIES:Climate Challenge Fund,Food,Greening Gorebridge,Health and Wellbeing
ORGANIZER;CN="Greening Gorebridge":MAILTO:michaela.jackson@gorebridge.org.uk
END:VEVENT
BEGIN:VEVENT
DTSTART;TZID=Europe/London:20180908T100000
DTEND;TZID=Europe/London:20180908T150000
DTSTAMP:20260424T071021
CREATED:20180820T151203Z
LAST-MODIFIED:20180820T151203Z
UID:2901-1536400800-1536418800@gorebridge.org.uk
SUMMARY:Doors Open Day @Newbattle Community High School
DESCRIPTION:You are invited to Midlothian’s community event to celebrate the opening of the new campus! \nLots of fun for all the family including music\, food\, taster sessions and guided tours of this state of the art facility. \nGreening Gorebridge will be there with information about their project as well as hosting a family friendly upcycled craft session. \nDrop-in \nFree
URL:https://gorebridge.org.uk/upcomingevents/doors-open-day-newbattle-community-high-school/
CATEGORIES:Climate Challenge Fund,Cycling,Food,Greening Gorebridge,repair,Reuse,upcycling
END:VEVENT
BEGIN:VEVENT
DTSTART;TZID=Europe/London:20180903T103000
DTEND;TZID=Europe/London:20180903T120000
DTSTAMP:20260424T071021
CREATED:20180830T144439Z
LAST-MODIFIED:20180830T144439Z
UID:2938-1535970600-1535976000@gorebridge.org.uk
SUMMARY:cycle and forage
DESCRIPTION:Join Sam and Michaela for a fun and informative morning where you’ll take new route on your bike to find some  locally autumnal foraged treats to eat. \nBikes may be available to be hired for the event\, please let us know if you need one. \nEmail sam@gorebridge.org.uk to book your place
URL:https://gorebridge.org.uk/upcomingevents/cycle-and-forage-3/
CATEGORIES:Climate Challenge Fund,Cycling,Food,Greening Gorebridge
ORGANIZER;CN="Greening Gorebridge":MAILTO:michaela.jackson@gorebridge.org.uk
END:VEVENT
BEGIN:VEVENT
DTSTART;TZID=Europe/London:20180317T160000
DTEND;TZID=Europe/London:20180317T180000
DTSTAMP:20260424T071021
CREATED:20180307T111803Z
LAST-MODIFIED:20180307T111803Z
UID:2048-1521302400-1521309600@gorebridge.org.uk
SUMMARY:Beeswax food wrap making workshop
DESCRIPTION:Are you going through cling film like it’s going out of fashion? \n\n\n \n\n\nHate wasting all that plastic that can’t be recycled? \n\n\n \n\n\nWant a more natural and less toxic way to wrap your leftover bowls of food or keep your bread or cheese fresh?\n\n\n \n\n\nCome along and learn how to make 100% cotton and beeswax wraps\, so natural and non-toxic they could be composted!\n\n\n \n\n\nAll materials provided. Drop in. Free
URL:https://gorebridge.org.uk/upcomingevents/beeswax-food-wrap-making-workshop/
LOCATION:55 main street\, Gorebridge\, United Kingdom
CATEGORIES:Climate Challenge Fund,Food,Greening Gorebridge
ORGANIZER;CN="Greening Gorebridge":MAILTO:michaela.jackson@gorebridge.org.uk
END:VEVENT
BEGIN:VEVENT
DTSTART;TZID=Europe/London:20180317T150000
DTEND;TZID=Europe/London:20180317T160000
DTSTAMP:20260424T071021
CREATED:20171122T105456Z
LAST-MODIFIED:20180307T111050Z
UID:1810-1521298800-1521302400@gorebridge.org.uk
SUMMARY:Afternoon Tea with Greening Gorebridge
DESCRIPTION:Join us for a wee afternoon get together to celebrate the Greening Gorebridge Project and enjoy some homemade and locally and sustainable sourced nibbles\, cakes and drinks. \nDrop-in between 3-4pm \nLater evening activities include: \nBeeswax food wrap making workshop 4-6pm- drop-in \nClothes Swap- 6pm-7:30pm \n 
URL:https://gorebridge.org.uk/upcomingevents/soup-night-presents-spring-celebration/
LOCATION:55 main street\, Gorebridge\, United Kingdom
CATEGORIES:Climate Challenge Fund,Food,Greening Gorebridge
ORGANIZER;CN="Greening Gorebridge":MAILTO:michaela.jackson@gorebridge.org.uk
END:VEVENT
BEGIN:VEVENT
DTSTART;TZID=Europe/London:20180315T180000
DTEND;TZID=Europe/London:20180315T193000
DTSTAMP:20260424T071021
CREATED:20180307T104242Z
LAST-MODIFIED:20180307T110046Z
UID:2044-1521136800-1521142200@gorebridge.org.uk
SUMMARY:Make reusable veg/produce bags workshop
DESCRIPTION:Fed up of all those thin plastic bags that you get your fruit and vegetables in at the supermarket? \nWish you had a simple reuseable alternative? \nJoin us to learn how to sew simple drawstring fabric bags that you can use over and over again for any loose goods that you by in the shops. All materials provided. \nNo sewing expereince required\, as you will be sewing simple straight lines \nSession starts at 6pm-7:30pm \nto book your place visit- https://www.eventbrite.co.uk/e/make-your-own-reuseable-fruitveg-produce-bags-tickets-43838060820
URL:https://gorebridge.org.uk/upcomingevents/make-reusable-vegproduce-bags-workshop/
LOCATION:55 main street\, Gorebridge\, United Kingdom
CATEGORIES:Climate Challenge Fund,Food,Greening Gorebridge
ORGANIZER;CN="Greening Gorebridge":MAILTO:michaela.jackson@gorebridge.org.uk
END:VEVENT
BEGIN:VEVENT
DTSTART;TZID=Europe/London:20180210T183000
DTEND;TZID=Europe/London:20180210T203000
DTSTAMP:20260424T071021
CREATED:20171122T105154Z
LAST-MODIFIED:20180116T114240Z
UID:1808-1518287400-1518294600@gorebridge.org.uk
SUMMARY:Soup Night Presents...Folk music night
DESCRIPTION:Gather for an evening of soup and songs with friends and family. \nFurther details to follow
URL:https://gorebridge.org.uk/upcomingevents/soup-night-presents-folk-music-night/
LOCATION:55 main street\, Gorebridge\, United Kingdom
CATEGORIES:Climate Challenge Fund,Food,Greening Gorebridge
ORGANIZER;CN="Greening Gorebridge":MAILTO:michaela.jackson@gorebridge.org.uk
END:VEVENT
BEGIN:VEVENT
DTSTART;TZID=Europe/London:20171206T183000
DTEND;TZID=Europe/London:20171206T203000
DTSTAMP:20260424T071021
CREATED:20171122T100726Z
LAST-MODIFIED:20171122T101349Z
UID:1780-1512585000-1512592200@gorebridge.org.uk
SUMMARY:Festive Cooking- Main courses
DESCRIPTION:Join Michaela to learn how to make some delicious and hearty festive main courses for you and your family. \nTo book your place email michaela.jackson@gorebridge.org.uk
URL:https://gorebridge.org.uk/upcomingevents/festive-cooking-main-courses/
LOCATION:55 main street\, Gorebridge\, United Kingdom
CATEGORIES:Climate Challenge Fund,Food,Greening Gorebridge
ORGANIZER;CN="Greening Gorebridge":MAILTO:michaela.jackson@gorebridge.org.uk
END:VEVENT
BEGIN:VEVENT
DTSTART;TZID=Europe/London:20170610T120000
DTEND;TZID=Europe/London:20170610T160000
DTSTAMP:20260424T071021
CREATED:20170519T132847Z
LAST-MODIFIED:20170519T133207Z
UID:1345-1497096000-1497110400@gorebridge.org.uk
SUMMARY:Food and Bike Festival
DESCRIPTION:Join the team at #greeninggorebridge to enjoy a day filled with yummy food and fun bike skills. Together we can create a happier\, healthier and greener community. \nSaturday 10th @ Auld Gala Park- just opposite Gorebridge Primary.- 12-4pm \nFor further information please contact Michaela Jackson (or chat with the person who picks up) at GCDT office on 01875 823202
URL:https://gorebridge.org.uk/upcomingevents/food-and-bike-festival/
CATEGORIES:Climate Challenge Fund,Cycling,Food
END:VEVENT
END:VCALENDAR