BEGIN:VCALENDAR
VERSION:2.0
PRODID:-//Gorebridge Community Development Trust - ECPv6.15.20//NONSGML v1.0//EN
CALSCALE:GREGORIAN
METHOD:PUBLISH
X-WR-CALNAME:Gorebridge Community Development Trust
X-ORIGINAL-URL:https://gorebridge.org.uk
X-WR-CALDESC:Events for Gorebridge Community Development Trust
REFRESH-INTERVAL;VALUE=DURATION:PT1H
X-Robots-Tag:noindex
X-PUBLISHED-TTL:PT1H
BEGIN:VTIMEZONE
TZID:Europe/London
BEGIN:DAYLIGHT
TZOFFSETFROM:+0000
TZOFFSETTO:+0100
TZNAME:BST
DTSTART:20170326T010000
END:DAYLIGHT
BEGIN:STANDARD
TZOFFSETFROM:+0100
TZOFFSETTO:+0000
TZNAME:GMT
DTSTART:20171029T010000
END:STANDARD
BEGIN:DAYLIGHT
TZOFFSETFROM:+0000
TZOFFSETTO:+0100
TZNAME:BST
DTSTART:20180325T010000
END:DAYLIGHT
BEGIN:STANDARD
TZOFFSETFROM:+0100
TZOFFSETTO:+0000
TZNAME:GMT
DTSTART:20181028T010000
END:STANDARD
BEGIN:DAYLIGHT
TZOFFSETFROM:+0000
TZOFFSETTO:+0100
TZNAME:BST
DTSTART:20190331T010000
END:DAYLIGHT
BEGIN:STANDARD
TZOFFSETFROM:+0100
TZOFFSETTO:+0000
TZNAME:GMT
DTSTART:20191027T010000
END:STANDARD
BEGIN:DAYLIGHT
TZOFFSETFROM:+0000
TZOFFSETTO:+0100
TZNAME:BST
DTSTART:20200329T010000
END:DAYLIGHT
BEGIN:STANDARD
TZOFFSETFROM:+0100
TZOFFSETTO:+0000
TZNAME:GMT
DTSTART:20201025T010000
END:STANDARD
BEGIN:DAYLIGHT
TZOFFSETFROM:+0000
TZOFFSETTO:+0100
TZNAME:BST
DTSTART:20210328T010000
END:DAYLIGHT
BEGIN:STANDARD
TZOFFSETFROM:+0100
TZOFFSETTO:+0000
TZNAME:GMT
DTSTART:20211031T010000
END:STANDARD
BEGIN:DAYLIGHT
TZOFFSETFROM:+0000
TZOFFSETTO:+0100
TZNAME:BST
DTSTART:20220327T010000
END:DAYLIGHT
BEGIN:STANDARD
TZOFFSETFROM:+0100
TZOFFSETTO:+0000
TZNAME:GMT
DTSTART:20221030T010000
END:STANDARD
BEGIN:DAYLIGHT
TZOFFSETFROM:+0000
TZOFFSETTO:+0100
TZNAME:BST
DTSTART:20230326T010000
END:DAYLIGHT
BEGIN:STANDARD
TZOFFSETFROM:+0100
TZOFFSETTO:+0000
TZNAME:GMT
DTSTART:20231029T010000
END:STANDARD
BEGIN:DAYLIGHT
TZOFFSETFROM:+0000
TZOFFSETTO:+0100
TZNAME:BST
DTSTART:20240331T010000
END:DAYLIGHT
BEGIN:STANDARD
TZOFFSETFROM:+0100
TZOFFSETTO:+0000
TZNAME:GMT
DTSTART:20241027T010000
END:STANDARD
BEGIN:DAYLIGHT
TZOFFSETFROM:+0000
TZOFFSETTO:+0100
TZNAME:BST
DTSTART:20250330T010000
END:DAYLIGHT
BEGIN:STANDARD
TZOFFSETFROM:+0100
TZOFFSETTO:+0000
TZNAME:GMT
DTSTART:20251026T010000
END:STANDARD
END:VTIMEZONE
BEGIN:VEVENT
DTSTART;TZID=Europe/London:20240505T143000
DTEND;TZID=Europe/London:20240505T163000
DTSTAMP:20260424T143143
CREATED:20240605T124940Z
LAST-MODIFIED:20240605T124940Z
UID:11309-1714919400-1714926600@gorebridge.org.uk
SUMMARY:Community Gardening Drop-In Session
DESCRIPTION:Join our weekly community gardening sessions. Cultivate friendships\, learn new skills and be part of our sustainable community! All levels of experience welcome and no seed to sign up\, just pop in and get gardening! \nDrop-ins every Tuesday 6 – 8:30pm \nHot drinks available. \n*Important – drop-in sessions may be cancelled if the weather is rotten. Please contact the Beacon if you would like to confirm if a session is taking place or not. Times change during Winter months.
URL:https://gorebridge.org.uk/upcomingevents/community-gardening-drop-in-session-2/2024-05-05/
LOCATION:Gorebridge Beacon
CATEGORIES:Beacon,Garden,Gorebridge Community Development Trust
END:VEVENT
BEGIN:VEVENT
DTSTART;TZID=Europe/London:20240430T180000
DTEND;TZID=Europe/London:20240430T203000
DTSTAMP:20260424T143143
CREATED:20240605T124749Z
LAST-MODIFIED:20240605T124749Z
UID:11277-1714500000-1714509000@gorebridge.org.uk
SUMMARY:Community Gardening Drop-In Session
DESCRIPTION:Join our weekly community gardening sessions. Cultivate friendships\, learn new skills and be part of our sustainable community! All levels of experience welcome and no seed to sign up\, just pop in and get gardening! \nDrop-ins every Tuesday 6 – 8:30pm \nHot drinks available. \n*Important – drop-in sessions may be cancelled if the weather is rotten. Please contact the Beacon if you would like to confirm if a session is taking place or not. Times change during Winter months.
URL:https://gorebridge.org.uk/upcomingevents/community-gardening-drop-in-session/2024-04-30/
CATEGORIES:Events,Family Activities,Garden,Gorebridge Community Development Trust
END:VEVENT
BEGIN:VEVENT
DTSTART;TZID=Europe/London:20240428T143000
DTEND;TZID=Europe/London:20240428T163000
DTSTAMP:20260424T143143
CREATED:20240605T124940Z
LAST-MODIFIED:20240605T124940Z
UID:11308-1714314600-1714321800@gorebridge.org.uk
SUMMARY:Community Gardening Drop-In Session
DESCRIPTION:Join our weekly community gardening sessions. Cultivate friendships\, learn new skills and be part of our sustainable community! All levels of experience welcome and no seed to sign up\, just pop in and get gardening! \nDrop-ins every Tuesday 6 – 8:30pm \nHot drinks available. \n*Important – drop-in sessions may be cancelled if the weather is rotten. Please contact the Beacon if you would like to confirm if a session is taking place or not. Times change during Winter months.
URL:https://gorebridge.org.uk/upcomingevents/community-gardening-drop-in-session-2/2024-04-28/
LOCATION:Gorebridge Beacon
CATEGORIES:Beacon,Garden,Gorebridge Community Development Trust
END:VEVENT
BEGIN:VEVENT
DTSTART;TZID=Europe/London:20240407T143000
DTEND;TZID=Europe/London:20240407T163000
DTSTAMP:20260424T143143
CREATED:20240605T124940Z
LAST-MODIFIED:20240605T124940Z
UID:11305-1712500200-1712507400@gorebridge.org.uk
SUMMARY:Community Gardening Drop-In Session
DESCRIPTION:Join our weekly community gardening sessions. Cultivate friendships\, learn new skills and be part of our sustainable community! All levels of experience welcome and no seed to sign up\, just pop in and get gardening! \nDrop-ins every Tuesday 6 – 8:30pm \nHot drinks available. \n*Important – drop-in sessions may be cancelled if the weather is rotten. Please contact the Beacon if you would like to confirm if a session is taking place or not. Times change during Winter months.
URL:https://gorebridge.org.uk/upcomingevents/community-gardening-drop-in-session-2/2024-04-07/
LOCATION:Gorebridge Beacon
CATEGORIES:Beacon,Garden,Gorebridge Community Development Trust
END:VEVENT
BEGIN:VEVENT
DTSTART;TZID=Europe/London:20240402T180000
DTEND;TZID=Europe/London:20240402T203000
DTSTAMP:20260424T143143
CREATED:20240605T124749Z
LAST-MODIFIED:20240605T124749Z
UID:11272-1712080800-1712089800@gorebridge.org.uk
SUMMARY:Community Gardening Drop-In Session
DESCRIPTION:Join our weekly community gardening sessions. Cultivate friendships\, learn new skills and be part of our sustainable community! All levels of experience welcome and no seed to sign up\, just pop in and get gardening! \nDrop-ins every Tuesday 6 – 8:30pm \nHot drinks available. \n*Important – drop-in sessions may be cancelled if the weather is rotten. Please contact the Beacon if you would like to confirm if a session is taking place or not. Times change during Winter months.
URL:https://gorebridge.org.uk/upcomingevents/community-gardening-drop-in-session/2024-04-02/
CATEGORIES:Events,Family Activities,Garden,Gorebridge Community Development Trust
END:VEVENT
BEGIN:VEVENT
DTSTART;TZID=Europe/London:20230404T183000
DTEND;TZID=Europe/London:20230404T210000
DTSTAMP:20260424T143143
CREATED:20230220T092708Z
LAST-MODIFIED:20230220T114542Z
UID:10016-1680633000-1680642000@gorebridge.org.uk
SUMMARY:Gardening Sessions
DESCRIPTION:Calling all budding gardeners. \nGorebridge Community Gardeners meet on a Tuesday evening and Sunday afternoon at the Beacon Community Garden\, and surrounding area. You could be a green-thumbed professional or a gardening newbie\, all are welcome to join. \nGet involved. We would love you to join us whether you are an individual or a group of people\, to help maintain the garden\, grow\, plant\, get creative. Have fun\, get outdoors\, meet new people. Want to join us? Contact us\, and we will get back to you as soon as possible. \n 
URL:https://gorebridge.org.uk/upcomingevents/gardening-sessions/2023-04-04/
LOCATION:Gorebridge Beacon
CATEGORIES:Beacon,Garden,GCDT
ATTACH;FMTTYPE=image/png:https://gorebridge.org.uk/wp-content/uploads/2023/02/Gorebridge-Community-Garden-Website-copy.png
END:VEVENT
BEGIN:VEVENT
DTSTART;TZID=Europe/London:20230402T140000
DTEND;TZID=Europe/London:20230402T170000
DTSTAMP:20260424T143143
CREATED:20230220T115626Z
LAST-MODIFIED:20230220T122358Z
UID:10047-1680444000-1680454800@gorebridge.org.uk
SUMMARY:Gardening Sessions
DESCRIPTION:Calling all budding gardeners. \nGorebridge Community Gardeners meet on a Tuesday evening and Sunday afternoon (times may change and weather permitting) at the Beacon Community Garden. You could be a green-thumbed professional or a gardening newbie\, all are welcome to join. \nGet involved. We would love you to join us whether you are an individual or a group of people\, to help maintain the garden\, grow\, plant\, get creative. Have fun\, get outdoors\, meet new people. Want to join us? Contact us\, and we will get back to you as soon as possible.
URL:https://gorebridge.org.uk/upcomingevents/gardening-sessions-2/2023-04-02/
LOCATION:Gorebridge Beacon
CATEGORIES:Beacon,Garden,Gorebridge Beacon,Gorebridge Community Development Trust
ATTACH;FMTTYPE=image/png:https://gorebridge.org.uk/wp-content/uploads/2023/02/Gorebridge-Community-Garden-Website-copy.png
END:VEVENT
BEGIN:VEVENT
DTSTART;TZID=Europe/London:20230401T183000
DTEND;TZID=Europe/London:20230401T230000
DTSTAMP:20260424T143143
CREATED:20230110T151002Z
LAST-MODIFIED:20230110T151002Z
UID:9791-1680373800-1680390000@gorebridge.org.uk
SUMMARY:Quiz Night at the Beacon
DESCRIPTION:Come and join us for Quiz Night at the Beacon! Nothing like having it on April Fools Day. We promise this is genuine. \nThis is a fundraising event for the Gorebridge Beacon and the Gorebridge Community Garden. \n£12 per ticket. No more than 6 on a team. Ticket price includes your dinner (Beacon Chilli/Nachos and desert dessert!). We promise it will be a cheesy affair. \nAs we are nice peeps here’s your 1st question\, ‘where did Nachos originate from?’ and 2nd\, best joke of the evening wins a prize! \nBYOB.
URL:https://gorebridge.org.uk/upcomingevents/quiz-night-1st-april/
LOCATION:Gorebridge Beacon
CATEGORIES:Events,Family Activities,Garden,GCDT,Gorebridge Beacon
END:VEVENT
BEGIN:VEVENT
DTSTART;TZID=Europe/London:20221001T120000
DTEND;TZID=Europe/London:20221001T133000
DTSTAMP:20260424T143143
CREATED:20220926T112658Z
LAST-MODIFIED:20220930T075502Z
UID:8950-1664625600-1664631000@gorebridge.org.uk
SUMMARY:GrowGetters 1st October
DESCRIPTION:GrowGetters is a children’s gardening club for those age 7 and under*. The event is free. So if you know any children who love to get their hands dirty\, want to learn and explore nature\, the outdoors\, plants this is for them. \nPlease come along\, you can book below. *parents/carers to attend/stay with child(ren). This experience/event is funding through Midlothian Council Small Grants. \n\n			\n				\n			\n			\n				\n			\n			\n				\n			\n			\n				\n			\n			\n				\n			\n			\n				\n			\n			\n				\n			\n		\n\nPlease book a space for children only.
URL:https://gorebridge.org.uk/upcomingevents/growgetters-1st-october/
LOCATION:Gorebridge Beacon
CATEGORIES:Garden,Gorebridge Beacon,Gorebridge Community Development Trust
ATTACH;FMTTYPE=image/jpeg:https://gorebridge.org.uk/wp-content/uploads/2021/05/Grow-Getters-MC.jpg
END:VEVENT
BEGIN:VEVENT
DTSTART;TZID=Europe/London:20220604T120000
DTEND;TZID=Europe/London:20220604T133000
DTSTAMP:20260424T143143
CREATED:20220518T084839Z
LAST-MODIFIED:20220530T114424Z
UID:8374-1654344000-1654349400@gorebridge.org.uk
SUMMARY:GrowGetters June 4th
DESCRIPTION:GrowGetters is a children’s gardening club for those age 7 and under*. The event is free. So if you know any children who love to get their hands dirty\, want to learn and explore nature\, the outdoors\, plants this is for them. \nThis session we will be doing tomato and nasturtium hanging baskets\, planting sunflowers and courgettes\, looking after the tattie plants\, lots of watering and as always an art activity and messy play area. \nPlease come along\, you can book below. *parents/carers to attend/stay with child(ren). This experience/event is funding through Midlothian Council Small Grants.
URL:https://gorebridge.org.uk/upcomingevents/growgetters4thjune/
LOCATION:Gorebridge Beacon
CATEGORIES:Beacon,Garden,GCDT,Gorebridge Beacon
END:VEVENT
BEGIN:VEVENT
DTSTART;TZID=Europe/London:20220514T120000
DTEND;TZID=Europe/London:20220514T133000
DTSTAMP:20260424T143143
CREATED:20220428T094322Z
LAST-MODIFIED:20220513T075904Z
UID:8302-1652529600-1652535000@gorebridge.org.uk
SUMMARY:GrowGetters - 14th May 2022
DESCRIPTION:GrowGetters is a children’s gardening club for those age 7 and under*. The event is free. So if you know any children who love to get their hands dirty\, want to learn and explore nature\, the outdoors\, plants this is for them. Please come along\, you can book below. *parents/carers to attend/stay with child(ren). This experience/event is funding through Midlothian Council Small Grants.  \nSorry this event has been cancelled.  \n  \n\n			\n				\n			\n			\n				\n			\n			\n				\n			\n			\n				\n			\n			\n				\n			\n			\n				\n			\n			\n				\n			\n		\n\n\n\n\n\n\n\n\n\n\n 
URL:https://gorebridge.org.uk/upcomingevents/growgetters-14th-may-2022/
LOCATION:Gorebridge Beacon
CATEGORIES:Beacon,Family Activities,Garden,Gorebridge Beacon
ATTACH;FMTTYPE=image/jpeg:https://gorebridge.org.uk/wp-content/uploads/2021/05/Grow-Getters-MC.jpg
END:VEVENT
BEGIN:VEVENT
DTSTART;TZID=Europe/London:20220305T120000
DTEND;TZID=Europe/London:20220305T133000
DTSTAMP:20260424T143143
CREATED:20220210T122537Z
LAST-MODIFIED:20220321T093841Z
UID:8118-1646481600-1646487000@gorebridge.org.uk
SUMMARY:GrowGetters March 5th
DESCRIPTION:GrowGetters is a children’s gardening club for those age 7 and under*. The event is free. So if you know any children who love to get their hands dirty\, want to learn and explore nature\, the outdoors\, plants this is for them. \nPlease come along\, you can book below. \n*parents/carers to attend/stay with child(ren). \n 
URL:https://gorebridge.org.uk/upcomingevents/growgetters-march-5th/
LOCATION:Gorebridge Beacon
CATEGORIES:Garden,Gorebridge Beacon
ATTACH;FMTTYPE=image/jpeg:https://gorebridge.org.uk/wp-content/uploads/2021/05/Grow-Getters-MC.jpg
END:VEVENT
BEGIN:VEVENT
DTSTART;TZID=Europe/London:20220205T120000
DTEND;TZID=Europe/London:20220205T133000
DTSTAMP:20260424T143143
CREATED:20220110T094558Z
LAST-MODIFIED:20220505T155205Z
UID:7854-1644062400-1644067800@gorebridge.org.uk
SUMMARY:GrowGetters 5th February
DESCRIPTION:GrowGetters is a children’s gardening club for those age 7 and under*. The event is free. So if you know any children who love to get their hands dirty\, want to learn and explore nature\, the outdoors\, plants this is for them.\n\nPlease come along\, you can book below.\n\n*parents/carers to attend/stay with child(ren).
URL:https://gorebridge.org.uk/upcomingevents/growgetters-5th-february/
LOCATION:Gorebridge Beacon
CATEGORIES:Beacon,Family Activities,Garden
ATTACH;FMTTYPE=image/jpeg:https://gorebridge.org.uk/wp-content/uploads/2021/05/Grow-Getters-MC.jpg
END:VEVENT
BEGIN:VEVENT
DTSTART;TZID=Europe/London:20210828T110000
DTEND;TZID=Europe/London:20210828T130000
DTSTAMP:20260424T143143
CREATED:20210510T112531Z
LAST-MODIFIED:20210825T194305Z
UID:5864-1630148400-1630155600@gorebridge.org.uk
SUMMARY:Grow Getters Children's Gardening Club
DESCRIPTION:CHANGE OF DATE: August’s GrowGetters session will take place on the 7th September \nDo you have children under 5 who love to be outdoors and get their hands dirty. \nOn the last Saturday of the month (May – September) bring them along to Grow Getters. \nPlease book in advance using the booking form below.
URL:https://gorebridge.org.uk/upcomingevents/grow-getters-childrens-gardening-club-2021-08-28/
LOCATION:Gorebridge Beacon
CATEGORIES:Beacon,Family Activities,Garden,GCDT,Gorebridge Beacon
ATTACH;FMTTYPE=image/jpeg:https://gorebridge.org.uk/wp-content/uploads/2021/05/Grow-Getters-MC.jpg
END:VEVENT
BEGIN:VEVENT
DTSTART;TZID=Europe/London:20210731T110000
DTEND;TZID=Europe/London:20210731T130000
DTSTAMP:20260424T143143
CREATED:20210510T112531Z
LAST-MODIFIED:20210510T122436Z
UID:5863-1627729200-1627736400@gorebridge.org.uk
SUMMARY:Grow Getters Children's Gardening Club
DESCRIPTION:Do you have children under 5 who love to be outdoors and get their hands dirty. On the last Saturday of the month (May – September) bring them along to Grow Getters. Please book in advance as there are limited spaces by calling.
URL:https://gorebridge.org.uk/upcomingevents/grow-getters-childrens-gardening-club-2021-07-31/
LOCATION:Gorebridge Beacon
CATEGORIES:Beacon,Family Activities,Garden,GCDT,Gorebridge Beacon
ATTACH;FMTTYPE=image/jpeg:https://gorebridge.org.uk/wp-content/uploads/2021/05/Grow-Getters-MC.jpg
END:VEVENT
BEGIN:VEVENT
DTSTART;TZID=Europe/London:20210626T110000
DTEND;TZID=Europe/London:20210626T130000
DTSTAMP:20260424T143143
CREATED:20210510T112531Z
LAST-MODIFIED:20210615T132432Z
UID:5862-1624705200-1624712400@gorebridge.org.uk
SUMMARY:Grow Getters Children's Gardening Club
DESCRIPTION:Do you have children under 5 who love to be outdoors and get their hands dirty. On the last Saturday of the month (May – September) bring them along to Grow Getters. Please book in advance as there are limited spaces. \nParents/carers are responsible for child/children. \nWe can only allow 8 adults to meet outside\, therefore tickets are limited to 8. Please book a ticket for the adult attending and let us know how many children in the booking form. \nThis event is free however if you wish to make a donation please do so on the day. All donations will go towards the community garden at the Beacon.
URL:https://gorebridge.org.uk/upcomingevents/grow-getters-childrens-gardening-club-2021-06-26/
LOCATION:Gorebridge Beacon
CATEGORIES:Beacon,Family Activities,Garden,GCDT,Gorebridge Beacon
ATTACH;FMTTYPE=image/jpeg:https://gorebridge.org.uk/wp-content/uploads/2021/05/Grow-Getters-MC.jpg
END:VEVENT
BEGIN:VEVENT
DTSTART;TZID=Europe/London:20210529T110000
DTEND;TZID=Europe/London:20210529T130000
DTSTAMP:20260424T143143
CREATED:20210510T112531Z
LAST-MODIFIED:20210528T162134Z
UID:5856-1622286000-1622293200@gorebridge.org.uk
SUMMARY:Grow Getters Children's Gardening Club
DESCRIPTION:Do you have children who love to be outdoors and get their hands dirty. On the last Saturday of the month (May – September) bring them along to Grow Getters. GrowGetters is aimed at little hands (4/5 – P3). Parents/Carers to attend. Please book in advance as there are limited spaces by calling 01875 816320. If a child has a sibling slightly younger/older of course you can bring them along.
URL:https://gorebridge.org.uk/upcomingevents/grow-getters-childrens-gardening-club/
LOCATION:Gorebridge Beacon
CATEGORIES:Beacon,Family Activities,Garden,GCDT,Gorebridge Beacon
ATTACH;FMTTYPE=image/jpeg:https://gorebridge.org.uk/wp-content/uploads/2021/05/Grow-Getters-MC.jpg
END:VEVENT
BEGIN:VEVENT
DTSTART;TZID=Europe/London:20190331T120000
DTEND;TZID=Europe/London:20190331T140000
DTSTAMP:20260424T143143
CREATED:20180530T192300Z
LAST-MODIFIED:20190227T125743Z
UID:2176-1554033600-1554040800@gorebridge.org.uk
SUMMARY:Woodland Wildlings
DESCRIPTION:The Woodland Wildlings is a project for children aged up to 5 years. It’s an opportunity for families with pre-school children to come along and join in forest school and nature play activities. \nThere’s no need to book just come along at 10 am (Drop In) to the Pop-Up Beacon at the bottom of the Main Street (Old Bank). \nThese sessions are being led by  Laura Lagerman\, an experienced early years practitioner. \nFor more information please contact lorna.lagerman@gorebridge.org.uk or visit Woodland Wildlings on Facebook here. \n 
URL:https://gorebridge.org.uk/upcomingevents/woodland-wildlings-5/2019-03-31/
LOCATION:55 main street\, Gorebridge\, United Kingdom
CATEGORIES:Garden,Gorebridge Beacon,Wellbeing,Woodland Wildlings
ATTACH;FMTTYPE=image/png:https://gorebridge.org.uk/wp-content/uploads/2018/05/Woodland-Wildlings.png
END:VEVENT
BEGIN:VEVENT
DTSTART;TZID=Europe/London:20181105T100000
DTEND;TZID=Europe/London:20181105T120000
DTSTAMP:20260424T143143
CREATED:20181031T092815Z
LAST-MODIFIED:20181031T092815Z
UID:3073-1541412000-1541419200@gorebridge.org.uk
SUMMARY:Big Bulb Plant at the Beacon
DESCRIPTION:What are you up to on Monday morning (5th Nov)? We are going to be planting crocus and daffodil bulbs in the memorial garden at the Beacon\, would you like to come and join us and some members of Gorebridge And District Environmental Group? Big thanks to Gorebridge Community Council who donated thousands of crocus bulbs and Gorebridge Community Cares who kindly did a wee bulb share/swap we also have daffodils to go in. Meet at 10 am at the Beacon. It’s not open yet but I promise to bring you a cuppa and a hobnob. Dawn
URL:https://gorebridge.org.uk/upcomingevents/big-bulb-plant-at-the-beacon/
CATEGORIES:Beacon,Garden
ATTACH;FMTTYPE=image/jpeg:https://gorebridge.org.uk/wp-content/uploads/2018/10/Bulb-Plant-1.jpg
END:VEVENT
END:VCALENDAR