BEGIN:VCALENDAR
VERSION:2.0
PRODID:-//Gorebridge Community Development Trust - ECPv6.15.20//NONSGML v1.0//EN
CALSCALE:GREGORIAN
METHOD:PUBLISH
X-WR-CALNAME:Gorebridge Community Development Trust
X-ORIGINAL-URL:https://gorebridge.org.uk
X-WR-CALDESC:Events for Gorebridge Community Development Trust
REFRESH-INTERVAL;VALUE=DURATION:PT1H
X-Robots-Tag:noindex
X-PUBLISHED-TTL:PT1H
BEGIN:VTIMEZONE
TZID:Europe/London
BEGIN:DAYLIGHT
TZOFFSETFROM:+0000
TZOFFSETTO:+0100
TZNAME:BST
DTSTART:20240331T010000
END:DAYLIGHT
BEGIN:STANDARD
TZOFFSETFROM:+0100
TZOFFSETTO:+0000
TZNAME:GMT
DTSTART:20241027T010000
END:STANDARD
BEGIN:DAYLIGHT
TZOFFSETFROM:+0000
TZOFFSETTO:+0100
TZNAME:BST
DTSTART:20250330T010000
END:DAYLIGHT
BEGIN:STANDARD
TZOFFSETFROM:+0100
TZOFFSETTO:+0000
TZNAME:GMT
DTSTART:20251026T010000
END:STANDARD
BEGIN:DAYLIGHT
TZOFFSETFROM:+0000
TZOFFSETTO:+0100
TZNAME:BST
DTSTART:20260329T010000
END:DAYLIGHT
BEGIN:STANDARD
TZOFFSETFROM:+0100
TZOFFSETTO:+0000
TZNAME:GMT
DTSTART:20261025T010000
END:STANDARD
END:VTIMEZONE
BEGIN:VEVENT
DTSTART;TZID=Europe/London:20251214T100000
DTEND;TZID=Europe/London:20251214T113000
DTSTAMP:20260424T034130
CREATED:20251015T104604Z
LAST-MODIFIED:20251206T141714Z
UID:13905-1765706400-1765711800@gorebridge.org.uk
SUMMARY:Breakfast With Santa (14th Dec)
DESCRIPTION:A very special guest is coming back again to the Beacon for breakfast.  \nJoin Santa and his elves for a special pancake breakfast. The Elves will show you to your table so you can tuck into your breakfast as Santa makes his way round to talk with your little ones. \nBefore things wrap up\, each child will receive a present and have the chance for a photo with Santa to share with your loved ones. \nBreakfast of pancakes and toppings is included\, as well as tea\, filter coffee and juice. Toppings include fresh fruit\, raspberry coulis\, cream and chocolate. \nPlease make us aware of any allergies or dietary requirements at the time of booking. \nN.B. No refunds available\, but you can transfer your tickets to another name. Babies are free\, we don’t assume they will be tucking into pancakes!
URL:https://gorebridge.org.uk/upcomingevents/bws14th/
LOCATION:Gorebridge Beacon
CATEGORIES:Beacon,Family Activities,GCDT,Gorebridge Beacon
ATTACH;FMTTYPE=image/jpeg:https://gorebridge.org.uk/wp-content/uploads/2025/10/Christmas-Santa-Event-Flyer-GB-small-2.jpg
END:VEVENT
BEGIN:VEVENT
DTSTART;TZID=Europe/London:20251221T100000
DTEND;TZID=Europe/London:20251221T113000
DTSTAMP:20260424T034130
CREATED:20251015T111032Z
LAST-MODIFIED:20251027T091418Z
UID:13913-1766311200-1766316600@gorebridge.org.uk
SUMMARY:Breakfast With Santa 21st Dec
DESCRIPTION:A very special guest is coming back again to the Beacon for breakfast. \nJoin Santa and his elves for a special pancake breakfast. The Elves will show you to your table so you can tuck into your breakfast as Santa makes his way round to talk with your little ones. \nBefore things wrap up\, each child will receive a present and have the chance for a photo with Santa to share with your loved ones. \nBreakfast of pancakes and toppings is included\, as well as tea\, filter coffee and juice. Toppings include fresh fruit\, raspberry coulis\, cream and chocolate. Adult? You can choose from a bacon\, egg\, haggis roll. \nN.B. No refunds available\, but you can transfer your tickets to another name. Babies are free\, we don’t assume they will be tucking into pancakes!
URL:https://gorebridge.org.uk/upcomingevents/bws21/
LOCATION:Gorebridge Beacon
CATEGORIES:Beacon,Family Activities,GCDT,Gorebridge Beacon
ATTACH;FMTTYPE=image/jpeg:https://gorebridge.org.uk/wp-content/uploads/2025/10/Christmas-Santa-Event-Flyer-GB-small-2.jpg
END:VEVENT
END:VCALENDAR