BEGIN:VCALENDAR
VERSION:2.0
PRODID:-//Gorebridge Community Development Trust - ECPv6.15.20//NONSGML v1.0//EN
CALSCALE:GREGORIAN
METHOD:PUBLISH
X-WR-CALNAME:Gorebridge Community Development Trust
X-ORIGINAL-URL:https://gorebridge.org.uk
X-WR-CALDESC:Events for Gorebridge Community Development Trust
REFRESH-INTERVAL;VALUE=DURATION:PT1H
X-Robots-Tag:noindex
X-PUBLISHED-TTL:PT1H
BEGIN:VTIMEZONE
TZID:Europe/London
BEGIN:DAYLIGHT
TZOFFSETFROM:+0000
TZOFFSETTO:+0100
TZNAME:BST
DTSTART:20250330T010000
END:DAYLIGHT
BEGIN:STANDARD
TZOFFSETFROM:+0100
TZOFFSETTO:+0000
TZNAME:GMT
DTSTART:20251026T010000
END:STANDARD
BEGIN:DAYLIGHT
TZOFFSETFROM:+0000
TZOFFSETTO:+0100
TZNAME:BST
DTSTART:20260329T010000
END:DAYLIGHT
BEGIN:STANDARD
TZOFFSETFROM:+0100
TZOFFSETTO:+0000
TZNAME:GMT
DTSTART:20261025T010000
END:STANDARD
BEGIN:DAYLIGHT
TZOFFSETFROM:+0000
TZOFFSETTO:+0100
TZNAME:BST
DTSTART:20270328T010000
END:DAYLIGHT
BEGIN:STANDARD
TZOFFSETFROM:+0100
TZOFFSETTO:+0000
TZNAME:GMT
DTSTART:20271031T010000
END:STANDARD
END:VTIMEZONE
BEGIN:VEVENT
DTSTART;TZID=Europe/London:20260202T090000
DTEND;TZID=Europe/London:20260202T113000
DTSTAMP:20260424T003726
CREATED:20260107T211313Z
LAST-MODIFIED:20260107T232656Z
UID:14585-1770022800-1770031800@gorebridge.org.uk
SUMMARY:Growing Together: Parent and Care Giver Group
DESCRIPTION:As a parent or carer\, you’re the most important person in your child’s world. We’re here to help you enjoy these precious early years with your child. \nRun by parents and care givers\, for parents and care givers. Starting January 2026 at the Beacon. \nThis is an informal community session for adults and young children to come together to socialise\, get and give support\, reduce isolation and provide peer support for parent’s and care givers mental wellbeing. \nCome along and share. Sessions are term time only.
URL:https://gorebridge.org.uk/upcomingevents/growing-together-parent-and-carer-giver-group/2026-02-02/
LOCATION:Gorebridge Beacon
CATEGORIES:Beacon,Family Activities,GCDT
ATTACH;FMTTYPE=image/png:https://gorebridge.org.uk/wp-content/uploads/2026/01/Parents-and-Carer-Givers-Group-2.png
END:VEVENT
BEGIN:VEVENT
DTSTART;TZID=Europe/London:20260203T150000
DTEND;TZID=Europe/London:20260203T170000
DTSTAMP:20260424T003726
CREATED:20260107T223427Z
LAST-MODIFIED:20260107T223427Z
UID:14601-1770130800-1770138000@gorebridge.org.uk
SUMMARY:Gorebridge Community Pantry
DESCRIPTION:The Pantry is open to all households/residents of EH23\, anyone who lives in this Post Code area can apply to become members of the Pantry and ‘shop’ there once a week. Membership is limited to 1 person per household. Membership is free\, and weekly ‘shop’ costs £3.50 which is put back into buying stock into the Pantry the following week. Each member receives 10 credits for £3.50\, and these credits can be used to ‘spend’ on fresh\, ambient or store-cupboard ingredients. If available\, free bread will be offered\, and volunteers will make each member a bag of fresh fruit and veggies. \nThe Pantry is open to EVERYONE who lives in EH23. Pop along to the Beacon 3 until 5 on a Tuesday and we will sign you up and you can do your shop.
URL:https://gorebridge.org.uk/upcomingevents/gorebridge-community-pantry-3/2026-02-03/
LOCATION:Gorebridge Beacon
CATEGORIES:Beacon,GCDT
ATTACH;FMTTYPE=image/png:https://gorebridge.org.uk/wp-content/uploads/2023/07/Pantry-3000-copy.png
END:VEVENT
BEGIN:VEVENT
DTSTART;TZID=Europe/London:20260209T090000
DTEND;TZID=Europe/London:20260209T113000
DTSTAMP:20260424T003726
CREATED:20260107T211313Z
LAST-MODIFIED:20260107T232659Z
UID:14586-1770627600-1770636600@gorebridge.org.uk
SUMMARY:Growing Together: Parent and Care Giver Group
DESCRIPTION:As a parent or carer\, you’re the most important person in your child’s world. We’re here to help you enjoy these precious early years with your child. \nRun by parents and care givers\, for parents and care givers. Starting January 2026 at the Beacon. \nThis is an informal community session for adults and young children to come together to socialise\, get and give support\, reduce isolation and provide peer support for parent’s and care givers mental wellbeing. \nCome along and share. Sessions are term time only.
URL:https://gorebridge.org.uk/upcomingevents/growing-together-parent-and-carer-giver-group/2026-02-09/
LOCATION:Gorebridge Beacon
CATEGORIES:Beacon,Family Activities,GCDT
ATTACH;FMTTYPE=image/png:https://gorebridge.org.uk/wp-content/uploads/2026/01/Parents-and-Carer-Givers-Group-2.png
END:VEVENT
BEGIN:VEVENT
DTSTART;TZID=Europe/London:20260210T150000
DTEND;TZID=Europe/London:20260210T170000
DTSTAMP:20260424T003726
CREATED:20260107T223427Z
LAST-MODIFIED:20260107T223427Z
UID:14602-1770735600-1770742800@gorebridge.org.uk
SUMMARY:Gorebridge Community Pantry
DESCRIPTION:The Pantry is open to all households/residents of EH23\, anyone who lives in this Post Code area can apply to become members of the Pantry and ‘shop’ there once a week. Membership is limited to 1 person per household. Membership is free\, and weekly ‘shop’ costs £3.50 which is put back into buying stock into the Pantry the following week. Each member receives 10 credits for £3.50\, and these credits can be used to ‘spend’ on fresh\, ambient or store-cupboard ingredients. If available\, free bread will be offered\, and volunteers will make each member a bag of fresh fruit and veggies. \nThe Pantry is open to EVERYONE who lives in EH23. Pop along to the Beacon 3 until 5 on a Tuesday and we will sign you up and you can do your shop.
URL:https://gorebridge.org.uk/upcomingevents/gorebridge-community-pantry-3/2026-02-10/
LOCATION:Gorebridge Beacon
CATEGORIES:Beacon,GCDT
ATTACH;FMTTYPE=image/png:https://gorebridge.org.uk/wp-content/uploads/2023/07/Pantry-3000-copy.png
END:VEVENT
BEGIN:VEVENT
DTSTART;TZID=Europe/London:20260217T150000
DTEND;TZID=Europe/London:20260217T170000
DTSTAMP:20260424T003726
CREATED:20260107T223427Z
LAST-MODIFIED:20260107T223427Z
UID:14603-1771340400-1771347600@gorebridge.org.uk
SUMMARY:Gorebridge Community Pantry
DESCRIPTION:The Pantry is open to all households/residents of EH23\, anyone who lives in this Post Code area can apply to become members of the Pantry and ‘shop’ there once a week. Membership is limited to 1 person per household. Membership is free\, and weekly ‘shop’ costs £3.50 which is put back into buying stock into the Pantry the following week. Each member receives 10 credits for £3.50\, and these credits can be used to ‘spend’ on fresh\, ambient or store-cupboard ingredients. If available\, free bread will be offered\, and volunteers will make each member a bag of fresh fruit and veggies. \nThe Pantry is open to EVERYONE who lives in EH23. Pop along to the Beacon 3 until 5 on a Tuesday and we will sign you up and you can do your shop.
URL:https://gorebridge.org.uk/upcomingevents/gorebridge-community-pantry-3/2026-02-17/
LOCATION:Gorebridge Beacon
CATEGORIES:Beacon,GCDT
ATTACH;FMTTYPE=image/png:https://gorebridge.org.uk/wp-content/uploads/2023/07/Pantry-3000-copy.png
END:VEVENT
BEGIN:VEVENT
DTSTART;TZID=Europe/London:20260223T090000
DTEND;TZID=Europe/London:20260223T113000
DTSTAMP:20260424T003726
CREATED:20260107T211313Z
LAST-MODIFIED:20260107T232702Z
UID:14588-1771837200-1771846200@gorebridge.org.uk
SUMMARY:Growing Together: Parent and Care Giver Group
DESCRIPTION:As a parent or carer\, you’re the most important person in your child’s world. We’re here to help you enjoy these precious early years with your child. \nRun by parents and care givers\, for parents and care givers. Starting January 2026 at the Beacon. \nThis is an informal community session for adults and young children to come together to socialise\, get and give support\, reduce isolation and provide peer support for parent’s and care givers mental wellbeing. \nCome along and share. Sessions are term time only.
URL:https://gorebridge.org.uk/upcomingevents/growing-together-parent-and-carer-giver-group/2026-02-23/
LOCATION:Gorebridge Beacon
CATEGORIES:Beacon,Family Activities,GCDT
ATTACH;FMTTYPE=image/png:https://gorebridge.org.uk/wp-content/uploads/2026/01/Parents-and-Carer-Givers-Group-2.png
END:VEVENT
BEGIN:VEVENT
DTSTART;TZID=Europe/London:20260224T150000
DTEND;TZID=Europe/London:20260224T170000
DTSTAMP:20260424T003726
CREATED:20260107T223427Z
LAST-MODIFIED:20260107T223427Z
UID:14604-1771945200-1771952400@gorebridge.org.uk
SUMMARY:Gorebridge Community Pantry
DESCRIPTION:The Pantry is open to all households/residents of EH23\, anyone who lives in this Post Code area can apply to become members of the Pantry and ‘shop’ there once a week. Membership is limited to 1 person per household. Membership is free\, and weekly ‘shop’ costs £3.50 which is put back into buying stock into the Pantry the following week. Each member receives 10 credits for £3.50\, and these credits can be used to ‘spend’ on fresh\, ambient or store-cupboard ingredients. If available\, free bread will be offered\, and volunteers will make each member a bag of fresh fruit and veggies. \nThe Pantry is open to EVERYONE who lives in EH23. Pop along to the Beacon 3 until 5 on a Tuesday and we will sign you up and you can do your shop.
URL:https://gorebridge.org.uk/upcomingevents/gorebridge-community-pantry-3/2026-02-24/
LOCATION:Gorebridge Beacon
CATEGORIES:Beacon,GCDT
ATTACH;FMTTYPE=image/png:https://gorebridge.org.uk/wp-content/uploads/2023/07/Pantry-3000-copy.png
END:VEVENT
END:VCALENDAR