BEGIN:VCALENDAR
VERSION:2.0
PRODID:-//Gorebridge Community Development Trust - ECPv6.15.20//NONSGML v1.0//EN
CALSCALE:GREGORIAN
METHOD:PUBLISH
X-ORIGINAL-URL:https://gorebridge.org.uk
X-WR-CALDESC:Events for Gorebridge Community Development Trust
REFRESH-INTERVAL;VALUE=DURATION:PT1H
X-Robots-Tag:noindex
X-PUBLISHED-TTL:PT1H
BEGIN:VTIMEZONE
TZID:Europe/London
BEGIN:DAYLIGHT
TZOFFSETFROM:+0000
TZOFFSETTO:+0100
TZNAME:BST
DTSTART:20230326T010000
END:DAYLIGHT
BEGIN:STANDARD
TZOFFSETFROM:+0100
TZOFFSETTO:+0000
TZNAME:GMT
DTSTART:20231029T010000
END:STANDARD
BEGIN:DAYLIGHT
TZOFFSETFROM:+0000
TZOFFSETTO:+0100
TZNAME:BST
DTSTART:20240331T010000
END:DAYLIGHT
BEGIN:STANDARD
TZOFFSETFROM:+0100
TZOFFSETTO:+0000
TZNAME:GMT
DTSTART:20241027T010000
END:STANDARD
BEGIN:DAYLIGHT
TZOFFSETFROM:+0000
TZOFFSETTO:+0100
TZNAME:BST
DTSTART:20250330T010000
END:DAYLIGHT
BEGIN:STANDARD
TZOFFSETFROM:+0100
TZOFFSETTO:+0000
TZNAME:GMT
DTSTART:20251026T010000
END:STANDARD
END:VTIMEZONE
BEGIN:VEVENT
DTSTART;TZID=Europe/London:20240110T093000
DTEND;TZID=Europe/London:20240110T110000
DTSTAMP:20260425T190621
CREATED:20240605T130818Z
LAST-MODIFIED:20240605T130818Z
UID:11336-1704879000-1704884400@gorebridge.org.uk
SUMMARY:Serenity Yoga
DESCRIPTION:Please contact Michelle on 07973 638126 or michele@sereneyoga.co.uk for further details on any of my classes. \nClasses are pre-booked\, please call above number.
URL:https://gorebridge.org.uk/upcomingevents/serenity-yoga/2024-01-10/
CATEGORIES:Beacon,Events,Gorebridge Beacon
END:VEVENT
BEGIN:VEVENT
DTSTART;TZID=Europe/London:20240111T140000
DTEND;TZID=Europe/London:20240111T160000
DTSTAMP:20260425T190621
CREATED:20240620T125109Z
LAST-MODIFIED:20240620T125109Z
UID:11457-1704981600-1704988800@gorebridge.org.uk
SUMMARY:Craft Group at the Beacon
DESCRIPTION:Every Thursday\n2:00 PM – 4:00 PM\nThe Beacon \nLooking for a creative and relaxing way to spend your Thursday afternoons? Join us at The Beacon for our weekly Craft Group! \nWhether you’re an experienced crafter or just starting out\, our group is open to all skill levels. Bring your own craft projects—knitting\, crochet\, painting\, scrapbooking\, or any other craft you enjoy—and share ideas\, tips\, and inspiration with fellow craft enthusiasts. \nWhat to Expect: \n\nA welcoming and supportive environment\nA chance to work on your own projects\nOpportunities to learn new techniques\nMeet new friends who share your passion for crafting\n\nNo need to register\, just drop in! We look forward to seeing you and your creative projects. \nFor more information\, please contact us at office@gorebridge.org.uk \nHappy crafting!
URL:https://gorebridge.org.uk/upcomingevents/craft-group-at-the-beacon/2024-01-11/
LOCATION:Gorebridge Beacon
CATEGORIES:Events,Gorebridge Beacon
END:VEVENT
BEGIN:VEVENT
DTSTART;TZID=Europe/London:20240127T090000
DTEND;TZID=Europe/London:20240127T111500
DTSTAMP:20260425T190621
CREATED:20240605T122912Z
LAST-MODIFIED:20240605T122912Z
UID:11025-1706346000-1706354100@gorebridge.org.uk
SUMMARY:Sportif Judu (External)
DESCRIPTION:Judo class at the Gorebridge Beacon on Saturday mornings. \n\n9 – 9:45 5 – 6 years\n9:45 – 10:30 7 – 8 years\n10:30 – 11:15 9\,10\, 11 years\n\nThis is an external booking\, please contact Hannah for more information (exact times which may change). \nHannah Wood\nPro Coach & Project Coordinator\nSportif Lifestyle Ltd\n140 Galashiels Road\nStow\nTD1 2RA\nMbl: 07907 308876\nhannah@sportiflifestyle.com
URL:https://gorebridge.org.uk/upcomingevents/sportif-judu-external/2024-01-27/
CATEGORIES:Events,Gorebridge Beacon
END:VEVENT
END:VCALENDAR