BEGIN:VCALENDAR
VERSION:2.0
PRODID:-//Gorebridge Community Development Trust - ECPv6.15.20//NONSGML v1.0//EN
CALSCALE:GREGORIAN
METHOD:PUBLISH
X-WR-CALNAME:Gorebridge Community Development Trust
X-ORIGINAL-URL:https://gorebridge.org.uk
X-WR-CALDESC:Events for Gorebridge Community Development Trust
REFRESH-INTERVAL;VALUE=DURATION:PT1H
X-Robots-Tag:noindex
X-PUBLISHED-TTL:PT1H
BEGIN:VTIMEZONE
TZID:Europe/London
BEGIN:DAYLIGHT
TZOFFSETFROM:+0000
TZOFFSETTO:+0100
TZNAME:BST
DTSTART:20230326T010000
END:DAYLIGHT
BEGIN:STANDARD
TZOFFSETFROM:+0100
TZOFFSETTO:+0000
TZNAME:GMT
DTSTART:20231029T010000
END:STANDARD
BEGIN:DAYLIGHT
TZOFFSETFROM:+0000
TZOFFSETTO:+0100
TZNAME:BST
DTSTART:20240331T010000
END:DAYLIGHT
BEGIN:STANDARD
TZOFFSETFROM:+0100
TZOFFSETTO:+0000
TZNAME:GMT
DTSTART:20241027T010000
END:STANDARD
BEGIN:DAYLIGHT
TZOFFSETFROM:+0000
TZOFFSETTO:+0100
TZNAME:BST
DTSTART:20250330T010000
END:DAYLIGHT
BEGIN:STANDARD
TZOFFSETFROM:+0100
TZOFFSETTO:+0000
TZNAME:GMT
DTSTART:20251026T010000
END:STANDARD
END:VTIMEZONE
BEGIN:VEVENT
DTSTART;TZID=Europe/London:20240501T093000
DTEND;TZID=Europe/London:20240501T110000
DTSTAMP:20260425T124554
CREATED:20240605T130818Z
LAST-MODIFIED:20240605T130818Z
UID:11353-1714555800-1714561200@gorebridge.org.uk
SUMMARY:Serenity Yoga
DESCRIPTION:Please contact Michelle on 07973 638126 or michele@sereneyoga.co.uk for further details on any of my classes. \nClasses are pre-booked\, please call above number.
URL:https://gorebridge.org.uk/upcomingevents/serenity-yoga/2024-05-01/
CATEGORIES:Beacon,Events,Gorebridge Beacon
END:VEVENT
BEGIN:VEVENT
DTSTART;TZID=Europe/London:20240502T140000
DTEND;TZID=Europe/London:20240502T160000
DTSTAMP:20260425T124554
CREATED:20240620T125109Z
LAST-MODIFIED:20240620T125109Z
UID:11474-1714658400-1714665600@gorebridge.org.uk
SUMMARY:Craft Group at the Beacon
DESCRIPTION:Every Thursday\n2:00 PM – 4:00 PM\nThe Beacon \nLooking for a creative and relaxing way to spend your Thursday afternoons? Join us at The Beacon for our weekly Craft Group! \nWhether you’re an experienced crafter or just starting out\, our group is open to all skill levels. Bring your own craft projects—knitting\, crochet\, painting\, scrapbooking\, or any other craft you enjoy—and share ideas\, tips\, and inspiration with fellow craft enthusiasts. \nWhat to Expect: \n\nA welcoming and supportive environment\nA chance to work on your own projects\nOpportunities to learn new techniques\nMeet new friends who share your passion for crafting\n\nNo need to register\, just drop in! We look forward to seeing you and your creative projects. \nFor more information\, please contact us at office@gorebridge.org.uk \nHappy crafting!
URL:https://gorebridge.org.uk/upcomingevents/craft-group-at-the-beacon/2024-05-02/
LOCATION:Gorebridge Beacon
CATEGORIES:Events,Gorebridge Beacon
END:VEVENT
BEGIN:VEVENT
DTSTART;TZID=Europe/London:20240504T090000
DTEND;TZID=Europe/London:20240504T111500
DTSTAMP:20260425T124554
CREATED:20240605T122912Z
LAST-MODIFIED:20240605T122912Z
UID:11040-1714813200-1714821300@gorebridge.org.uk
SUMMARY:Sportif Judu (External)
DESCRIPTION:Judo class at the Gorebridge Beacon on Saturday mornings. \n\n9 – 9:45 5 – 6 years\n9:45 – 10:30 7 – 8 years\n10:30 – 11:15 9\,10\, 11 years\n\nThis is an external booking\, please contact Hannah for more information (exact times which may change). \nHannah Wood\nPro Coach & Project Coordinator\nSportif Lifestyle Ltd\n140 Galashiels Road\nStow\nTD1 2RA\nMbl: 07907 308876\nhannah@sportiflifestyle.com
URL:https://gorebridge.org.uk/upcomingevents/sportif-judu-external/2024-05-04/
CATEGORIES:Events,Gorebridge Beacon
END:VEVENT
BEGIN:VEVENT
DTSTART;TZID=Europe/London:20240504T183000
DTEND;TZID=Europe/London:20240504T223000
DTSTAMP:20260425T124554
CREATED:20240418T141422Z
LAST-MODIFIED:20240430T152050Z
UID:10835-1714847400-1714861800@gorebridge.org.uk
SUMMARY:BINGO 4th May
DESCRIPTION:Get ready to yell “BINGO!” \nJoin us for a night of excitement\, laughter\, and maybe a little friendly competition at the Gorebridge Beacon on May 4th! We’re rolling out the red carpet for our fabulous BINGO Night extravaganza\, and you’re invited to join in on the fun! \n🎱 Date: May 4th\n🎱 Time: 6:30 PM onwards\, eyes down 7:00PM. End 10:30PM\n🎱 Location: Gorebridge Beacon\, Hunterfield Road\, Gorebridge\, EH23 4TT \nWith tickets priced at just £12\, you’ll get access to an evening packed with thrilling games\, awesome prizes\, and fantastic company. And the best part? It’s BYOB! So\, grab your favorite drinks\, whether it’s a bottle of bubbly or a six-pack of your preferred brew\, and get ready to toast to good times and even better luck! \nGrab your tickets now and mark your calendars for a night of BINGO madness at the Gorebridge Beacon. \nSee you there!
URL:https://gorebridge.org.uk/upcomingevents/bingo-4th-may/
LOCATION:Gorebridge Beacon
CATEGORIES:Beacon,Events,Gorebridge Beacon,Gorebridge Community Development Trust
END:VEVENT
BEGIN:VEVENT
DTSTART;TZID=Europe/London:20240507T150000
DTEND;TZID=Europe/London:20240507T170000
DTSTAMP:20260425T124554
CREATED:20240605T124327Z
LAST-MODIFIED:20240605T124327Z
UID:12674-1715094000-1715101200@gorebridge.org.uk
SUMMARY:Gorebridge Community Pantry
DESCRIPTION:The Gorebridge Community Pantry is open every Tuesday evening 3 – 5PM (until 31st March 2025) \nTo read more about the Pantry please click here.
URL:https://gorebridge.org.uk/upcomingevents/gorebridge-community-pantry-2/2024-05-07/
LOCATION:Gorebridge Beacon
CATEGORIES:Food,Gorebridge Beacon,Gorebridge Community Development Trust
END:VEVENT
BEGIN:VEVENT
DTSTART;TZID=Europe/London:20240508T093000
DTEND;TZID=Europe/London:20240508T110000
DTSTAMP:20260425T124554
CREATED:20240605T130818Z
LAST-MODIFIED:20240605T130818Z
UID:11354-1715160600-1715166000@gorebridge.org.uk
SUMMARY:Serenity Yoga
DESCRIPTION:Please contact Michelle on 07973 638126 or michele@sereneyoga.co.uk for further details on any of my classes. \nClasses are pre-booked\, please call above number.
URL:https://gorebridge.org.uk/upcomingevents/serenity-yoga/2024-05-08/
CATEGORIES:Beacon,Events,Gorebridge Beacon
END:VEVENT
BEGIN:VEVENT
DTSTART;TZID=Europe/London:20240509T140000
DTEND;TZID=Europe/London:20240509T160000
DTSTAMP:20260425T124554
CREATED:20240620T125109Z
LAST-MODIFIED:20240620T125109Z
UID:11475-1715263200-1715270400@gorebridge.org.uk
SUMMARY:Craft Group at the Beacon
DESCRIPTION:Every Thursday\n2:00 PM – 4:00 PM\nThe Beacon \nLooking for a creative and relaxing way to spend your Thursday afternoons? Join us at The Beacon for our weekly Craft Group! \nWhether you’re an experienced crafter or just starting out\, our group is open to all skill levels. Bring your own craft projects—knitting\, crochet\, painting\, scrapbooking\, or any other craft you enjoy—and share ideas\, tips\, and inspiration with fellow craft enthusiasts. \nWhat to Expect: \n\nA welcoming and supportive environment\nA chance to work on your own projects\nOpportunities to learn new techniques\nMeet new friends who share your passion for crafting\n\nNo need to register\, just drop in! We look forward to seeing you and your creative projects. \nFor more information\, please contact us at office@gorebridge.org.uk \nHappy crafting!
URL:https://gorebridge.org.uk/upcomingevents/craft-group-at-the-beacon/2024-05-09/
LOCATION:Gorebridge Beacon
CATEGORIES:Events,Gorebridge Beacon
END:VEVENT
BEGIN:VEVENT
DTSTART;TZID=Europe/London:20240511T090000
DTEND;TZID=Europe/London:20240511T111500
DTSTAMP:20260425T124554
CREATED:20240605T122912Z
LAST-MODIFIED:20240605T122912Z
UID:11041-1715418000-1715426100@gorebridge.org.uk
SUMMARY:Sportif Judu (External)
DESCRIPTION:Judo class at the Gorebridge Beacon on Saturday mornings. \n\n9 – 9:45 5 – 6 years\n9:45 – 10:30 7 – 8 years\n10:30 – 11:15 9\,10\, 11 years\n\nThis is an external booking\, please contact Hannah for more information (exact times which may change). \nHannah Wood\nPro Coach & Project Coordinator\nSportif Lifestyle Ltd\n140 Galashiels Road\nStow\nTD1 2RA\nMbl: 07907 308876\nhannah@sportiflifestyle.com
URL:https://gorebridge.org.uk/upcomingevents/sportif-judu-external/2024-05-11/
CATEGORIES:Events,Gorebridge Beacon
END:VEVENT
BEGIN:VEVENT
DTSTART;TZID=Europe/London:20240514T150000
DTEND;TZID=Europe/London:20240514T170000
DTSTAMP:20260425T124554
CREATED:20240605T124327Z
LAST-MODIFIED:20240605T124327Z
UID:12675-1715698800-1715706000@gorebridge.org.uk
SUMMARY:Gorebridge Community Pantry
DESCRIPTION:The Gorebridge Community Pantry is open every Tuesday evening 3 – 5PM (until 31st March 2025) \nTo read more about the Pantry please click here.
URL:https://gorebridge.org.uk/upcomingevents/gorebridge-community-pantry-2/2024-05-14/
LOCATION:Gorebridge Beacon
CATEGORIES:Food,Gorebridge Beacon,Gorebridge Community Development Trust
END:VEVENT
BEGIN:VEVENT
DTSTART;TZID=Europe/London:20240515T093000
DTEND;TZID=Europe/London:20240515T110000
DTSTAMP:20260425T124554
CREATED:20240605T130818Z
LAST-MODIFIED:20240605T130818Z
UID:11355-1715765400-1715770800@gorebridge.org.uk
SUMMARY:Serenity Yoga
DESCRIPTION:Please contact Michelle on 07973 638126 or michele@sereneyoga.co.uk for further details on any of my classes. \nClasses are pre-booked\, please call above number.
URL:https://gorebridge.org.uk/upcomingevents/serenity-yoga/2024-05-15/
CATEGORIES:Beacon,Events,Gorebridge Beacon
END:VEVENT
BEGIN:VEVENT
DTSTART;TZID=Europe/London:20240516T140000
DTEND;TZID=Europe/London:20240516T160000
DTSTAMP:20260425T124554
CREATED:20240620T125109Z
LAST-MODIFIED:20240620T125109Z
UID:11476-1715868000-1715875200@gorebridge.org.uk
SUMMARY:Craft Group at the Beacon
DESCRIPTION:Every Thursday\n2:00 PM – 4:00 PM\nThe Beacon \nLooking for a creative and relaxing way to spend your Thursday afternoons? Join us at The Beacon for our weekly Craft Group! \nWhether you’re an experienced crafter or just starting out\, our group is open to all skill levels. Bring your own craft projects—knitting\, crochet\, painting\, scrapbooking\, or any other craft you enjoy—and share ideas\, tips\, and inspiration with fellow craft enthusiasts. \nWhat to Expect: \n\nA welcoming and supportive environment\nA chance to work on your own projects\nOpportunities to learn new techniques\nMeet new friends who share your passion for crafting\n\nNo need to register\, just drop in! We look forward to seeing you and your creative projects. \nFor more information\, please contact us at office@gorebridge.org.uk \nHappy crafting!
URL:https://gorebridge.org.uk/upcomingevents/craft-group-at-the-beacon/2024-05-16/
LOCATION:Gorebridge Beacon
CATEGORIES:Events,Gorebridge Beacon
END:VEVENT
BEGIN:VEVENT
DTSTART;TZID=Europe/London:20240518T090000
DTEND;TZID=Europe/London:20240518T111500
DTSTAMP:20260425T124554
CREATED:20240605T122912Z
LAST-MODIFIED:20240605T122912Z
UID:11042-1716022800-1716030900@gorebridge.org.uk
SUMMARY:Sportif Judu (External)
DESCRIPTION:Judo class at the Gorebridge Beacon on Saturday mornings. \n\n9 – 9:45 5 – 6 years\n9:45 – 10:30 7 – 8 years\n10:30 – 11:15 9\,10\, 11 years\n\nThis is an external booking\, please contact Hannah for more information (exact times which may change). \nHannah Wood\nPro Coach & Project Coordinator\nSportif Lifestyle Ltd\n140 Galashiels Road\nStow\nTD1 2RA\nMbl: 07907 308876\nhannah@sportiflifestyle.com
URL:https://gorebridge.org.uk/upcomingevents/sportif-judu-external/2024-05-18/
CATEGORIES:Events,Gorebridge Beacon
END:VEVENT
BEGIN:VEVENT
DTSTART;TZID=Europe/London:20240518T123000
DTEND;TZID=Europe/London:20240518T180000
DTSTAMP:20260425T124554
CREATED:20240501T135317Z
LAST-MODIFIED:20240501T135317Z
UID:10894-1716035400-1716055200@gorebridge.org.uk
SUMMARY:Spring Fling
DESCRIPTION:Get Ready to Celebrate Spring at the Gorebridge Beacon Spring Fling! \nSpring has sprung\, and what better way to celebrate the season of warmer days and longer nights than with our upcoming Gorebridge Beacon Spring Fling on May 18th! Mark your calendars and join us for a day filled with community spirit\, entertainment\, and fun activities for all ages. \nTimetable \n12:30 – 4PM SRUC Showgardens (Judging @ 12:30)\n12:30 – 4pm SRUC recruitment fair\n1:00 – 3pm Plant Sale\n2:00pm Gorebridge Community Choir\n1:00 – 4pm Spring Craft Fair (local crafters)\n4:00 – 6pm Garden Party \nCraft Fair:\nSupport local crafters and makers and browse through a delightful array of handcrafted goods at our craft fair. From handmade soaps to beautiful botanical skincare\, there will be something special for everyone to discover. \nGorebridge Community Choir:\nLet the uplifting melodies of the Gorebridge Community Choir lift your spirits as they serenade us with their enchanting voices. Simply sit back and enjoy the harmonious tunes. Starts 2PM. \nSRUC Showgardens and Recruitment Event:\nWe are excited that the students from the Scottish Rural College (SRUC) will be installing within the Beacon Garderns their show gardens this year. Come and explore\, meet the students\, get inspiration and ideas for your own green spaces (no matter if it’s a large pot or a large garden). The Showgardens will be judged at 12:30 for 2024. \nPlus\, don’t miss the SRUC recruitment event where you can learn more about exciting courses and opportunities offered by SRUC from horticulture to animal care\, agriculture to forestry the courses at SRUC is vast\, and on our doorstep. More information https://www.sruc.ac.uk/course-catalogue/ \nPlant Sale:\nThe annual Gorebridge Plant Sale. Come and join the Gorebridge Community Gardeners\, and Gorebridge Community Cares and fill your garden with vibrant blooms and lush greenery from our plant sale. Whether you’re a seasoned gardener or just starting out\, you’ll find the perfect plants to add a splash of color to your outdoor space. \nGarden Party:\nWrap up the day with a lively garden party filled with laughter\, good food\, and great company. Come and spend time in the garden\, listen to music\, have something to eat. \nJoin us at the Gorebridge Beacon on May 18th for a day of community celebration at our Spring Fling. \nAdmission is free\, so bring the whole family and let’s make some wonderful memories together!
URL:https://gorebridge.org.uk/upcomingevents/spring-fling/
LOCATION:Gorebridge Beacon
CATEGORIES:Events,Gorebridge Beacon,Gorebridge Community Development Trust
ATTACH;FMTTYPE=image/png:https://gorebridge.org.uk/wp-content/uploads/2024/05/Untitled-2.png
END:VEVENT
BEGIN:VEVENT
DTSTART;TZID=Europe/London:20240521T150000
DTEND;TZID=Europe/London:20240521T170000
DTSTAMP:20260425T124554
CREATED:20240605T124327Z
LAST-MODIFIED:20240605T124327Z
UID:12676-1716303600-1716310800@gorebridge.org.uk
SUMMARY:Gorebridge Community Pantry
DESCRIPTION:The Gorebridge Community Pantry is open every Tuesday evening 3 – 5PM (until 31st March 2025) \nTo read more about the Pantry please click here.
URL:https://gorebridge.org.uk/upcomingevents/gorebridge-community-pantry-2/2024-05-21/
LOCATION:Gorebridge Beacon
CATEGORIES:Food,Gorebridge Beacon,Gorebridge Community Development Trust
END:VEVENT
BEGIN:VEVENT
DTSTART;TZID=Europe/London:20240522T093000
DTEND;TZID=Europe/London:20240522T110000
DTSTAMP:20260425T124554
CREATED:20240605T130818Z
LAST-MODIFIED:20240605T130818Z
UID:11356-1716370200-1716375600@gorebridge.org.uk
SUMMARY:Serenity Yoga
DESCRIPTION:Please contact Michelle on 07973 638126 or michele@sereneyoga.co.uk for further details on any of my classes. \nClasses are pre-booked\, please call above number.
URL:https://gorebridge.org.uk/upcomingevents/serenity-yoga/2024-05-22/
CATEGORIES:Beacon,Events,Gorebridge Beacon
END:VEVENT
BEGIN:VEVENT
DTSTART;TZID=Europe/London:20240523T140000
DTEND;TZID=Europe/London:20240523T160000
DTSTAMP:20260425T124554
CREATED:20240620T125109Z
LAST-MODIFIED:20240620T125109Z
UID:11477-1716472800-1716480000@gorebridge.org.uk
SUMMARY:Craft Group at the Beacon
DESCRIPTION:Every Thursday\n2:00 PM – 4:00 PM\nThe Beacon \nLooking for a creative and relaxing way to spend your Thursday afternoons? Join us at The Beacon for our weekly Craft Group! \nWhether you’re an experienced crafter or just starting out\, our group is open to all skill levels. Bring your own craft projects—knitting\, crochet\, painting\, scrapbooking\, or any other craft you enjoy—and share ideas\, tips\, and inspiration with fellow craft enthusiasts. \nWhat to Expect: \n\nA welcoming and supportive environment\nA chance to work on your own projects\nOpportunities to learn new techniques\nMeet new friends who share your passion for crafting\n\nNo need to register\, just drop in! We look forward to seeing you and your creative projects. \nFor more information\, please contact us at office@gorebridge.org.uk \nHappy crafting!
URL:https://gorebridge.org.uk/upcomingevents/craft-group-at-the-beacon/2024-05-23/
LOCATION:Gorebridge Beacon
CATEGORIES:Events,Gorebridge Beacon
END:VEVENT
BEGIN:VEVENT
DTSTART;TZID=Europe/London:20240525T090000
DTEND;TZID=Europe/London:20240525T111500
DTSTAMP:20260425T124554
CREATED:20240605T122912Z
LAST-MODIFIED:20240605T122912Z
UID:11043-1716627600-1716635700@gorebridge.org.uk
SUMMARY:Sportif Judu (External)
DESCRIPTION:Judo class at the Gorebridge Beacon on Saturday mornings. \n\n9 – 9:45 5 – 6 years\n9:45 – 10:30 7 – 8 years\n10:30 – 11:15 9\,10\, 11 years\n\nThis is an external booking\, please contact Hannah for more information (exact times which may change). \nHannah Wood\nPro Coach & Project Coordinator\nSportif Lifestyle Ltd\n140 Galashiels Road\nStow\nTD1 2RA\nMbl: 07907 308876\nhannah@sportiflifestyle.com
URL:https://gorebridge.org.uk/upcomingevents/sportif-judu-external/2024-05-25/
CATEGORIES:Events,Gorebridge Beacon
END:VEVENT
BEGIN:VEVENT
DTSTART;TZID=Europe/London:20240528T150000
DTEND;TZID=Europe/London:20240528T170000
DTSTAMP:20260425T124554
CREATED:20240605T124327Z
LAST-MODIFIED:20240605T124327Z
UID:12677-1716908400-1716915600@gorebridge.org.uk
SUMMARY:Gorebridge Community Pantry
DESCRIPTION:The Gorebridge Community Pantry is open every Tuesday evening 3 – 5PM (until 31st March 2025) \nTo read more about the Pantry please click here.
URL:https://gorebridge.org.uk/upcomingevents/gorebridge-community-pantry-2/2024-05-28/
LOCATION:Gorebridge Beacon
CATEGORIES:Food,Gorebridge Beacon,Gorebridge Community Development Trust
END:VEVENT
BEGIN:VEVENT
DTSTART;TZID=Europe/London:20240529T093000
DTEND;TZID=Europe/London:20240529T110000
DTSTAMP:20260425T124554
CREATED:20240605T130818Z
LAST-MODIFIED:20240605T130818Z
UID:11357-1716975000-1716980400@gorebridge.org.uk
SUMMARY:Serenity Yoga
DESCRIPTION:Please contact Michelle on 07973 638126 or michele@sereneyoga.co.uk for further details on any of my classes. \nClasses are pre-booked\, please call above number.
URL:https://gorebridge.org.uk/upcomingevents/serenity-yoga/2024-05-29/
CATEGORIES:Beacon,Events,Gorebridge Beacon
END:VEVENT
BEGIN:VEVENT
DTSTART;TZID=Europe/London:20240530T140000
DTEND;TZID=Europe/London:20240530T160000
DTSTAMP:20260425T124554
CREATED:20240620T125109Z
LAST-MODIFIED:20240620T125109Z
UID:11478-1717077600-1717084800@gorebridge.org.uk
SUMMARY:Craft Group at the Beacon
DESCRIPTION:Every Thursday\n2:00 PM – 4:00 PM\nThe Beacon \nLooking for a creative and relaxing way to spend your Thursday afternoons? Join us at The Beacon for our weekly Craft Group! \nWhether you’re an experienced crafter or just starting out\, our group is open to all skill levels. Bring your own craft projects—knitting\, crochet\, painting\, scrapbooking\, or any other craft you enjoy—and share ideas\, tips\, and inspiration with fellow craft enthusiasts. \nWhat to Expect: \n\nA welcoming and supportive environment\nA chance to work on your own projects\nOpportunities to learn new techniques\nMeet new friends who share your passion for crafting\n\nNo need to register\, just drop in! We look forward to seeing you and your creative projects. \nFor more information\, please contact us at office@gorebridge.org.uk \nHappy crafting!
URL:https://gorebridge.org.uk/upcomingevents/craft-group-at-the-beacon/2024-05-30/
LOCATION:Gorebridge Beacon
CATEGORIES:Events,Gorebridge Beacon
END:VEVENT
END:VCALENDAR