BEGIN:VCALENDAR
VERSION:2.0
PRODID:-//Gorebridge Community Development Trust - ECPv6.15.20//NONSGML v1.0//EN
CALSCALE:GREGORIAN
METHOD:PUBLISH
X-WR-CALNAME:Gorebridge Community Development Trust
X-ORIGINAL-URL:https://gorebridge.org.uk
X-WR-CALDESC:Events for Gorebridge Community Development Trust
REFRESH-INTERVAL;VALUE=DURATION:PT1H
X-Robots-Tag:noindex
X-PUBLISHED-TTL:PT1H
BEGIN:VTIMEZONE
TZID:Europe/London
BEGIN:DAYLIGHT
TZOFFSETFROM:+0000
TZOFFSETTO:+0100
TZNAME:BST
DTSTART:20230326T010000
END:DAYLIGHT
BEGIN:STANDARD
TZOFFSETFROM:+0100
TZOFFSETTO:+0000
TZNAME:GMT
DTSTART:20231029T010000
END:STANDARD
BEGIN:DAYLIGHT
TZOFFSETFROM:+0000
TZOFFSETTO:+0100
TZNAME:BST
DTSTART:20240331T010000
END:DAYLIGHT
BEGIN:STANDARD
TZOFFSETFROM:+0100
TZOFFSETTO:+0000
TZNAME:GMT
DTSTART:20241027T010000
END:STANDARD
BEGIN:DAYLIGHT
TZOFFSETFROM:+0000
TZOFFSETTO:+0100
TZNAME:BST
DTSTART:20250330T010000
END:DAYLIGHT
BEGIN:STANDARD
TZOFFSETFROM:+0100
TZOFFSETTO:+0000
TZNAME:GMT
DTSTART:20251026T010000
END:STANDARD
END:VTIMEZONE
BEGIN:VEVENT
DTSTART;TZID=Europe/London:20240822T140000
DTEND;TZID=Europe/London:20240822T160000
DTSTAMP:20260425T022212
CREATED:20240620T125109Z
LAST-MODIFIED:20240620T125109Z
UID:11490-1724335200-1724342400@gorebridge.org.uk
SUMMARY:Craft Group at the Beacon
DESCRIPTION:Every Thursday\n2:00 PM – 4:00 PM\nThe Beacon \nLooking for a creative and relaxing way to spend your Thursday afternoons? Join us at The Beacon for our weekly Craft Group! \nWhether you’re an experienced crafter or just starting out\, our group is open to all skill levels. Bring your own craft projects—knitting\, crochet\, painting\, scrapbooking\, or any other craft you enjoy—and share ideas\, tips\, and inspiration with fellow craft enthusiasts. \nWhat to Expect: \n\nA welcoming and supportive environment\nA chance to work on your own projects\nOpportunities to learn new techniques\nMeet new friends who share your passion for crafting\n\nNo need to register\, just drop in! We look forward to seeing you and your creative projects. \nFor more information\, please contact us at office@gorebridge.org.uk \nHappy crafting!
URL:https://gorebridge.org.uk/upcomingevents/craft-group-at-the-beacon/2024-08-22/
LOCATION:Gorebridge Beacon
CATEGORIES:Events,Gorebridge Beacon
END:VEVENT
BEGIN:VEVENT
DTSTART;TZID=Europe/London:20240821T093000
DTEND;TZID=Europe/London:20240821T110000
DTSTAMP:20260425T022212
CREATED:20240605T130818Z
LAST-MODIFIED:20240605T130818Z
UID:11369-1724232600-1724238000@gorebridge.org.uk
SUMMARY:Serenity Yoga
DESCRIPTION:Please contact Michelle on 07973 638126 or michele@sereneyoga.co.uk for further details on any of my classes. \nClasses are pre-booked\, please call above number.
URL:https://gorebridge.org.uk/upcomingevents/serenity-yoga/2024-08-21/
CATEGORIES:Beacon,Events,Gorebridge Beacon
END:VEVENT
BEGIN:VEVENT
DTSTART;TZID=Europe/London:20240820T150000
DTEND;TZID=Europe/London:20240820T170000
DTSTAMP:20260425T022212
CREATED:20240605T124327Z
LAST-MODIFIED:20240605T124327Z
UID:12689-1724166000-1724173200@gorebridge.org.uk
SUMMARY:Gorebridge Community Pantry
DESCRIPTION:The Gorebridge Community Pantry is open every Tuesday evening 3 – 5PM (until 31st March 2025) \nTo read more about the Pantry please click here.
URL:https://gorebridge.org.uk/upcomingevents/gorebridge-community-pantry-2/2024-08-20/
LOCATION:Gorebridge Beacon
CATEGORIES:Food,Gorebridge Beacon,Gorebridge Community Development Trust
END:VEVENT
BEGIN:VEVENT
DTSTART;TZID=Europe/London:20240817T090000
DTEND;TZID=Europe/London:20240817T111500
DTSTAMP:20260425T022212
CREATED:20240605T122912Z
LAST-MODIFIED:20240605T122912Z
UID:11055-1723885200-1723893300@gorebridge.org.uk
SUMMARY:Sportif Judu (External)
DESCRIPTION:Judo class at the Gorebridge Beacon on Saturday mornings. \n\n9 – 9:45 5 – 6 years\n9:45 – 10:30 7 – 8 years\n10:30 – 11:15 9\,10\, 11 years\n\nThis is an external booking\, please contact Hannah for more information (exact times which may change). \nHannah Wood\nPro Coach & Project Coordinator\nSportif Lifestyle Ltd\n140 Galashiels Road\nStow\nTD1 2RA\nMbl: 07907 308876\nhannah@sportiflifestyle.com
URL:https://gorebridge.org.uk/upcomingevents/sportif-judu-external/2024-08-17/
CATEGORIES:Events,Gorebridge Beacon
END:VEVENT
BEGIN:VEVENT
DTSTART;TZID=Europe/London:20240815T140000
DTEND;TZID=Europe/London:20240815T160000
DTSTAMP:20260425T022212
CREATED:20240620T125109Z
LAST-MODIFIED:20240620T125109Z
UID:11489-1723730400-1723737600@gorebridge.org.uk
SUMMARY:Craft Group at the Beacon
DESCRIPTION:Every Thursday\n2:00 PM – 4:00 PM\nThe Beacon \nLooking for a creative and relaxing way to spend your Thursday afternoons? Join us at The Beacon for our weekly Craft Group! \nWhether you’re an experienced crafter or just starting out\, our group is open to all skill levels. Bring your own craft projects—knitting\, crochet\, painting\, scrapbooking\, or any other craft you enjoy—and share ideas\, tips\, and inspiration with fellow craft enthusiasts. \nWhat to Expect: \n\nA welcoming and supportive environment\nA chance to work on your own projects\nOpportunities to learn new techniques\nMeet new friends who share your passion for crafting\n\nNo need to register\, just drop in! We look forward to seeing you and your creative projects. \nFor more information\, please contact us at office@gorebridge.org.uk \nHappy crafting!
URL:https://gorebridge.org.uk/upcomingevents/craft-group-at-the-beacon/2024-08-15/
LOCATION:Gorebridge Beacon
CATEGORIES:Events,Gorebridge Beacon
END:VEVENT
BEGIN:VEVENT
DTSTART;TZID=Europe/London:20240814T093000
DTEND;TZID=Europe/London:20240814T110000
DTSTAMP:20260425T022212
CREATED:20240605T130818Z
LAST-MODIFIED:20240605T130818Z
UID:11368-1723627800-1723633200@gorebridge.org.uk
SUMMARY:Serenity Yoga
DESCRIPTION:Please contact Michelle on 07973 638126 or michele@sereneyoga.co.uk for further details on any of my classes. \nClasses are pre-booked\, please call above number.
URL:https://gorebridge.org.uk/upcomingevents/serenity-yoga/2024-08-14/
CATEGORIES:Beacon,Events,Gorebridge Beacon
END:VEVENT
BEGIN:VEVENT
DTSTART;TZID=Europe/London:20240813T150000
DTEND;TZID=Europe/London:20240813T170000
DTSTAMP:20260425T022212
CREATED:20240605T124327Z
LAST-MODIFIED:20240605T124327Z
UID:12688-1723561200-1723568400@gorebridge.org.uk
SUMMARY:Gorebridge Community Pantry
DESCRIPTION:The Gorebridge Community Pantry is open every Tuesday evening 3 – 5PM (until 31st March 2025) \nTo read more about the Pantry please click here.
URL:https://gorebridge.org.uk/upcomingevents/gorebridge-community-pantry-2/2024-08-13/
LOCATION:Gorebridge Beacon
CATEGORIES:Food,Gorebridge Beacon,Gorebridge Community Development Trust
END:VEVENT
BEGIN:VEVENT
DTSTART;TZID=Europe/London:20240810T090000
DTEND;TZID=Europe/London:20240810T111500
DTSTAMP:20260425T022212
CREATED:20240605T122912Z
LAST-MODIFIED:20240605T122912Z
UID:11054-1723280400-1723288500@gorebridge.org.uk
SUMMARY:Sportif Judu (External)
DESCRIPTION:Judo class at the Gorebridge Beacon on Saturday mornings. \n\n9 – 9:45 5 – 6 years\n9:45 – 10:30 7 – 8 years\n10:30 – 11:15 9\,10\, 11 years\n\nThis is an external booking\, please contact Hannah for more information (exact times which may change). \nHannah Wood\nPro Coach & Project Coordinator\nSportif Lifestyle Ltd\n140 Galashiels Road\nStow\nTD1 2RA\nMbl: 07907 308876\nhannah@sportiflifestyle.com
URL:https://gorebridge.org.uk/upcomingevents/sportif-judu-external/2024-08-10/
CATEGORIES:Events,Gorebridge Beacon
END:VEVENT
BEGIN:VEVENT
DTSTART;TZID=Europe/London:20240808T140000
DTEND;TZID=Europe/London:20240808T160000
DTSTAMP:20260425T022212
CREATED:20240620T125109Z
LAST-MODIFIED:20240620T125109Z
UID:11488-1723125600-1723132800@gorebridge.org.uk
SUMMARY:Craft Group at the Beacon
DESCRIPTION:Every Thursday\n2:00 PM – 4:00 PM\nThe Beacon \nLooking for a creative and relaxing way to spend your Thursday afternoons? Join us at The Beacon for our weekly Craft Group! \nWhether you’re an experienced crafter or just starting out\, our group is open to all skill levels. Bring your own craft projects—knitting\, crochet\, painting\, scrapbooking\, or any other craft you enjoy—and share ideas\, tips\, and inspiration with fellow craft enthusiasts. \nWhat to Expect: \n\nA welcoming and supportive environment\nA chance to work on your own projects\nOpportunities to learn new techniques\nMeet new friends who share your passion for crafting\n\nNo need to register\, just drop in! We look forward to seeing you and your creative projects. \nFor more information\, please contact us at office@gorebridge.org.uk \nHappy crafting!
URL:https://gorebridge.org.uk/upcomingevents/craft-group-at-the-beacon/2024-08-08/
LOCATION:Gorebridge Beacon
CATEGORIES:Events,Gorebridge Beacon
END:VEVENT
BEGIN:VEVENT
DTSTART;TZID=Europe/London:20240807T093000
DTEND;TZID=Europe/London:20240807T110000
DTSTAMP:20260425T022212
CREATED:20240605T130818Z
LAST-MODIFIED:20240605T130818Z
UID:11367-1723023000-1723028400@gorebridge.org.uk
SUMMARY:Serenity Yoga
DESCRIPTION:Please contact Michelle on 07973 638126 or michele@sereneyoga.co.uk for further details on any of my classes. \nClasses are pre-booked\, please call above number.
URL:https://gorebridge.org.uk/upcomingevents/serenity-yoga/2024-08-07/
CATEGORIES:Beacon,Events,Gorebridge Beacon
END:VEVENT
BEGIN:VEVENT
DTSTART;TZID=Europe/London:20240806T150000
DTEND;TZID=Europe/London:20240806T170000
DTSTAMP:20260425T022212
CREATED:20240605T124327Z
LAST-MODIFIED:20240605T124327Z
UID:12687-1722956400-1722963600@gorebridge.org.uk
SUMMARY:Gorebridge Community Pantry
DESCRIPTION:The Gorebridge Community Pantry is open every Tuesday evening 3 – 5PM (until 31st March 2025) \nTo read more about the Pantry please click here.
URL:https://gorebridge.org.uk/upcomingevents/gorebridge-community-pantry-2/2024-08-06/
LOCATION:Gorebridge Beacon
CATEGORIES:Food,Gorebridge Beacon,Gorebridge Community Development Trust
END:VEVENT
BEGIN:VEVENT
DTSTART;TZID=Europe/London:20240803T090000
DTEND;TZID=Europe/London:20240803T111500
DTSTAMP:20260425T022212
CREATED:20240605T122912Z
LAST-MODIFIED:20240605T122912Z
UID:11053-1722675600-1722683700@gorebridge.org.uk
SUMMARY:Sportif Judu (External)
DESCRIPTION:Judo class at the Gorebridge Beacon on Saturday mornings. \n\n9 – 9:45 5 – 6 years\n9:45 – 10:30 7 – 8 years\n10:30 – 11:15 9\,10\, 11 years\n\nThis is an external booking\, please contact Hannah for more information (exact times which may change). \nHannah Wood\nPro Coach & Project Coordinator\nSportif Lifestyle Ltd\n140 Galashiels Road\nStow\nTD1 2RA\nMbl: 07907 308876\nhannah@sportiflifestyle.com
URL:https://gorebridge.org.uk/upcomingevents/sportif-judu-external/2024-08-03/
CATEGORIES:Events,Gorebridge Beacon
END:VEVENT
BEGIN:VEVENT
DTSTART;TZID=Europe/London:20240801T140000
DTEND;TZID=Europe/London:20240801T160000
DTSTAMP:20260425T022212
CREATED:20240620T125109Z
LAST-MODIFIED:20240620T125109Z
UID:11487-1722520800-1722528000@gorebridge.org.uk
SUMMARY:Craft Group at the Beacon
DESCRIPTION:Every Thursday\n2:00 PM – 4:00 PM\nThe Beacon \nLooking for a creative and relaxing way to spend your Thursday afternoons? Join us at The Beacon for our weekly Craft Group! \nWhether you’re an experienced crafter or just starting out\, our group is open to all skill levels. Bring your own craft projects—knitting\, crochet\, painting\, scrapbooking\, or any other craft you enjoy—and share ideas\, tips\, and inspiration with fellow craft enthusiasts. \nWhat to Expect: \n\nA welcoming and supportive environment\nA chance to work on your own projects\nOpportunities to learn new techniques\nMeet new friends who share your passion for crafting\n\nNo need to register\, just drop in! We look forward to seeing you and your creative projects. \nFor more information\, please contact us at office@gorebridge.org.uk \nHappy crafting!
URL:https://gorebridge.org.uk/upcomingevents/craft-group-at-the-beacon/2024-08-01/
LOCATION:Gorebridge Beacon
CATEGORIES:Events,Gorebridge Beacon
END:VEVENT
BEGIN:VEVENT
DTSTART;TZID=Europe/London:20240731T093000
DTEND;TZID=Europe/London:20240731T110000
DTSTAMP:20260425T022212
CREATED:20240605T130818Z
LAST-MODIFIED:20240605T130818Z
UID:11366-1722418200-1722423600@gorebridge.org.uk
SUMMARY:Serenity Yoga
DESCRIPTION:Please contact Michelle on 07973 638126 or michele@sereneyoga.co.uk for further details on any of my classes. \nClasses are pre-booked\, please call above number.
URL:https://gorebridge.org.uk/upcomingevents/serenity-yoga/2024-07-31/
CATEGORIES:Beacon,Events,Gorebridge Beacon
END:VEVENT
BEGIN:VEVENT
DTSTART;TZID=Europe/London:20240730T150000
DTEND;TZID=Europe/London:20240730T170000
DTSTAMP:20260425T022212
CREATED:20240605T124327Z
LAST-MODIFIED:20240605T124327Z
UID:12686-1722351600-1722358800@gorebridge.org.uk
SUMMARY:Gorebridge Community Pantry
DESCRIPTION:The Gorebridge Community Pantry is open every Tuesday evening 3 – 5PM (until 31st March 2025) \nTo read more about the Pantry please click here.
URL:https://gorebridge.org.uk/upcomingevents/gorebridge-community-pantry-2/2024-07-30/
LOCATION:Gorebridge Beacon
CATEGORIES:Food,Gorebridge Beacon,Gorebridge Community Development Trust
END:VEVENT
BEGIN:VEVENT
DTSTART;TZID=Europe/London:20240727T090000
DTEND;TZID=Europe/London:20240727T111500
DTSTAMP:20260425T022212
CREATED:20240605T122912Z
LAST-MODIFIED:20240605T122912Z
UID:11052-1722070800-1722078900@gorebridge.org.uk
SUMMARY:Sportif Judu (External)
DESCRIPTION:Judo class at the Gorebridge Beacon on Saturday mornings. \n\n9 – 9:45 5 – 6 years\n9:45 – 10:30 7 – 8 years\n10:30 – 11:15 9\,10\, 11 years\n\nThis is an external booking\, please contact Hannah for more information (exact times which may change). \nHannah Wood\nPro Coach & Project Coordinator\nSportif Lifestyle Ltd\n140 Galashiels Road\nStow\nTD1 2RA\nMbl: 07907 308876\nhannah@sportiflifestyle.com
URL:https://gorebridge.org.uk/upcomingevents/sportif-judu-external/2024-07-27/
CATEGORIES:Events,Gorebridge Beacon
END:VEVENT
BEGIN:VEVENT
DTSTART;TZID=Europe/London:20240725T140000
DTEND;TZID=Europe/London:20240725T160000
DTSTAMP:20260425T022212
CREATED:20240620T125109Z
LAST-MODIFIED:20240620T125109Z
UID:11486-1721916000-1721923200@gorebridge.org.uk
SUMMARY:Craft Group at the Beacon
DESCRIPTION:Every Thursday\n2:00 PM – 4:00 PM\nThe Beacon \nLooking for a creative and relaxing way to spend your Thursday afternoons? Join us at The Beacon for our weekly Craft Group! \nWhether you’re an experienced crafter or just starting out\, our group is open to all skill levels. Bring your own craft projects—knitting\, crochet\, painting\, scrapbooking\, or any other craft you enjoy—and share ideas\, tips\, and inspiration with fellow craft enthusiasts. \nWhat to Expect: \n\nA welcoming and supportive environment\nA chance to work on your own projects\nOpportunities to learn new techniques\nMeet new friends who share your passion for crafting\n\nNo need to register\, just drop in! We look forward to seeing you and your creative projects. \nFor more information\, please contact us at office@gorebridge.org.uk \nHappy crafting!
URL:https://gorebridge.org.uk/upcomingevents/craft-group-at-the-beacon/2024-07-25/
LOCATION:Gorebridge Beacon
CATEGORIES:Events,Gorebridge Beacon
END:VEVENT
BEGIN:VEVENT
DTSTART;TZID=Europe/London:20240724T093000
DTEND;TZID=Europe/London:20240724T110000
DTSTAMP:20260425T022212
CREATED:20240605T130818Z
LAST-MODIFIED:20240605T130818Z
UID:11365-1721813400-1721818800@gorebridge.org.uk
SUMMARY:Serenity Yoga
DESCRIPTION:Please contact Michelle on 07973 638126 or michele@sereneyoga.co.uk for further details on any of my classes. \nClasses are pre-booked\, please call above number.
URL:https://gorebridge.org.uk/upcomingevents/serenity-yoga/2024-07-24/
CATEGORIES:Beacon,Events,Gorebridge Beacon
END:VEVENT
BEGIN:VEVENT
DTSTART;TZID=Europe/London:20240723T150000
DTEND;TZID=Europe/London:20240723T170000
DTSTAMP:20260425T022212
CREATED:20240605T124327Z
LAST-MODIFIED:20240605T124327Z
UID:12685-1721746800-1721754000@gorebridge.org.uk
SUMMARY:Gorebridge Community Pantry
DESCRIPTION:The Gorebridge Community Pantry is open every Tuesday evening 3 – 5PM (until 31st March 2025) \nTo read more about the Pantry please click here.
URL:https://gorebridge.org.uk/upcomingevents/gorebridge-community-pantry-2/2024-07-23/
LOCATION:Gorebridge Beacon
CATEGORIES:Food,Gorebridge Beacon,Gorebridge Community Development Trust
END:VEVENT
BEGIN:VEVENT
DTSTART;TZID=Europe/London:20240720T090000
DTEND;TZID=Europe/London:20240720T111500
DTSTAMP:20260425T022212
CREATED:20240605T122912Z
LAST-MODIFIED:20240605T122912Z
UID:11051-1721466000-1721474100@gorebridge.org.uk
SUMMARY:Sportif Judu (External)
DESCRIPTION:Judo class at the Gorebridge Beacon on Saturday mornings. \n\n9 – 9:45 5 – 6 years\n9:45 – 10:30 7 – 8 years\n10:30 – 11:15 9\,10\, 11 years\n\nThis is an external booking\, please contact Hannah for more information (exact times which may change). \nHannah Wood\nPro Coach & Project Coordinator\nSportif Lifestyle Ltd\n140 Galashiels Road\nStow\nTD1 2RA\nMbl: 07907 308876\nhannah@sportiflifestyle.com
URL:https://gorebridge.org.uk/upcomingevents/sportif-judu-external/2024-07-20/
CATEGORIES:Events,Gorebridge Beacon
END:VEVENT
BEGIN:VEVENT
DTSTART;TZID=Europe/London:20240718T140000
DTEND;TZID=Europe/London:20240718T160000
DTSTAMP:20260425T022212
CREATED:20240620T125109Z
LAST-MODIFIED:20240620T125109Z
UID:11485-1721311200-1721318400@gorebridge.org.uk
SUMMARY:Craft Group at the Beacon
DESCRIPTION:Every Thursday\n2:00 PM – 4:00 PM\nThe Beacon \nLooking for a creative and relaxing way to spend your Thursday afternoons? Join us at The Beacon for our weekly Craft Group! \nWhether you’re an experienced crafter or just starting out\, our group is open to all skill levels. Bring your own craft projects—knitting\, crochet\, painting\, scrapbooking\, or any other craft you enjoy—and share ideas\, tips\, and inspiration with fellow craft enthusiasts. \nWhat to Expect: \n\nA welcoming and supportive environment\nA chance to work on your own projects\nOpportunities to learn new techniques\nMeet new friends who share your passion for crafting\n\nNo need to register\, just drop in! We look forward to seeing you and your creative projects. \nFor more information\, please contact us at office@gorebridge.org.uk \nHappy crafting!
URL:https://gorebridge.org.uk/upcomingevents/craft-group-at-the-beacon/2024-07-18/
LOCATION:Gorebridge Beacon
CATEGORIES:Events,Gorebridge Beacon
END:VEVENT
BEGIN:VEVENT
DTSTART;TZID=Europe/London:20240717T093000
DTEND;TZID=Europe/London:20240717T110000
DTSTAMP:20260425T022212
CREATED:20240605T130818Z
LAST-MODIFIED:20240605T130818Z
UID:11364-1721208600-1721214000@gorebridge.org.uk
SUMMARY:Serenity Yoga
DESCRIPTION:Please contact Michelle on 07973 638126 or michele@sereneyoga.co.uk for further details on any of my classes. \nClasses are pre-booked\, please call above number.
URL:https://gorebridge.org.uk/upcomingevents/serenity-yoga/2024-07-17/
CATEGORIES:Beacon,Events,Gorebridge Beacon
END:VEVENT
BEGIN:VEVENT
DTSTART;TZID=Europe/London:20240716T150000
DTEND;TZID=Europe/London:20240716T170000
DTSTAMP:20260425T022212
CREATED:20240605T124327Z
LAST-MODIFIED:20240605T124327Z
UID:12684-1721142000-1721149200@gorebridge.org.uk
SUMMARY:Gorebridge Community Pantry
DESCRIPTION:The Gorebridge Community Pantry is open every Tuesday evening 3 – 5PM (until 31st March 2025) \nTo read more about the Pantry please click here.
URL:https://gorebridge.org.uk/upcomingevents/gorebridge-community-pantry-2/2024-07-16/
LOCATION:Gorebridge Beacon
CATEGORIES:Food,Gorebridge Beacon,Gorebridge Community Development Trust
END:VEVENT
BEGIN:VEVENT
DTSTART;TZID=Europe/London:20240713T090000
DTEND;TZID=Europe/London:20240713T111500
DTSTAMP:20260425T022212
CREATED:20240605T122912Z
LAST-MODIFIED:20240605T122912Z
UID:11050-1720861200-1720869300@gorebridge.org.uk
SUMMARY:Sportif Judu (External)
DESCRIPTION:Judo class at the Gorebridge Beacon on Saturday mornings. \n\n9 – 9:45 5 – 6 years\n9:45 – 10:30 7 – 8 years\n10:30 – 11:15 9\,10\, 11 years\n\nThis is an external booking\, please contact Hannah for more information (exact times which may change). \nHannah Wood\nPro Coach & Project Coordinator\nSportif Lifestyle Ltd\n140 Galashiels Road\nStow\nTD1 2RA\nMbl: 07907 308876\nhannah@sportiflifestyle.com
URL:https://gorebridge.org.uk/upcomingevents/sportif-judu-external/2024-07-13/
CATEGORIES:Events,Gorebridge Beacon
END:VEVENT
BEGIN:VEVENT
DTSTART;TZID=Europe/London:20240711T140000
DTEND;TZID=Europe/London:20240711T160000
DTSTAMP:20260425T022212
CREATED:20240620T125109Z
LAST-MODIFIED:20240620T125109Z
UID:11484-1720706400-1720713600@gorebridge.org.uk
SUMMARY:Craft Group at the Beacon
DESCRIPTION:Every Thursday\n2:00 PM – 4:00 PM\nThe Beacon \nLooking for a creative and relaxing way to spend your Thursday afternoons? Join us at The Beacon for our weekly Craft Group! \nWhether you’re an experienced crafter or just starting out\, our group is open to all skill levels. Bring your own craft projects—knitting\, crochet\, painting\, scrapbooking\, or any other craft you enjoy—and share ideas\, tips\, and inspiration with fellow craft enthusiasts. \nWhat to Expect: \n\nA welcoming and supportive environment\nA chance to work on your own projects\nOpportunities to learn new techniques\nMeet new friends who share your passion for crafting\n\nNo need to register\, just drop in! We look forward to seeing you and your creative projects. \nFor more information\, please contact us at office@gorebridge.org.uk \nHappy crafting!
URL:https://gorebridge.org.uk/upcomingevents/craft-group-at-the-beacon/2024-07-11/
LOCATION:Gorebridge Beacon
CATEGORIES:Events,Gorebridge Beacon
END:VEVENT
BEGIN:VEVENT
DTSTART;TZID=Europe/London:20240710T093000
DTEND;TZID=Europe/London:20240710T110000
DTSTAMP:20260425T022212
CREATED:20240605T130818Z
LAST-MODIFIED:20240605T130818Z
UID:11363-1720603800-1720609200@gorebridge.org.uk
SUMMARY:Serenity Yoga
DESCRIPTION:Please contact Michelle on 07973 638126 or michele@sereneyoga.co.uk for further details on any of my classes. \nClasses are pre-booked\, please call above number.
URL:https://gorebridge.org.uk/upcomingevents/serenity-yoga/2024-07-10/
CATEGORIES:Beacon,Events,Gorebridge Beacon
END:VEVENT
BEGIN:VEVENT
DTSTART;TZID=Europe/London:20240709T150000
DTEND;TZID=Europe/London:20240709T170000
DTSTAMP:20260425T022212
CREATED:20240605T124327Z
LAST-MODIFIED:20240605T124327Z
UID:12683-1720537200-1720544400@gorebridge.org.uk
SUMMARY:Gorebridge Community Pantry
DESCRIPTION:The Gorebridge Community Pantry is open every Tuesday evening 3 – 5PM (until 31st March 2025) \nTo read more about the Pantry please click here.
URL:https://gorebridge.org.uk/upcomingevents/gorebridge-community-pantry-2/2024-07-09/
LOCATION:Gorebridge Beacon
CATEGORIES:Food,Gorebridge Beacon,Gorebridge Community Development Trust
END:VEVENT
BEGIN:VEVENT
DTSTART;TZID=Europe/London:20240706T090000
DTEND;TZID=Europe/London:20240706T111500
DTSTAMP:20260425T022212
CREATED:20240605T122912Z
LAST-MODIFIED:20240605T122912Z
UID:11049-1720256400-1720264500@gorebridge.org.uk
SUMMARY:Sportif Judu (External)
DESCRIPTION:Judo class at the Gorebridge Beacon on Saturday mornings. \n\n9 – 9:45 5 – 6 years\n9:45 – 10:30 7 – 8 years\n10:30 – 11:15 9\,10\, 11 years\n\nThis is an external booking\, please contact Hannah for more information (exact times which may change). \nHannah Wood\nPro Coach & Project Coordinator\nSportif Lifestyle Ltd\n140 Galashiels Road\nStow\nTD1 2RA\nMbl: 07907 308876\nhannah@sportiflifestyle.com
URL:https://gorebridge.org.uk/upcomingevents/sportif-judu-external/2024-07-06/
CATEGORIES:Events,Gorebridge Beacon
END:VEVENT
BEGIN:VEVENT
DTSTART;TZID=Europe/London:20240704T140000
DTEND;TZID=Europe/London:20240704T160000
DTSTAMP:20260425T022212
CREATED:20240620T125109Z
LAST-MODIFIED:20240620T125109Z
UID:11483-1720101600-1720108800@gorebridge.org.uk
SUMMARY:Craft Group at the Beacon
DESCRIPTION:Every Thursday\n2:00 PM – 4:00 PM\nThe Beacon \nLooking for a creative and relaxing way to spend your Thursday afternoons? Join us at The Beacon for our weekly Craft Group! \nWhether you’re an experienced crafter or just starting out\, our group is open to all skill levels. Bring your own craft projects—knitting\, crochet\, painting\, scrapbooking\, or any other craft you enjoy—and share ideas\, tips\, and inspiration with fellow craft enthusiasts. \nWhat to Expect: \n\nA welcoming and supportive environment\nA chance to work on your own projects\nOpportunities to learn new techniques\nMeet new friends who share your passion for crafting\n\nNo need to register\, just drop in! We look forward to seeing you and your creative projects. \nFor more information\, please contact us at office@gorebridge.org.uk \nHappy crafting!
URL:https://gorebridge.org.uk/upcomingevents/craft-group-at-the-beacon/2024-07-04/
LOCATION:Gorebridge Beacon
CATEGORIES:Events,Gorebridge Beacon
END:VEVENT
BEGIN:VEVENT
DTSTART;TZID=Europe/London:20240703T093000
DTEND;TZID=Europe/London:20240703T110000
DTSTAMP:20260425T022212
CREATED:20240605T130818Z
LAST-MODIFIED:20240605T130818Z
UID:11362-1719999000-1720004400@gorebridge.org.uk
SUMMARY:Serenity Yoga
DESCRIPTION:Please contact Michelle on 07973 638126 or michele@sereneyoga.co.uk for further details on any of my classes. \nClasses are pre-booked\, please call above number.
URL:https://gorebridge.org.uk/upcomingevents/serenity-yoga/2024-07-03/
CATEGORIES:Beacon,Events,Gorebridge Beacon
END:VEVENT
END:VCALENDAR