BEGIN:VCALENDAR
VERSION:2.0
PRODID:-//Gorebridge Community Development Trust - ECPv6.15.20//NONSGML v1.0//EN
CALSCALE:GREGORIAN
METHOD:PUBLISH
X-WR-CALNAME:Gorebridge Community Development Trust
X-ORIGINAL-URL:https://gorebridge.org.uk
X-WR-CALDESC:Events for Gorebridge Community Development Trust
REFRESH-INTERVAL;VALUE=DURATION:PT1H
X-Robots-Tag:noindex
X-PUBLISHED-TTL:PT1H
BEGIN:VTIMEZONE
TZID:Europe/London
BEGIN:DAYLIGHT
TZOFFSETFROM:+0000
TZOFFSETTO:+0100
TZNAME:BST
DTSTART:20220327T010000
END:DAYLIGHT
BEGIN:STANDARD
TZOFFSETFROM:+0100
TZOFFSETTO:+0000
TZNAME:GMT
DTSTART:20221030T010000
END:STANDARD
BEGIN:DAYLIGHT
TZOFFSETFROM:+0000
TZOFFSETTO:+0100
TZNAME:BST
DTSTART:20230326T010000
END:DAYLIGHT
BEGIN:STANDARD
TZOFFSETFROM:+0100
TZOFFSETTO:+0000
TZNAME:GMT
DTSTART:20231029T010000
END:STANDARD
BEGIN:DAYLIGHT
TZOFFSETFROM:+0000
TZOFFSETTO:+0100
TZNAME:BST
DTSTART:20240331T010000
END:DAYLIGHT
BEGIN:STANDARD
TZOFFSETFROM:+0100
TZOFFSETTO:+0000
TZNAME:GMT
DTSTART:20241027T010000
END:STANDARD
END:VTIMEZONE
BEGIN:VEVENT
DTSTART;TZID=Europe/London:20230915T183000
DTEND;TZID=Europe/London:20230915T223000
DTSTAMP:20260426T015220
CREATED:20230803T224959Z
LAST-MODIFIED:20230803T225953Z
UID:10488-1694802600-1694817000@gorebridge.org.uk
SUMMARY:BINGO Night
DESCRIPTION:We are holding a fundraising bingo night event at the Beacon on Friday 15th September. Doors open 6.30\, eyes down at 7 PM. BYOB. \nThere are plenty of prizes on offer to win. The cafe will be open to buy nibbles. You always ask if we will have a raffle\, of course\, if you would like to bring something that would be great\, or hand into the Beacon beforehand. \nAll proceeds from bingo tickets\, cakes & raffle tickets will be used to support GCDT charitable activities including (but not limited to) the Gorebridge Community Pantry\, Gorebridge Community Gardeners\, and Beacon activities. \nTickets £15 for 10 games.
URL:https://gorebridge.org.uk/upcomingevents/bingo-night/
LOCATION:Gorebridge Beacon
CATEGORIES:Gorebridge Community Development Trust
END:VEVENT
END:VCALENDAR