BEGIN:VCALENDAR
VERSION:2.0
PRODID:-//Gorebridge Community Development Trust - ECPv6.15.20//NONSGML v1.0//EN
CALSCALE:GREGORIAN
METHOD:PUBLISH
X-WR-CALNAME:Gorebridge Community Development Trust
X-ORIGINAL-URL:https://gorebridge.org.uk
X-WR-CALDESC:Events for Gorebridge Community Development Trust
REFRESH-INTERVAL;VALUE=DURATION:PT1H
X-Robots-Tag:noindex
X-PUBLISHED-TTL:PT1H
BEGIN:VTIMEZONE
TZID:Europe/London
BEGIN:DAYLIGHT
TZOFFSETFROM:+0000
TZOFFSETTO:+0100
TZNAME:BST
DTSTART:20230326T010000
END:DAYLIGHT
BEGIN:STANDARD
TZOFFSETFROM:+0100
TZOFFSETTO:+0000
TZNAME:GMT
DTSTART:20231029T010000
END:STANDARD
BEGIN:DAYLIGHT
TZOFFSETFROM:+0000
TZOFFSETTO:+0100
TZNAME:BST
DTSTART:20240331T010000
END:DAYLIGHT
BEGIN:STANDARD
TZOFFSETFROM:+0100
TZOFFSETTO:+0000
TZNAME:GMT
DTSTART:20241027T010000
END:STANDARD
BEGIN:DAYLIGHT
TZOFFSETFROM:+0000
TZOFFSETTO:+0100
TZNAME:BST
DTSTART:20250330T010000
END:DAYLIGHT
BEGIN:STANDARD
TZOFFSETFROM:+0100
TZOFFSETTO:+0000
TZNAME:GMT
DTSTART:20251026T010000
END:STANDARD
END:VTIMEZONE
BEGIN:VEVENT
DTSTART;TZID=Europe/London:20240504T183000
DTEND;TZID=Europe/London:20240504T223000
DTSTAMP:20260425T124556
CREATED:20240418T141422Z
LAST-MODIFIED:20240430T152050Z
UID:10835-1714847400-1714861800@gorebridge.org.uk
SUMMARY:BINGO 4th May
DESCRIPTION:Get ready to yell “BINGO!” \nJoin us for a night of excitement\, laughter\, and maybe a little friendly competition at the Gorebridge Beacon on May 4th! We’re rolling out the red carpet for our fabulous BINGO Night extravaganza\, and you’re invited to join in on the fun! \n🎱 Date: May 4th\n🎱 Time: 6:30 PM onwards\, eyes down 7:00PM. End 10:30PM\n🎱 Location: Gorebridge Beacon\, Hunterfield Road\, Gorebridge\, EH23 4TT \nWith tickets priced at just £12\, you’ll get access to an evening packed with thrilling games\, awesome prizes\, and fantastic company. And the best part? It’s BYOB! So\, grab your favorite drinks\, whether it’s a bottle of bubbly or a six-pack of your preferred brew\, and get ready to toast to good times and even better luck! \nGrab your tickets now and mark your calendars for a night of BINGO madness at the Gorebridge Beacon. \nSee you there!
URL:https://gorebridge.org.uk/upcomingevents/bingo-4th-may/
LOCATION:Gorebridge Beacon
CATEGORIES:Beacon,Events,Gorebridge Beacon,Gorebridge Community Development Trust
END:VEVENT
BEGIN:VEVENT
DTSTART;TZID=Europe/London:20240505T143000
DTEND;TZID=Europe/London:20240505T163000
DTSTAMP:20260425T124556
CREATED:20240605T124940Z
LAST-MODIFIED:20240605T124940Z
UID:11309-1714919400-1714926600@gorebridge.org.uk
SUMMARY:Community Gardening Drop-In Session
DESCRIPTION:Join our weekly community gardening sessions. Cultivate friendships\, learn new skills and be part of our sustainable community! All levels of experience welcome and no seed to sign up\, just pop in and get gardening! \nDrop-ins every Tuesday 6 – 8:30pm \nHot drinks available. \n*Important – drop-in sessions may be cancelled if the weather is rotten. Please contact the Beacon if you would like to confirm if a session is taking place or not. Times change during Winter months.
URL:https://gorebridge.org.uk/upcomingevents/community-gardening-drop-in-session-2/2024-05-05/
LOCATION:Gorebridge Beacon
CATEGORIES:Beacon,Garden,Gorebridge Community Development Trust
END:VEVENT
BEGIN:VEVENT
DTSTART;TZID=Europe/London:20240507T150000
DTEND;TZID=Europe/London:20240507T170000
DTSTAMP:20260425T124556
CREATED:20240605T124327Z
LAST-MODIFIED:20240605T124327Z
UID:12674-1715094000-1715101200@gorebridge.org.uk
SUMMARY:Gorebridge Community Pantry
DESCRIPTION:The Gorebridge Community Pantry is open every Tuesday evening 3 – 5PM (until 31st March 2025) \nTo read more about the Pantry please click here.
URL:https://gorebridge.org.uk/upcomingevents/gorebridge-community-pantry-2/2024-05-07/
LOCATION:Gorebridge Beacon
CATEGORIES:Food,Gorebridge Beacon,Gorebridge Community Development Trust
END:VEVENT
BEGIN:VEVENT
DTSTART;TZID=Europe/London:20240507T180000
DTEND;TZID=Europe/London:20240507T203000
DTSTAMP:20260425T124556
CREATED:20240605T124749Z
LAST-MODIFIED:20240605T124749Z
UID:11278-1715104800-1715113800@gorebridge.org.uk
SUMMARY:Community Gardening Drop-In Session
DESCRIPTION:Join our weekly community gardening sessions. Cultivate friendships\, learn new skills and be part of our sustainable community! All levels of experience welcome and no seed to sign up\, just pop in and get gardening! \nDrop-ins every Tuesday 6 – 8:30pm \nHot drinks available. \n*Important – drop-in sessions may be cancelled if the weather is rotten. Please contact the Beacon if you would like to confirm if a session is taking place or not. Times change during Winter months.
URL:https://gorebridge.org.uk/upcomingevents/community-gardening-drop-in-session/2024-05-07/
CATEGORIES:Events,Family Activities,Garden,Gorebridge Community Development Trust
END:VEVENT
BEGIN:VEVENT
DTSTART;TZID=Europe/London:20240512T143000
DTEND;TZID=Europe/London:20240512T163000
DTSTAMP:20260425T124556
CREATED:20240605T124940Z
LAST-MODIFIED:20240605T124940Z
UID:11310-1715524200-1715531400@gorebridge.org.uk
SUMMARY:Community Gardening Drop-In Session
DESCRIPTION:Join our weekly community gardening sessions. Cultivate friendships\, learn new skills and be part of our sustainable community! All levels of experience welcome and no seed to sign up\, just pop in and get gardening! \nDrop-ins every Tuesday 6 – 8:30pm \nHot drinks available. \n*Important – drop-in sessions may be cancelled if the weather is rotten. Please contact the Beacon if you would like to confirm if a session is taking place or not. Times change during Winter months.
URL:https://gorebridge.org.uk/upcomingevents/community-gardening-drop-in-session-2/2024-05-12/
LOCATION:Gorebridge Beacon
CATEGORIES:Beacon,Garden,Gorebridge Community Development Trust
END:VEVENT
BEGIN:VEVENT
DTSTART;TZID=Europe/London:20240514T150000
DTEND;TZID=Europe/London:20240514T170000
DTSTAMP:20260425T124556
CREATED:20240605T124327Z
LAST-MODIFIED:20240605T124327Z
UID:12675-1715698800-1715706000@gorebridge.org.uk
SUMMARY:Gorebridge Community Pantry
DESCRIPTION:The Gorebridge Community Pantry is open every Tuesday evening 3 – 5PM (until 31st March 2025) \nTo read more about the Pantry please click here.
URL:https://gorebridge.org.uk/upcomingevents/gorebridge-community-pantry-2/2024-05-14/
LOCATION:Gorebridge Beacon
CATEGORIES:Food,Gorebridge Beacon,Gorebridge Community Development Trust
END:VEVENT
BEGIN:VEVENT
DTSTART;TZID=Europe/London:20240514T180000
DTEND;TZID=Europe/London:20240514T203000
DTSTAMP:20260425T124556
CREATED:20240605T124749Z
LAST-MODIFIED:20240605T124749Z
UID:11279-1715709600-1715718600@gorebridge.org.uk
SUMMARY:Community Gardening Drop-In Session
DESCRIPTION:Join our weekly community gardening sessions. Cultivate friendships\, learn new skills and be part of our sustainable community! All levels of experience welcome and no seed to sign up\, just pop in and get gardening! \nDrop-ins every Tuesday 6 – 8:30pm \nHot drinks available. \n*Important – drop-in sessions may be cancelled if the weather is rotten. Please contact the Beacon if you would like to confirm if a session is taking place or not. Times change during Winter months.
URL:https://gorebridge.org.uk/upcomingevents/community-gardening-drop-in-session/2024-05-14/
CATEGORIES:Events,Family Activities,Garden,Gorebridge Community Development Trust
END:VEVENT
BEGIN:VEVENT
DTSTART;TZID=Europe/London:20240518T123000
DTEND;TZID=Europe/London:20240518T180000
DTSTAMP:20260425T124556
CREATED:20240501T135317Z
LAST-MODIFIED:20240501T135317Z
UID:10894-1716035400-1716055200@gorebridge.org.uk
SUMMARY:Spring Fling
DESCRIPTION:Get Ready to Celebrate Spring at the Gorebridge Beacon Spring Fling! \nSpring has sprung\, and what better way to celebrate the season of warmer days and longer nights than with our upcoming Gorebridge Beacon Spring Fling on May 18th! Mark your calendars and join us for a day filled with community spirit\, entertainment\, and fun activities for all ages. \nTimetable \n12:30 – 4PM SRUC Showgardens (Judging @ 12:30)\n12:30 – 4pm SRUC recruitment fair\n1:00 – 3pm Plant Sale\n2:00pm Gorebridge Community Choir\n1:00 – 4pm Spring Craft Fair (local crafters)\n4:00 – 6pm Garden Party \nCraft Fair:\nSupport local crafters and makers and browse through a delightful array of handcrafted goods at our craft fair. From handmade soaps to beautiful botanical skincare\, there will be something special for everyone to discover. \nGorebridge Community Choir:\nLet the uplifting melodies of the Gorebridge Community Choir lift your spirits as they serenade us with their enchanting voices. Simply sit back and enjoy the harmonious tunes. Starts 2PM. \nSRUC Showgardens and Recruitment Event:\nWe are excited that the students from the Scottish Rural College (SRUC) will be installing within the Beacon Garderns their show gardens this year. Come and explore\, meet the students\, get inspiration and ideas for your own green spaces (no matter if it’s a large pot or a large garden). The Showgardens will be judged at 12:30 for 2024. \nPlus\, don’t miss the SRUC recruitment event where you can learn more about exciting courses and opportunities offered by SRUC from horticulture to animal care\, agriculture to forestry the courses at SRUC is vast\, and on our doorstep. More information https://www.sruc.ac.uk/course-catalogue/ \nPlant Sale:\nThe annual Gorebridge Plant Sale. Come and join the Gorebridge Community Gardeners\, and Gorebridge Community Cares and fill your garden with vibrant blooms and lush greenery from our plant sale. Whether you’re a seasoned gardener or just starting out\, you’ll find the perfect plants to add a splash of color to your outdoor space. \nGarden Party:\nWrap up the day with a lively garden party filled with laughter\, good food\, and great company. Come and spend time in the garden\, listen to music\, have something to eat. \nJoin us at the Gorebridge Beacon on May 18th for a day of community celebration at our Spring Fling. \nAdmission is free\, so bring the whole family and let’s make some wonderful memories together!
URL:https://gorebridge.org.uk/upcomingevents/spring-fling/
LOCATION:Gorebridge Beacon
CATEGORIES:Events,Gorebridge Beacon,Gorebridge Community Development Trust
ATTACH;FMTTYPE=image/png:https://gorebridge.org.uk/wp-content/uploads/2024/05/Untitled-2.png
END:VEVENT
BEGIN:VEVENT
DTSTART;TZID=Europe/London:20240519T143000
DTEND;TZID=Europe/London:20240519T163000
DTSTAMP:20260425T124556
CREATED:20240605T124940Z
LAST-MODIFIED:20240605T124940Z
UID:11311-1716129000-1716136200@gorebridge.org.uk
SUMMARY:Community Gardening Drop-In Session
DESCRIPTION:Join our weekly community gardening sessions. Cultivate friendships\, learn new skills and be part of our sustainable community! All levels of experience welcome and no seed to sign up\, just pop in and get gardening! \nDrop-ins every Tuesday 6 – 8:30pm \nHot drinks available. \n*Important – drop-in sessions may be cancelled if the weather is rotten. Please contact the Beacon if you would like to confirm if a session is taking place or not. Times change during Winter months.
URL:https://gorebridge.org.uk/upcomingevents/community-gardening-drop-in-session-2/2024-05-19/
LOCATION:Gorebridge Beacon
CATEGORIES:Beacon,Garden,Gorebridge Community Development Trust
END:VEVENT
BEGIN:VEVENT
DTSTART;TZID=Europe/London:20240521T150000
DTEND;TZID=Europe/London:20240521T170000
DTSTAMP:20260425T124556
CREATED:20240605T124327Z
LAST-MODIFIED:20240605T124327Z
UID:12676-1716303600-1716310800@gorebridge.org.uk
SUMMARY:Gorebridge Community Pantry
DESCRIPTION:The Gorebridge Community Pantry is open every Tuesday evening 3 – 5PM (until 31st March 2025) \nTo read more about the Pantry please click here.
URL:https://gorebridge.org.uk/upcomingevents/gorebridge-community-pantry-2/2024-05-21/
LOCATION:Gorebridge Beacon
CATEGORIES:Food,Gorebridge Beacon,Gorebridge Community Development Trust
END:VEVENT
BEGIN:VEVENT
DTSTART;TZID=Europe/London:20240521T180000
DTEND;TZID=Europe/London:20240521T203000
DTSTAMP:20260425T124556
CREATED:20240605T124749Z
LAST-MODIFIED:20240605T124749Z
UID:11280-1716314400-1716323400@gorebridge.org.uk
SUMMARY:Community Gardening Drop-In Session
DESCRIPTION:Join our weekly community gardening sessions. Cultivate friendships\, learn new skills and be part of our sustainable community! All levels of experience welcome and no seed to sign up\, just pop in and get gardening! \nDrop-ins every Tuesday 6 – 8:30pm \nHot drinks available. \n*Important – drop-in sessions may be cancelled if the weather is rotten. Please contact the Beacon if you would like to confirm if a session is taking place or not. Times change during Winter months.
URL:https://gorebridge.org.uk/upcomingevents/community-gardening-drop-in-session/2024-05-21/
CATEGORIES:Events,Family Activities,Garden,Gorebridge Community Development Trust
END:VEVENT
BEGIN:VEVENT
DTSTART;TZID=Europe/London:20240526T143000
DTEND;TZID=Europe/London:20240526T163000
DTSTAMP:20260425T124556
CREATED:20240605T124940Z
LAST-MODIFIED:20240605T124940Z
UID:11312-1716733800-1716741000@gorebridge.org.uk
SUMMARY:Community Gardening Drop-In Session
DESCRIPTION:Join our weekly community gardening sessions. Cultivate friendships\, learn new skills and be part of our sustainable community! All levels of experience welcome and no seed to sign up\, just pop in and get gardening! \nDrop-ins every Tuesday 6 – 8:30pm \nHot drinks available. \n*Important – drop-in sessions may be cancelled if the weather is rotten. Please contact the Beacon if you would like to confirm if a session is taking place or not. Times change during Winter months.
URL:https://gorebridge.org.uk/upcomingevents/community-gardening-drop-in-session-2/2024-05-26/
LOCATION:Gorebridge Beacon
CATEGORIES:Beacon,Garden,Gorebridge Community Development Trust
END:VEVENT
BEGIN:VEVENT
DTSTART;TZID=Europe/London:20240528T150000
DTEND;TZID=Europe/London:20240528T170000
DTSTAMP:20260425T124556
CREATED:20240605T124327Z
LAST-MODIFIED:20240605T124327Z
UID:12677-1716908400-1716915600@gorebridge.org.uk
SUMMARY:Gorebridge Community Pantry
DESCRIPTION:The Gorebridge Community Pantry is open every Tuesday evening 3 – 5PM (until 31st March 2025) \nTo read more about the Pantry please click here.
URL:https://gorebridge.org.uk/upcomingevents/gorebridge-community-pantry-2/2024-05-28/
LOCATION:Gorebridge Beacon
CATEGORIES:Food,Gorebridge Beacon,Gorebridge Community Development Trust
END:VEVENT
BEGIN:VEVENT
DTSTART;TZID=Europe/London:20240528T180000
DTEND;TZID=Europe/London:20240528T203000
DTSTAMP:20260425T124556
CREATED:20240605T124749Z
LAST-MODIFIED:20240605T124749Z
UID:11281-1716919200-1716928200@gorebridge.org.uk
SUMMARY:Community Gardening Drop-In Session
DESCRIPTION:Join our weekly community gardening sessions. Cultivate friendships\, learn new skills and be part of our sustainable community! All levels of experience welcome and no seed to sign up\, just pop in and get gardening! \nDrop-ins every Tuesday 6 – 8:30pm \nHot drinks available. \n*Important – drop-in sessions may be cancelled if the weather is rotten. Please contact the Beacon if you would like to confirm if a session is taking place or not. Times change during Winter months.
URL:https://gorebridge.org.uk/upcomingevents/community-gardening-drop-in-session/2024-05-28/
CATEGORIES:Events,Family Activities,Garden,Gorebridge Community Development Trust
END:VEVENT
END:VCALENDAR