BEGIN:VCALENDAR
VERSION:2.0
PRODID:-//Gorebridge Community Development Trust - ECPv6.15.20//NONSGML v1.0//EN
CALSCALE:GREGORIAN
METHOD:PUBLISH
X-ORIGINAL-URL:https://gorebridge.org.uk
X-WR-CALDESC:Events for Gorebridge Community Development Trust
REFRESH-INTERVAL;VALUE=DURATION:PT1H
X-Robots-Tag:noindex
X-PUBLISHED-TTL:PT1H
BEGIN:VTIMEZONE
TZID:Europe/London
BEGIN:DAYLIGHT
TZOFFSETFROM:+0000
TZOFFSETTO:+0100
TZNAME:BST
DTSTART:20250330T010000
END:DAYLIGHT
BEGIN:STANDARD
TZOFFSETFROM:+0100
TZOFFSETTO:+0000
TZNAME:GMT
DTSTART:20251026T010000
END:STANDARD
BEGIN:DAYLIGHT
TZOFFSETFROM:+0000
TZOFFSETTO:+0100
TZNAME:BST
DTSTART:20260329T010000
END:DAYLIGHT
BEGIN:STANDARD
TZOFFSETFROM:+0100
TZOFFSETTO:+0000
TZNAME:GMT
DTSTART:20261025T010000
END:STANDARD
BEGIN:DAYLIGHT
TZOFFSETFROM:+0000
TZOFFSETTO:+0100
TZNAME:BST
DTSTART:20270328T010000
END:DAYLIGHT
BEGIN:STANDARD
TZOFFSETFROM:+0100
TZOFFSETTO:+0000
TZNAME:GMT
DTSTART:20271031T010000
END:STANDARD
END:VTIMEZONE
BEGIN:VEVENT
DTSTART;TZID=Europe/London:20260103T123000
DTEND;TZID=Europe/London:20260103T140000
DTSTAMP:20260424T040501
CREATED:20250828T142317Z
LAST-MODIFIED:20251020T173310Z
UID:13717-1767443400-1767448800@gorebridge.org.uk
SUMMARY:Breather Cafe (for Unpaid Carers)
DESCRIPTION:Are you an unpaid carer?  \nAn unpaid carer is someone who supports a family member\, partner\, relative or friend\, of any age who needs help to manage a long-term condition\, disability\, physical or mental health condition\, ‘if you spend time caring for someone who relies on your help\, you’re an unpaid carer.’ \nThe Breather Cafe is not a service\, we wanted to create a space where you can come along\, out from your caring role\, chat and once a month (to be arranged/decided) maybe take part in an activity. You don’t need to attend every week\, it’s there for you\, should you want it. \nFree.
URL:https://gorebridge.org.uk/upcomingevents/breather-cafe/2026-01-03/
CATEGORIES:Events,Gorebridge Beacon,Gorebridge Community Development Trust
ATTACH;FMTTYPE=image/png:https://gorebridge.org.uk/wp-content/uploads/2025/08/Breather-Cafe.png
END:VEVENT
BEGIN:VEVENT
DTSTART;TZID=Europe/London:20260110T123000
DTEND;TZID=Europe/London:20260110T140000
DTSTAMP:20260424T040501
CREATED:20250828T142317Z
LAST-MODIFIED:20251020T173314Z
UID:13719-1768048200-1768053600@gorebridge.org.uk
SUMMARY:Breather Cafe (for Unpaid Carers)
DESCRIPTION:Are you an unpaid carer?  \nAn unpaid carer is someone who supports a family member\, partner\, relative or friend\, of any age who needs help to manage a long-term condition\, disability\, physical or mental health condition\, ‘if you spend time caring for someone who relies on your help\, you’re an unpaid carer.’ \nThe Breather Cafe is not a service\, we wanted to create a space where you can come along\, out from your caring role\, chat and once a month (to be arranged/decided) maybe take part in an activity. You don’t need to attend every week\, it’s there for you\, should you want it. \nFree.
URL:https://gorebridge.org.uk/upcomingevents/breather-cafe/2026-01-10/
CATEGORIES:Events,Gorebridge Beacon,Gorebridge Community Development Trust
ATTACH;FMTTYPE=image/png:https://gorebridge.org.uk/wp-content/uploads/2025/08/Breather-Cafe.png
END:VEVENT
BEGIN:VEVENT
DTSTART;TZID=Europe/London:20260117T123000
DTEND;TZID=Europe/London:20260117T140000
DTSTAMP:20260424T040501
CREATED:20250828T142317Z
LAST-MODIFIED:20251020T173317Z
UID:13721-1768653000-1768658400@gorebridge.org.uk
SUMMARY:Breather Cafe (for Unpaid Carers)
DESCRIPTION:Are you an unpaid carer?  \nAn unpaid carer is someone who supports a family member\, partner\, relative or friend\, of any age who needs help to manage a long-term condition\, disability\, physical or mental health condition\, ‘if you spend time caring for someone who relies on your help\, you’re an unpaid carer.’ \nThe Breather Cafe is not a service\, we wanted to create a space where you can come along\, out from your caring role\, chat and once a month (to be arranged/decided) maybe take part in an activity. You don’t need to attend every week\, it’s there for you\, should you want it. \nFree.
URL:https://gorebridge.org.uk/upcomingevents/breather-cafe/2026-01-17/
CATEGORIES:Events,Gorebridge Beacon,Gorebridge Community Development Trust
ATTACH;FMTTYPE=image/png:https://gorebridge.org.uk/wp-content/uploads/2025/08/Breather-Cafe.png
END:VEVENT
BEGIN:VEVENT
DTSTART;TZID=Europe/London:20260124T123000
DTEND;TZID=Europe/London:20260124T140000
DTSTAMP:20260424T040501
CREATED:20250828T142317Z
LAST-MODIFIED:20251020T173322Z
UID:13723-1769257800-1769263200@gorebridge.org.uk
SUMMARY:Breather Cafe (for Unpaid Carers)
DESCRIPTION:Are you an unpaid carer?  \nAn unpaid carer is someone who supports a family member\, partner\, relative or friend\, of any age who needs help to manage a long-term condition\, disability\, physical or mental health condition\, ‘if you spend time caring for someone who relies on your help\, you’re an unpaid carer.’ \nThe Breather Cafe is not a service\, we wanted to create a space where you can come along\, out from your caring role\, chat and once a month (to be arranged/decided) maybe take part in an activity. You don’t need to attend every week\, it’s there for you\, should you want it. \nFree.
URL:https://gorebridge.org.uk/upcomingevents/breather-cafe/2026-01-24/
CATEGORIES:Events,Gorebridge Beacon,Gorebridge Community Development Trust
ATTACH;FMTTYPE=image/png:https://gorebridge.org.uk/wp-content/uploads/2025/08/Breather-Cafe.png
END:VEVENT
BEGIN:VEVENT
DTSTART;TZID=Europe/London:20260131T123000
DTEND;TZID=Europe/London:20260131T140000
DTSTAMP:20260424T040501
CREATED:20250828T142317Z
LAST-MODIFIED:20251020T173324Z
UID:13725-1769862600-1769868000@gorebridge.org.uk
SUMMARY:Breather Cafe (for Unpaid Carers)
DESCRIPTION:Are you an unpaid carer?  \nAn unpaid carer is someone who supports a family member\, partner\, relative or friend\, of any age who needs help to manage a long-term condition\, disability\, physical or mental health condition\, ‘if you spend time caring for someone who relies on your help\, you’re an unpaid carer.’ \nThe Breather Cafe is not a service\, we wanted to create a space where you can come along\, out from your caring role\, chat and once a month (to be arranged/decided) maybe take part in an activity. You don’t need to attend every week\, it’s there for you\, should you want it. \nFree.
URL:https://gorebridge.org.uk/upcomingevents/breather-cafe/2026-01-31/
CATEGORIES:Events,Gorebridge Beacon,Gorebridge Community Development Trust
ATTACH;FMTTYPE=image/png:https://gorebridge.org.uk/wp-content/uploads/2025/08/Breather-Cafe.png
END:VEVENT
END:VCALENDAR