BEGIN:VCALENDAR
VERSION:2.0
PRODID:-//Gorebridge Community Development Trust - ECPv6.15.20//NONSGML v1.0//EN
CALSCALE:GREGORIAN
METHOD:PUBLISH
X-ORIGINAL-URL:https://gorebridge.org.uk
X-WR-CALDESC:Events for Gorebridge Community Development Trust
REFRESH-INTERVAL;VALUE=DURATION:PT1H
X-Robots-Tag:noindex
X-PUBLISHED-TTL:PT1H
BEGIN:VTIMEZONE
TZID:Europe/London
BEGIN:DAYLIGHT
TZOFFSETFROM:+0000
TZOFFSETTO:+0100
TZNAME:BST
DTSTART:20230326T010000
END:DAYLIGHT
BEGIN:STANDARD
TZOFFSETFROM:+0100
TZOFFSETTO:+0000
TZNAME:GMT
DTSTART:20231029T010000
END:STANDARD
BEGIN:DAYLIGHT
TZOFFSETFROM:+0000
TZOFFSETTO:+0100
TZNAME:BST
DTSTART:20240331T010000
END:DAYLIGHT
BEGIN:STANDARD
TZOFFSETFROM:+0100
TZOFFSETTO:+0000
TZNAME:GMT
DTSTART:20241027T010000
END:STANDARD
BEGIN:DAYLIGHT
TZOFFSETFROM:+0000
TZOFFSETTO:+0100
TZNAME:BST
DTSTART:20250330T010000
END:DAYLIGHT
BEGIN:STANDARD
TZOFFSETFROM:+0100
TZOFFSETTO:+0000
TZNAME:GMT
DTSTART:20251026T010000
END:STANDARD
END:VTIMEZONE
BEGIN:VEVENT
DTSTART;TZID=Europe/London:20241006T143000
DTEND;TZID=Europe/London:20241006T163000
DTSTAMP:20260424T162930
CREATED:20240605T124940Z
LAST-MODIFIED:20240605T124940Z
UID:11332-1728225000-1728232200@gorebridge.org.uk
SUMMARY:Community Gardening Drop-In Session
DESCRIPTION:Join our weekly community gardening sessions. Cultivate friendships\, learn new skills and be part of our sustainable community! All levels of experience welcome and no seed to sign up\, just pop in and get gardening! \nDrop-ins every Tuesday 6 – 8:30pm \nHot drinks available. \n*Important – drop-in sessions may be cancelled if the weather is rotten. Please contact the Beacon if you would like to confirm if a session is taking place or not. Times change during Winter months.
URL:https://gorebridge.org.uk/upcomingevents/community-gardening-drop-in-session-2/2024-10-06/
LOCATION:Gorebridge Beacon
CATEGORIES:Beacon,Garden,Gorebridge Community Development Trust
END:VEVENT
BEGIN:VEVENT
DTSTART;TZID=Europe/London:20241001T180000
DTEND;TZID=Europe/London:20241001T203000
DTSTAMP:20260424T162930
CREATED:20240605T124749Z
LAST-MODIFIED:20240605T124749Z
UID:11300-1727805600-1727814600@gorebridge.org.uk
SUMMARY:Community Gardening Drop-In Session
DESCRIPTION:Join our weekly community gardening sessions. Cultivate friendships\, learn new skills and be part of our sustainable community! All levels of experience welcome and no seed to sign up\, just pop in and get gardening! \nDrop-ins every Tuesday 6 – 8:30pm \nHot drinks available. \n*Important – drop-in sessions may be cancelled if the weather is rotten. Please contact the Beacon if you would like to confirm if a session is taking place or not. Times change during Winter months.
URL:https://gorebridge.org.uk/upcomingevents/community-gardening-drop-in-session/2024-10-01/
CATEGORIES:Events,Family Activities,Garden,Gorebridge Community Development Trust
END:VEVENT
BEGIN:VEVENT
DTSTART;TZID=Europe/London:20241001T150000
DTEND;TZID=Europe/London:20241001T170000
DTSTAMP:20260424T162930
CREATED:20240605T124327Z
LAST-MODIFIED:20240605T124327Z
UID:12695-1727794800-1727802000@gorebridge.org.uk
SUMMARY:Gorebridge Community Pantry
DESCRIPTION:The Gorebridge Community Pantry is open every Tuesday evening 3 – 5PM (until 31st March 2025) \nTo read more about the Pantry please click here.
URL:https://gorebridge.org.uk/upcomingevents/gorebridge-community-pantry-2/2024-10-01/
LOCATION:Gorebridge Beacon
CATEGORIES:Food,Gorebridge Beacon,Gorebridge Community Development Trust
END:VEVENT
BEGIN:VEVENT
DTSTART;TZID=Europe/London:20240929T143000
DTEND;TZID=Europe/London:20240929T163000
DTSTAMP:20260424T162930
CREATED:20240605T124940Z
LAST-MODIFIED:20240605T124940Z
UID:11331-1727620200-1727627400@gorebridge.org.uk
SUMMARY:Community Gardening Drop-In Session
DESCRIPTION:Join our weekly community gardening sessions. Cultivate friendships\, learn new skills and be part of our sustainable community! All levels of experience welcome and no seed to sign up\, just pop in and get gardening! \nDrop-ins every Tuesday 6 – 8:30pm \nHot drinks available. \n*Important – drop-in sessions may be cancelled if the weather is rotten. Please contact the Beacon if you would like to confirm if a session is taking place or not. Times change during Winter months.
URL:https://gorebridge.org.uk/upcomingevents/community-gardening-drop-in-session-2/2024-09-29/
LOCATION:Gorebridge Beacon
CATEGORIES:Beacon,Garden,Gorebridge Community Development Trust
END:VEVENT
BEGIN:VEVENT
DTSTART;TZID=Europe/London:20240924T180000
DTEND;TZID=Europe/London:20240924T203000
DTSTAMP:20260424T162930
CREATED:20240605T124749Z
LAST-MODIFIED:20240605T124749Z
UID:11299-1727200800-1727209800@gorebridge.org.uk
SUMMARY:Community Gardening Drop-In Session
DESCRIPTION:Join our weekly community gardening sessions. Cultivate friendships\, learn new skills and be part of our sustainable community! All levels of experience welcome and no seed to sign up\, just pop in and get gardening! \nDrop-ins every Tuesday 6 – 8:30pm \nHot drinks available. \n*Important – drop-in sessions may be cancelled if the weather is rotten. Please contact the Beacon if you would like to confirm if a session is taking place or not. Times change during Winter months.
URL:https://gorebridge.org.uk/upcomingevents/community-gardening-drop-in-session/2024-09-24/
CATEGORIES:Events,Family Activities,Garden,Gorebridge Community Development Trust
END:VEVENT
BEGIN:VEVENT
DTSTART;TZID=Europe/London:20240924T150000
DTEND;TZID=Europe/London:20240924T170000
DTSTAMP:20260424T162930
CREATED:20240605T124327Z
LAST-MODIFIED:20240605T124327Z
UID:12694-1727190000-1727197200@gorebridge.org.uk
SUMMARY:Gorebridge Community Pantry
DESCRIPTION:The Gorebridge Community Pantry is open every Tuesday evening 3 – 5PM (until 31st March 2025) \nTo read more about the Pantry please click here.
URL:https://gorebridge.org.uk/upcomingevents/gorebridge-community-pantry-2/2024-09-24/
LOCATION:Gorebridge Beacon
CATEGORIES:Food,Gorebridge Beacon,Gorebridge Community Development Trust
END:VEVENT
BEGIN:VEVENT
DTSTART;TZID=Europe/London:20240922T143000
DTEND;TZID=Europe/London:20240922T163000
DTSTAMP:20260424T162930
CREATED:20240605T124940Z
LAST-MODIFIED:20240605T124940Z
UID:11330-1727015400-1727022600@gorebridge.org.uk
SUMMARY:Community Gardening Drop-In Session
DESCRIPTION:Join our weekly community gardening sessions. Cultivate friendships\, learn new skills and be part of our sustainable community! All levels of experience welcome and no seed to sign up\, just pop in and get gardening! \nDrop-ins every Tuesday 6 – 8:30pm \nHot drinks available. \n*Important – drop-in sessions may be cancelled if the weather is rotten. Please contact the Beacon if you would like to confirm if a session is taking place or not. Times change during Winter months.
URL:https://gorebridge.org.uk/upcomingevents/community-gardening-drop-in-session-2/2024-09-22/
LOCATION:Gorebridge Beacon
CATEGORIES:Beacon,Garden,Gorebridge Community Development Trust
END:VEVENT
BEGIN:VEVENT
DTSTART;TZID=Europe/London:20240917T180000
DTEND;TZID=Europe/London:20240917T203000
DTSTAMP:20260424T162930
CREATED:20240605T124749Z
LAST-MODIFIED:20240605T124749Z
UID:11298-1726596000-1726605000@gorebridge.org.uk
SUMMARY:Community Gardening Drop-In Session
DESCRIPTION:Join our weekly community gardening sessions. Cultivate friendships\, learn new skills and be part of our sustainable community! All levels of experience welcome and no seed to sign up\, just pop in and get gardening! \nDrop-ins every Tuesday 6 – 8:30pm \nHot drinks available. \n*Important – drop-in sessions may be cancelled if the weather is rotten. Please contact the Beacon if you would like to confirm if a session is taking place or not. Times change during Winter months.
URL:https://gorebridge.org.uk/upcomingevents/community-gardening-drop-in-session/2024-09-17/
CATEGORIES:Events,Family Activities,Garden,Gorebridge Community Development Trust
END:VEVENT
BEGIN:VEVENT
DTSTART;TZID=Europe/London:20240917T150000
DTEND;TZID=Europe/London:20240917T170000
DTSTAMP:20260424T162930
CREATED:20240605T124327Z
LAST-MODIFIED:20240605T124327Z
UID:12693-1726585200-1726592400@gorebridge.org.uk
SUMMARY:Gorebridge Community Pantry
DESCRIPTION:The Gorebridge Community Pantry is open every Tuesday evening 3 – 5PM (until 31st March 2025) \nTo read more about the Pantry please click here.
URL:https://gorebridge.org.uk/upcomingevents/gorebridge-community-pantry-2/2024-09-17/
LOCATION:Gorebridge Beacon
CATEGORIES:Food,Gorebridge Beacon,Gorebridge Community Development Trust
END:VEVENT
BEGIN:VEVENT
DTSTART;TZID=Europe/London:20240915T143000
DTEND;TZID=Europe/London:20240915T163000
DTSTAMP:20260424T162930
CREATED:20240605T124940Z
LAST-MODIFIED:20240605T124940Z
UID:11329-1726410600-1726417800@gorebridge.org.uk
SUMMARY:Community Gardening Drop-In Session
DESCRIPTION:Join our weekly community gardening sessions. Cultivate friendships\, learn new skills and be part of our sustainable community! All levels of experience welcome and no seed to sign up\, just pop in and get gardening! \nDrop-ins every Tuesday 6 – 8:30pm \nHot drinks available. \n*Important – drop-in sessions may be cancelled if the weather is rotten. Please contact the Beacon if you would like to confirm if a session is taking place or not. Times change during Winter months.
URL:https://gorebridge.org.uk/upcomingevents/community-gardening-drop-in-session-2/2024-09-15/
LOCATION:Gorebridge Beacon
CATEGORIES:Beacon,Garden,Gorebridge Community Development Trust
END:VEVENT
BEGIN:VEVENT
DTSTART;TZID=Europe/London:20240910T180000
DTEND;TZID=Europe/London:20240910T203000
DTSTAMP:20260424T162930
CREATED:20240605T124749Z
LAST-MODIFIED:20240605T124749Z
UID:11297-1725991200-1726000200@gorebridge.org.uk
SUMMARY:Community Gardening Drop-In Session
DESCRIPTION:Join our weekly community gardening sessions. Cultivate friendships\, learn new skills and be part of our sustainable community! All levels of experience welcome and no seed to sign up\, just pop in and get gardening! \nDrop-ins every Tuesday 6 – 8:30pm \nHot drinks available. \n*Important – drop-in sessions may be cancelled if the weather is rotten. Please contact the Beacon if you would like to confirm if a session is taking place or not. Times change during Winter months.
URL:https://gorebridge.org.uk/upcomingevents/community-gardening-drop-in-session/2024-09-10/
CATEGORIES:Events,Family Activities,Garden,Gorebridge Community Development Trust
END:VEVENT
BEGIN:VEVENT
DTSTART;TZID=Europe/London:20240910T150000
DTEND;TZID=Europe/London:20240910T170000
DTSTAMP:20260424T162930
CREATED:20240605T124327Z
LAST-MODIFIED:20240605T124327Z
UID:12692-1725980400-1725987600@gorebridge.org.uk
SUMMARY:Gorebridge Community Pantry
DESCRIPTION:The Gorebridge Community Pantry is open every Tuesday evening 3 – 5PM (until 31st March 2025) \nTo read more about the Pantry please click here.
URL:https://gorebridge.org.uk/upcomingevents/gorebridge-community-pantry-2/2024-09-10/
LOCATION:Gorebridge Beacon
CATEGORIES:Food,Gorebridge Beacon,Gorebridge Community Development Trust
END:VEVENT
BEGIN:VEVENT
DTSTART;TZID=Europe/London:20240908T143000
DTEND;TZID=Europe/London:20240908T163000
DTSTAMP:20260424T162930
CREATED:20240605T124940Z
LAST-MODIFIED:20240605T124940Z
UID:11328-1725805800-1725813000@gorebridge.org.uk
SUMMARY:Community Gardening Drop-In Session
DESCRIPTION:Join our weekly community gardening sessions. Cultivate friendships\, learn new skills and be part of our sustainable community! All levels of experience welcome and no seed to sign up\, just pop in and get gardening! \nDrop-ins every Tuesday 6 – 8:30pm \nHot drinks available. \n*Important – drop-in sessions may be cancelled if the weather is rotten. Please contact the Beacon if you would like to confirm if a session is taking place or not. Times change during Winter months.
URL:https://gorebridge.org.uk/upcomingevents/community-gardening-drop-in-session-2/2024-09-08/
LOCATION:Gorebridge Beacon
CATEGORIES:Beacon,Garden,Gorebridge Community Development Trust
END:VEVENT
BEGIN:VEVENT
DTSTART;TZID=Europe/London:20240907T183000
DTEND;TZID=Europe/London:20240907T220000
DTSTAMP:20260424T162930
CREATED:20240419T084746Z
LAST-MODIFIED:20240813T095418Z
UID:10843-1725733800-1725746400@gorebridge.org.uk
SUMMARY:Bingo 7th September
DESCRIPTION:Get ready to yell “BINGO!” \nJoin us for a night of excitement\, laughter\, and maybe a little friendly competition at the Gorebridge Beacon on 7th September! \nWith tickets priced at just £12\, you’ll get access to an evening packed with thrilling games\, awesome prizes\, and fantastic company. And the best part? It’s BYOB! So\, grab your favorite drinks\, whether it’s a bottle of bubbly or a six-pack of your preferred brew. \nGrab your tickets now and mark your calendars for a night of BINGO madness at the Gorebridge Beacon. \nSee you there!
URL:https://gorebridge.org.uk/upcomingevents/bingo-7th-september/
LOCATION:Gorebridge Beacon
CATEGORIES:Beacon,Events,Gorebridge Community Development Trust
END:VEVENT
BEGIN:VEVENT
DTSTART;TZID=Europe/London:20240903T180000
DTEND;TZID=Europe/London:20240903T203000
DTSTAMP:20260424T162930
CREATED:20240605T124749Z
LAST-MODIFIED:20240605T124749Z
UID:11296-1725386400-1725395400@gorebridge.org.uk
SUMMARY:Community Gardening Drop-In Session
DESCRIPTION:Join our weekly community gardening sessions. Cultivate friendships\, learn new skills and be part of our sustainable community! All levels of experience welcome and no seed to sign up\, just pop in and get gardening! \nDrop-ins every Tuesday 6 – 8:30pm \nHot drinks available. \n*Important – drop-in sessions may be cancelled if the weather is rotten. Please contact the Beacon if you would like to confirm if a session is taking place or not. Times change during Winter months.
URL:https://gorebridge.org.uk/upcomingevents/community-gardening-drop-in-session/2024-09-03/
CATEGORIES:Events,Family Activities,Garden,Gorebridge Community Development Trust
END:VEVENT
BEGIN:VEVENT
DTSTART;TZID=Europe/London:20240903T150000
DTEND;TZID=Europe/London:20240903T170000
DTSTAMP:20260424T162930
CREATED:20240605T124327Z
LAST-MODIFIED:20240605T124327Z
UID:12691-1725375600-1725382800@gorebridge.org.uk
SUMMARY:Gorebridge Community Pantry
DESCRIPTION:The Gorebridge Community Pantry is open every Tuesday evening 3 – 5PM (until 31st March 2025) \nTo read more about the Pantry please click here.
URL:https://gorebridge.org.uk/upcomingevents/gorebridge-community-pantry-2/2024-09-03/
LOCATION:Gorebridge Beacon
CATEGORIES:Food,Gorebridge Beacon,Gorebridge Community Development Trust
END:VEVENT
BEGIN:VEVENT
DTSTART;TZID=Europe/London:20240901T143000
DTEND;TZID=Europe/London:20240901T163000
DTSTAMP:20260424T162930
CREATED:20240605T124940Z
LAST-MODIFIED:20240605T124940Z
UID:11327-1725201000-1725208200@gorebridge.org.uk
SUMMARY:Community Gardening Drop-In Session
DESCRIPTION:Join our weekly community gardening sessions. Cultivate friendships\, learn new skills and be part of our sustainable community! All levels of experience welcome and no seed to sign up\, just pop in and get gardening! \nDrop-ins every Tuesday 6 – 8:30pm \nHot drinks available. \n*Important – drop-in sessions may be cancelled if the weather is rotten. Please contact the Beacon if you would like to confirm if a session is taking place or not. Times change during Winter months.
URL:https://gorebridge.org.uk/upcomingevents/community-gardening-drop-in-session-2/2024-09-01/
LOCATION:Gorebridge Beacon
CATEGORIES:Beacon,Garden,Gorebridge Community Development Trust
END:VEVENT
BEGIN:VEVENT
DTSTART;TZID=Europe/London:20240827T180000
DTEND;TZID=Europe/London:20240827T203000
DTSTAMP:20260424T162930
CREATED:20240605T124749Z
LAST-MODIFIED:20240605T124749Z
UID:11295-1724781600-1724790600@gorebridge.org.uk
SUMMARY:Community Gardening Drop-In Session
DESCRIPTION:Join our weekly community gardening sessions. Cultivate friendships\, learn new skills and be part of our sustainable community! All levels of experience welcome and no seed to sign up\, just pop in and get gardening! \nDrop-ins every Tuesday 6 – 8:30pm \nHot drinks available. \n*Important – drop-in sessions may be cancelled if the weather is rotten. Please contact the Beacon if you would like to confirm if a session is taking place or not. Times change during Winter months.
URL:https://gorebridge.org.uk/upcomingevents/community-gardening-drop-in-session/2024-08-27/
CATEGORIES:Events,Family Activities,Garden,Gorebridge Community Development Trust
END:VEVENT
BEGIN:VEVENT
DTSTART;TZID=Europe/London:20240827T150000
DTEND;TZID=Europe/London:20240827T170000
DTSTAMP:20260424T162930
CREATED:20240605T124327Z
LAST-MODIFIED:20240605T124327Z
UID:12690-1724770800-1724778000@gorebridge.org.uk
SUMMARY:Gorebridge Community Pantry
DESCRIPTION:The Gorebridge Community Pantry is open every Tuesday evening 3 – 5PM (until 31st March 2025) \nTo read more about the Pantry please click here.
URL:https://gorebridge.org.uk/upcomingevents/gorebridge-community-pantry-2/2024-08-27/
LOCATION:Gorebridge Beacon
CATEGORIES:Food,Gorebridge Beacon,Gorebridge Community Development Trust
END:VEVENT
BEGIN:VEVENT
DTSTART;TZID=Europe/London:20240825T143000
DTEND;TZID=Europe/London:20240825T163000
DTSTAMP:20260424T162930
CREATED:20240605T124940Z
LAST-MODIFIED:20240605T124940Z
UID:11326-1724596200-1724603400@gorebridge.org.uk
SUMMARY:Community Gardening Drop-In Session
DESCRIPTION:Join our weekly community gardening sessions. Cultivate friendships\, learn new skills and be part of our sustainable community! All levels of experience welcome and no seed to sign up\, just pop in and get gardening! \nDrop-ins every Tuesday 6 – 8:30pm \nHot drinks available. \n*Important – drop-in sessions may be cancelled if the weather is rotten. Please contact the Beacon if you would like to confirm if a session is taking place or not. Times change during Winter months.
URL:https://gorebridge.org.uk/upcomingevents/community-gardening-drop-in-session-2/2024-08-25/
LOCATION:Gorebridge Beacon
CATEGORIES:Beacon,Garden,Gorebridge Community Development Trust
END:VEVENT
BEGIN:VEVENT
DTSTART;TZID=Europe/London:20240820T180000
DTEND;TZID=Europe/London:20240820T203000
DTSTAMP:20260424T162930
CREATED:20240605T124749Z
LAST-MODIFIED:20240605T124749Z
UID:11294-1724176800-1724185800@gorebridge.org.uk
SUMMARY:Community Gardening Drop-In Session
DESCRIPTION:Join our weekly community gardening sessions. Cultivate friendships\, learn new skills and be part of our sustainable community! All levels of experience welcome and no seed to sign up\, just pop in and get gardening! \nDrop-ins every Tuesday 6 – 8:30pm \nHot drinks available. \n*Important – drop-in sessions may be cancelled if the weather is rotten. Please contact the Beacon if you would like to confirm if a session is taking place or not. Times change during Winter months.
URL:https://gorebridge.org.uk/upcomingevents/community-gardening-drop-in-session/2024-08-20/
CATEGORIES:Events,Family Activities,Garden,Gorebridge Community Development Trust
END:VEVENT
BEGIN:VEVENT
DTSTART;TZID=Europe/London:20240820T150000
DTEND;TZID=Europe/London:20240820T170000
DTSTAMP:20260424T162930
CREATED:20240605T124327Z
LAST-MODIFIED:20240605T124327Z
UID:12689-1724166000-1724173200@gorebridge.org.uk
SUMMARY:Gorebridge Community Pantry
DESCRIPTION:The Gorebridge Community Pantry is open every Tuesday evening 3 – 5PM (until 31st March 2025) \nTo read more about the Pantry please click here.
URL:https://gorebridge.org.uk/upcomingevents/gorebridge-community-pantry-2/2024-08-20/
LOCATION:Gorebridge Beacon
CATEGORIES:Food,Gorebridge Beacon,Gorebridge Community Development Trust
END:VEVENT
BEGIN:VEVENT
DTSTART;TZID=Europe/London:20240818T143000
DTEND;TZID=Europe/London:20240818T163000
DTSTAMP:20260424T162930
CREATED:20240605T124940Z
LAST-MODIFIED:20240605T124940Z
UID:11325-1723991400-1723998600@gorebridge.org.uk
SUMMARY:Community Gardening Drop-In Session
DESCRIPTION:Join our weekly community gardening sessions. Cultivate friendships\, learn new skills and be part of our sustainable community! All levels of experience welcome and no seed to sign up\, just pop in and get gardening! \nDrop-ins every Tuesday 6 – 8:30pm \nHot drinks available. \n*Important – drop-in sessions may be cancelled if the weather is rotten. Please contact the Beacon if you would like to confirm if a session is taking place or not. Times change during Winter months.
URL:https://gorebridge.org.uk/upcomingevents/community-gardening-drop-in-session-2/2024-08-18/
LOCATION:Gorebridge Beacon
CATEGORIES:Beacon,Garden,Gorebridge Community Development Trust
END:VEVENT
BEGIN:VEVENT
DTSTART;TZID=Europe/London:20240813T180000
DTEND;TZID=Europe/London:20240813T203000
DTSTAMP:20260424T162930
CREATED:20240605T124749Z
LAST-MODIFIED:20240605T124749Z
UID:11293-1723572000-1723581000@gorebridge.org.uk
SUMMARY:Community Gardening Drop-In Session
DESCRIPTION:Join our weekly community gardening sessions. Cultivate friendships\, learn new skills and be part of our sustainable community! All levels of experience welcome and no seed to sign up\, just pop in and get gardening! \nDrop-ins every Tuesday 6 – 8:30pm \nHot drinks available. \n*Important – drop-in sessions may be cancelled if the weather is rotten. Please contact the Beacon if you would like to confirm if a session is taking place or not. Times change during Winter months.
URL:https://gorebridge.org.uk/upcomingevents/community-gardening-drop-in-session/2024-08-13/
CATEGORIES:Events,Family Activities,Garden,Gorebridge Community Development Trust
END:VEVENT
BEGIN:VEVENT
DTSTART;TZID=Europe/London:20240813T150000
DTEND;TZID=Europe/London:20240813T170000
DTSTAMP:20260424T162930
CREATED:20240605T124327Z
LAST-MODIFIED:20240605T124327Z
UID:12688-1723561200-1723568400@gorebridge.org.uk
SUMMARY:Gorebridge Community Pantry
DESCRIPTION:The Gorebridge Community Pantry is open every Tuesday evening 3 – 5PM (until 31st March 2025) \nTo read more about the Pantry please click here.
URL:https://gorebridge.org.uk/upcomingevents/gorebridge-community-pantry-2/2024-08-13/
LOCATION:Gorebridge Beacon
CATEGORIES:Food,Gorebridge Beacon,Gorebridge Community Development Trust
END:VEVENT
BEGIN:VEVENT
DTSTART;TZID=Europe/London:20240811T143000
DTEND;TZID=Europe/London:20240811T163000
DTSTAMP:20260424T162930
CREATED:20240605T124940Z
LAST-MODIFIED:20240605T124940Z
UID:11324-1723386600-1723393800@gorebridge.org.uk
SUMMARY:Community Gardening Drop-In Session
DESCRIPTION:Join our weekly community gardening sessions. Cultivate friendships\, learn new skills and be part of our sustainable community! All levels of experience welcome and no seed to sign up\, just pop in and get gardening! \nDrop-ins every Tuesday 6 – 8:30pm \nHot drinks available. \n*Important – drop-in sessions may be cancelled if the weather is rotten. Please contact the Beacon if you would like to confirm if a session is taking place or not. Times change during Winter months.
URL:https://gorebridge.org.uk/upcomingevents/community-gardening-drop-in-session-2/2024-08-11/
LOCATION:Gorebridge Beacon
CATEGORIES:Beacon,Garden,Gorebridge Community Development Trust
END:VEVENT
BEGIN:VEVENT
DTSTART;TZID=Europe/London:20240806T180000
DTEND;TZID=Europe/London:20240806T203000
DTSTAMP:20260424T162930
CREATED:20240605T124749Z
LAST-MODIFIED:20240605T124749Z
UID:11292-1722967200-1722976200@gorebridge.org.uk
SUMMARY:Community Gardening Drop-In Session
DESCRIPTION:Join our weekly community gardening sessions. Cultivate friendships\, learn new skills and be part of our sustainable community! All levels of experience welcome and no seed to sign up\, just pop in and get gardening! \nDrop-ins every Tuesday 6 – 8:30pm \nHot drinks available. \n*Important – drop-in sessions may be cancelled if the weather is rotten. Please contact the Beacon if you would like to confirm if a session is taking place or not. Times change during Winter months.
URL:https://gorebridge.org.uk/upcomingevents/community-gardening-drop-in-session/2024-08-06/
CATEGORIES:Events,Family Activities,Garden,Gorebridge Community Development Trust
END:VEVENT
BEGIN:VEVENT
DTSTART;TZID=Europe/London:20240806T150000
DTEND;TZID=Europe/London:20240806T170000
DTSTAMP:20260424T162930
CREATED:20240605T124327Z
LAST-MODIFIED:20240605T124327Z
UID:12687-1722956400-1722963600@gorebridge.org.uk
SUMMARY:Gorebridge Community Pantry
DESCRIPTION:The Gorebridge Community Pantry is open every Tuesday evening 3 – 5PM (until 31st March 2025) \nTo read more about the Pantry please click here.
URL:https://gorebridge.org.uk/upcomingevents/gorebridge-community-pantry-2/2024-08-06/
LOCATION:Gorebridge Beacon
CATEGORIES:Food,Gorebridge Beacon,Gorebridge Community Development Trust
END:VEVENT
BEGIN:VEVENT
DTSTART;TZID=Europe/London:20240804T143000
DTEND;TZID=Europe/London:20240804T163000
DTSTAMP:20260424T162930
CREATED:20240605T124940Z
LAST-MODIFIED:20240605T124940Z
UID:11323-1722781800-1722789000@gorebridge.org.uk
SUMMARY:Community Gardening Drop-In Session
DESCRIPTION:Join our weekly community gardening sessions. Cultivate friendships\, learn new skills and be part of our sustainable community! All levels of experience welcome and no seed to sign up\, just pop in and get gardening! \nDrop-ins every Tuesday 6 – 8:30pm \nHot drinks available. \n*Important – drop-in sessions may be cancelled if the weather is rotten. Please contact the Beacon if you would like to confirm if a session is taking place or not. Times change during Winter months.
URL:https://gorebridge.org.uk/upcomingevents/community-gardening-drop-in-session-2/2024-08-04/
LOCATION:Gorebridge Beacon
CATEGORIES:Beacon,Garden,Gorebridge Community Development Trust
END:VEVENT
BEGIN:VEVENT
DTSTART;TZID=Europe/London:20240730T180000
DTEND;TZID=Europe/London:20240730T203000
DTSTAMP:20260424T162930
CREATED:20240605T124749Z
LAST-MODIFIED:20240605T124749Z
UID:11291-1722362400-1722371400@gorebridge.org.uk
SUMMARY:Community Gardening Drop-In Session
DESCRIPTION:Join our weekly community gardening sessions. Cultivate friendships\, learn new skills and be part of our sustainable community! All levels of experience welcome and no seed to sign up\, just pop in and get gardening! \nDrop-ins every Tuesday 6 – 8:30pm \nHot drinks available. \n*Important – drop-in sessions may be cancelled if the weather is rotten. Please contact the Beacon if you would like to confirm if a session is taking place or not. Times change during Winter months.
URL:https://gorebridge.org.uk/upcomingevents/community-gardening-drop-in-session/2024-07-30/
CATEGORIES:Events,Family Activities,Garden,Gorebridge Community Development Trust
END:VEVENT
END:VCALENDAR