BEGIN:VCALENDAR
VERSION:2.0
PRODID:-//Gorebridge Community Development Trust - ECPv6.15.20//NONSGML v1.0//EN
CALSCALE:GREGORIAN
METHOD:PUBLISH
X-ORIGINAL-URL:https://gorebridge.org.uk
X-WR-CALDESC:Events for Gorebridge Community Development Trust
REFRESH-INTERVAL;VALUE=DURATION:PT1H
X-Robots-Tag:noindex
X-PUBLISHED-TTL:PT1H
BEGIN:VTIMEZONE
TZID:Europe/London
BEGIN:DAYLIGHT
TZOFFSETFROM:+0000
TZOFFSETTO:+0100
TZNAME:BST
DTSTART:20230326T010000
END:DAYLIGHT
BEGIN:STANDARD
TZOFFSETFROM:+0100
TZOFFSETTO:+0000
TZNAME:GMT
DTSTART:20231029T010000
END:STANDARD
BEGIN:DAYLIGHT
TZOFFSETFROM:+0000
TZOFFSETTO:+0100
TZNAME:BST
DTSTART:20240331T010000
END:DAYLIGHT
BEGIN:STANDARD
TZOFFSETFROM:+0100
TZOFFSETTO:+0000
TZNAME:GMT
DTSTART:20241027T010000
END:STANDARD
BEGIN:DAYLIGHT
TZOFFSETFROM:+0000
TZOFFSETTO:+0100
TZNAME:BST
DTSTART:20250330T010000
END:DAYLIGHT
BEGIN:STANDARD
TZOFFSETFROM:+0100
TZOFFSETTO:+0000
TZNAME:GMT
DTSTART:20251026T010000
END:STANDARD
END:VTIMEZONE
BEGIN:VEVENT
DTSTART;TZID=Europe/London:20240806T150000
DTEND;TZID=Europe/London:20240806T170000
DTSTAMP:20260424T210354
CREATED:20240605T124327Z
LAST-MODIFIED:20240605T124327Z
UID:12687-1722956400-1722963600@gorebridge.org.uk
SUMMARY:Gorebridge Community Pantry
DESCRIPTION:The Gorebridge Community Pantry is open every Tuesday evening 3 – 5PM (until 31st March 2025) \nTo read more about the Pantry please click here.
URL:https://gorebridge.org.uk/upcomingevents/gorebridge-community-pantry-2/2024-08-06/
LOCATION:Gorebridge Beacon
CATEGORIES:Food,Gorebridge Beacon,Gorebridge Community Development Trust
END:VEVENT
BEGIN:VEVENT
DTSTART;TZID=Europe/London:20240804T143000
DTEND;TZID=Europe/London:20240804T163000
DTSTAMP:20260424T210354
CREATED:20240605T124940Z
LAST-MODIFIED:20240605T124940Z
UID:11323-1722781800-1722789000@gorebridge.org.uk
SUMMARY:Community Gardening Drop-In Session
DESCRIPTION:Join our weekly community gardening sessions. Cultivate friendships\, learn new skills and be part of our sustainable community! All levels of experience welcome and no seed to sign up\, just pop in and get gardening! \nDrop-ins every Tuesday 6 – 8:30pm \nHot drinks available. \n*Important – drop-in sessions may be cancelled if the weather is rotten. Please contact the Beacon if you would like to confirm if a session is taking place or not. Times change during Winter months.
URL:https://gorebridge.org.uk/upcomingevents/community-gardening-drop-in-session-2/2024-08-04/
LOCATION:Gorebridge Beacon
CATEGORIES:Beacon,Garden,Gorebridge Community Development Trust
END:VEVENT
BEGIN:VEVENT
DTSTART;TZID=Europe/London:20240730T180000
DTEND;TZID=Europe/London:20240730T203000
DTSTAMP:20260424T210354
CREATED:20240605T124749Z
LAST-MODIFIED:20240605T124749Z
UID:11291-1722362400-1722371400@gorebridge.org.uk
SUMMARY:Community Gardening Drop-In Session
DESCRIPTION:Join our weekly community gardening sessions. Cultivate friendships\, learn new skills and be part of our sustainable community! All levels of experience welcome and no seed to sign up\, just pop in and get gardening! \nDrop-ins every Tuesday 6 – 8:30pm \nHot drinks available. \n*Important – drop-in sessions may be cancelled if the weather is rotten. Please contact the Beacon if you would like to confirm if a session is taking place or not. Times change during Winter months.
URL:https://gorebridge.org.uk/upcomingevents/community-gardening-drop-in-session/2024-07-30/
CATEGORIES:Events,Family Activities,Garden,Gorebridge Community Development Trust
END:VEVENT
BEGIN:VEVENT
DTSTART;TZID=Europe/London:20240730T150000
DTEND;TZID=Europe/London:20240730T170000
DTSTAMP:20260424T210354
CREATED:20240605T124327Z
LAST-MODIFIED:20240605T124327Z
UID:12686-1722351600-1722358800@gorebridge.org.uk
SUMMARY:Gorebridge Community Pantry
DESCRIPTION:The Gorebridge Community Pantry is open every Tuesday evening 3 – 5PM (until 31st March 2025) \nTo read more about the Pantry please click here.
URL:https://gorebridge.org.uk/upcomingevents/gorebridge-community-pantry-2/2024-07-30/
LOCATION:Gorebridge Beacon
CATEGORIES:Food,Gorebridge Beacon,Gorebridge Community Development Trust
END:VEVENT
BEGIN:VEVENT
DTSTART;TZID=Europe/London:20240728T143000
DTEND;TZID=Europe/London:20240728T163000
DTSTAMP:20260424T210354
CREATED:20240605T124940Z
LAST-MODIFIED:20240605T124940Z
UID:11322-1722177000-1722184200@gorebridge.org.uk
SUMMARY:Community Gardening Drop-In Session
DESCRIPTION:Join our weekly community gardening sessions. Cultivate friendships\, learn new skills and be part of our sustainable community! All levels of experience welcome and no seed to sign up\, just pop in and get gardening! \nDrop-ins every Tuesday 6 – 8:30pm \nHot drinks available. \n*Important – drop-in sessions may be cancelled if the weather is rotten. Please contact the Beacon if you would like to confirm if a session is taking place or not. Times change during Winter months.
URL:https://gorebridge.org.uk/upcomingevents/community-gardening-drop-in-session-2/2024-07-28/
LOCATION:Gorebridge Beacon
CATEGORIES:Beacon,Garden,Gorebridge Community Development Trust
END:VEVENT
BEGIN:VEVENT
DTSTART;TZID=Europe/London:20240723T180000
DTEND;TZID=Europe/London:20240723T203000
DTSTAMP:20260424T210354
CREATED:20240605T124749Z
LAST-MODIFIED:20240605T124749Z
UID:11290-1721757600-1721766600@gorebridge.org.uk
SUMMARY:Community Gardening Drop-In Session
DESCRIPTION:Join our weekly community gardening sessions. Cultivate friendships\, learn new skills and be part of our sustainable community! All levels of experience welcome and no seed to sign up\, just pop in and get gardening! \nDrop-ins every Tuesday 6 – 8:30pm \nHot drinks available. \n*Important – drop-in sessions may be cancelled if the weather is rotten. Please contact the Beacon if you would like to confirm if a session is taking place or not. Times change during Winter months.
URL:https://gorebridge.org.uk/upcomingevents/community-gardening-drop-in-session/2024-07-23/
CATEGORIES:Events,Family Activities,Garden,Gorebridge Community Development Trust
END:VEVENT
BEGIN:VEVENT
DTSTART;TZID=Europe/London:20240723T150000
DTEND;TZID=Europe/London:20240723T170000
DTSTAMP:20260424T210354
CREATED:20240605T124327Z
LAST-MODIFIED:20240605T124327Z
UID:12685-1721746800-1721754000@gorebridge.org.uk
SUMMARY:Gorebridge Community Pantry
DESCRIPTION:The Gorebridge Community Pantry is open every Tuesday evening 3 – 5PM (until 31st March 2025) \nTo read more about the Pantry please click here.
URL:https://gorebridge.org.uk/upcomingevents/gorebridge-community-pantry-2/2024-07-23/
LOCATION:Gorebridge Beacon
CATEGORIES:Food,Gorebridge Beacon,Gorebridge Community Development Trust
END:VEVENT
BEGIN:VEVENT
DTSTART;TZID=Europe/London:20240721T143000
DTEND;TZID=Europe/London:20240721T163000
DTSTAMP:20260424T210354
CREATED:20240605T124940Z
LAST-MODIFIED:20240605T124940Z
UID:11321-1721572200-1721579400@gorebridge.org.uk
SUMMARY:Community Gardening Drop-In Session
DESCRIPTION:Join our weekly community gardening sessions. Cultivate friendships\, learn new skills and be part of our sustainable community! All levels of experience welcome and no seed to sign up\, just pop in and get gardening! \nDrop-ins every Tuesday 6 – 8:30pm \nHot drinks available. \n*Important – drop-in sessions may be cancelled if the weather is rotten. Please contact the Beacon if you would like to confirm if a session is taking place or not. Times change during Winter months.
URL:https://gorebridge.org.uk/upcomingevents/community-gardening-drop-in-session-2/2024-07-21/
LOCATION:Gorebridge Beacon
CATEGORIES:Beacon,Garden,Gorebridge Community Development Trust
END:VEVENT
BEGIN:VEVENT
DTSTART;TZID=Europe/London:20240716T180000
DTEND;TZID=Europe/London:20240716T203000
DTSTAMP:20260424T210354
CREATED:20240605T124749Z
LAST-MODIFIED:20240605T124749Z
UID:11289-1721152800-1721161800@gorebridge.org.uk
SUMMARY:Community Gardening Drop-In Session
DESCRIPTION:Join our weekly community gardening sessions. Cultivate friendships\, learn new skills and be part of our sustainable community! All levels of experience welcome and no seed to sign up\, just pop in and get gardening! \nDrop-ins every Tuesday 6 – 8:30pm \nHot drinks available. \n*Important – drop-in sessions may be cancelled if the weather is rotten. Please contact the Beacon if you would like to confirm if a session is taking place or not. Times change during Winter months.
URL:https://gorebridge.org.uk/upcomingevents/community-gardening-drop-in-session/2024-07-16/
CATEGORIES:Events,Family Activities,Garden,Gorebridge Community Development Trust
END:VEVENT
BEGIN:VEVENT
DTSTART;TZID=Europe/London:20240716T150000
DTEND;TZID=Europe/London:20240716T170000
DTSTAMP:20260424T210354
CREATED:20240605T124327Z
LAST-MODIFIED:20240605T124327Z
UID:12684-1721142000-1721149200@gorebridge.org.uk
SUMMARY:Gorebridge Community Pantry
DESCRIPTION:The Gorebridge Community Pantry is open every Tuesday evening 3 – 5PM (until 31st March 2025) \nTo read more about the Pantry please click here.
URL:https://gorebridge.org.uk/upcomingevents/gorebridge-community-pantry-2/2024-07-16/
LOCATION:Gorebridge Beacon
CATEGORIES:Food,Gorebridge Beacon,Gorebridge Community Development Trust
END:VEVENT
BEGIN:VEVENT
DTSTART;TZID=Europe/London:20240714T143000
DTEND;TZID=Europe/London:20240714T163000
DTSTAMP:20260424T210354
CREATED:20240605T124940Z
LAST-MODIFIED:20240605T124940Z
UID:11320-1720967400-1720974600@gorebridge.org.uk
SUMMARY:Community Gardening Drop-In Session
DESCRIPTION:Join our weekly community gardening sessions. Cultivate friendships\, learn new skills and be part of our sustainable community! All levels of experience welcome and no seed to sign up\, just pop in and get gardening! \nDrop-ins every Tuesday 6 – 8:30pm \nHot drinks available. \n*Important – drop-in sessions may be cancelled if the weather is rotten. Please contact the Beacon if you would like to confirm if a session is taking place or not. Times change during Winter months.
URL:https://gorebridge.org.uk/upcomingevents/community-gardening-drop-in-session-2/2024-07-14/
LOCATION:Gorebridge Beacon
CATEGORIES:Beacon,Garden,Gorebridge Community Development Trust
END:VEVENT
BEGIN:VEVENT
DTSTART;TZID=Europe/London:20240709T180000
DTEND;TZID=Europe/London:20240709T203000
DTSTAMP:20260424T210354
CREATED:20240605T124749Z
LAST-MODIFIED:20240605T124749Z
UID:11288-1720548000-1720557000@gorebridge.org.uk
SUMMARY:Community Gardening Drop-In Session
DESCRIPTION:Join our weekly community gardening sessions. Cultivate friendships\, learn new skills and be part of our sustainable community! All levels of experience welcome and no seed to sign up\, just pop in and get gardening! \nDrop-ins every Tuesday 6 – 8:30pm \nHot drinks available. \n*Important – drop-in sessions may be cancelled if the weather is rotten. Please contact the Beacon if you would like to confirm if a session is taking place or not. Times change during Winter months.
URL:https://gorebridge.org.uk/upcomingevents/community-gardening-drop-in-session/2024-07-09/
CATEGORIES:Events,Family Activities,Garden,Gorebridge Community Development Trust
END:VEVENT
BEGIN:VEVENT
DTSTART;TZID=Europe/London:20240709T150000
DTEND;TZID=Europe/London:20240709T170000
DTSTAMP:20260424T210354
CREATED:20240605T124327Z
LAST-MODIFIED:20240605T124327Z
UID:12683-1720537200-1720544400@gorebridge.org.uk
SUMMARY:Gorebridge Community Pantry
DESCRIPTION:The Gorebridge Community Pantry is open every Tuesday evening 3 – 5PM (until 31st March 2025) \nTo read more about the Pantry please click here.
URL:https://gorebridge.org.uk/upcomingevents/gorebridge-community-pantry-2/2024-07-09/
LOCATION:Gorebridge Beacon
CATEGORIES:Food,Gorebridge Beacon,Gorebridge Community Development Trust
END:VEVENT
BEGIN:VEVENT
DTSTART;TZID=Europe/London:20240707T143000
DTEND;TZID=Europe/London:20240707T163000
DTSTAMP:20260424T210354
CREATED:20240605T124940Z
LAST-MODIFIED:20240605T124940Z
UID:11319-1720362600-1720369800@gorebridge.org.uk
SUMMARY:Community Gardening Drop-In Session
DESCRIPTION:Join our weekly community gardening sessions. Cultivate friendships\, learn new skills and be part of our sustainable community! All levels of experience welcome and no seed to sign up\, just pop in and get gardening! \nDrop-ins every Tuesday 6 – 8:30pm \nHot drinks available. \n*Important – drop-in sessions may be cancelled if the weather is rotten. Please contact the Beacon if you would like to confirm if a session is taking place or not. Times change during Winter months.
URL:https://gorebridge.org.uk/upcomingevents/community-gardening-drop-in-session-2/2024-07-07/
LOCATION:Gorebridge Beacon
CATEGORIES:Beacon,Garden,Gorebridge Community Development Trust
END:VEVENT
BEGIN:VEVENT
DTSTART;TZID=Europe/London:20240702T180000
DTEND;TZID=Europe/London:20240702T203000
DTSTAMP:20260424T210354
CREATED:20240605T124749Z
LAST-MODIFIED:20240605T124749Z
UID:11287-1719943200-1719952200@gorebridge.org.uk
SUMMARY:Community Gardening Drop-In Session
DESCRIPTION:Join our weekly community gardening sessions. Cultivate friendships\, learn new skills and be part of our sustainable community! All levels of experience welcome and no seed to sign up\, just pop in and get gardening! \nDrop-ins every Tuesday 6 – 8:30pm \nHot drinks available. \n*Important – drop-in sessions may be cancelled if the weather is rotten. Please contact the Beacon if you would like to confirm if a session is taking place or not. Times change during Winter months.
URL:https://gorebridge.org.uk/upcomingevents/community-gardening-drop-in-session/2024-07-02/
CATEGORIES:Events,Family Activities,Garden,Gorebridge Community Development Trust
END:VEVENT
BEGIN:VEVENT
DTSTART;TZID=Europe/London:20240702T150000
DTEND;TZID=Europe/London:20240702T170000
DTSTAMP:20260424T210354
CREATED:20240605T124327Z
LAST-MODIFIED:20240605T124327Z
UID:12682-1719932400-1719939600@gorebridge.org.uk
SUMMARY:Gorebridge Community Pantry
DESCRIPTION:The Gorebridge Community Pantry is open every Tuesday evening 3 – 5PM (until 31st March 2025) \nTo read more about the Pantry please click here.
URL:https://gorebridge.org.uk/upcomingevents/gorebridge-community-pantry-2/2024-07-02/
LOCATION:Gorebridge Beacon
CATEGORIES:Food,Gorebridge Beacon,Gorebridge Community Development Trust
END:VEVENT
BEGIN:VEVENT
DTSTART;TZID=Europe/London:20240630T143000
DTEND;TZID=Europe/London:20240630T163000
DTSTAMP:20260424T210354
CREATED:20240605T124940Z
LAST-MODIFIED:20240605T124940Z
UID:11318-1719757800-1719765000@gorebridge.org.uk
SUMMARY:Community Gardening Drop-In Session
DESCRIPTION:Join our weekly community gardening sessions. Cultivate friendships\, learn new skills and be part of our sustainable community! All levels of experience welcome and no seed to sign up\, just pop in and get gardening! \nDrop-ins every Tuesday 6 – 8:30pm \nHot drinks available. \n*Important – drop-in sessions may be cancelled if the weather is rotten. Please contact the Beacon if you would like to confirm if a session is taking place or not. Times change during Winter months.
URL:https://gorebridge.org.uk/upcomingevents/community-gardening-drop-in-session-2/2024-06-30/
LOCATION:Gorebridge Beacon
CATEGORIES:Beacon,Garden,Gorebridge Community Development Trust
END:VEVENT
BEGIN:VEVENT
DTSTART;TZID=Europe/London:20240625T180000
DTEND;TZID=Europe/London:20240625T203000
DTSTAMP:20260424T210354
CREATED:20240605T124749Z
LAST-MODIFIED:20240605T124749Z
UID:11286-1719338400-1719347400@gorebridge.org.uk
SUMMARY:Community Gardening Drop-In Session
DESCRIPTION:Join our weekly community gardening sessions. Cultivate friendships\, learn new skills and be part of our sustainable community! All levels of experience welcome and no seed to sign up\, just pop in and get gardening! \nDrop-ins every Tuesday 6 – 8:30pm \nHot drinks available. \n*Important – drop-in sessions may be cancelled if the weather is rotten. Please contact the Beacon if you would like to confirm if a session is taking place or not. Times change during Winter months.
URL:https://gorebridge.org.uk/upcomingevents/community-gardening-drop-in-session/2024-06-25/
CATEGORIES:Events,Family Activities,Garden,Gorebridge Community Development Trust
END:VEVENT
BEGIN:VEVENT
DTSTART;TZID=Europe/London:20240625T150000
DTEND;TZID=Europe/London:20240625T170000
DTSTAMP:20260424T210354
CREATED:20240605T124327Z
LAST-MODIFIED:20240605T124327Z
UID:12681-1719327600-1719334800@gorebridge.org.uk
SUMMARY:Gorebridge Community Pantry
DESCRIPTION:The Gorebridge Community Pantry is open every Tuesday evening 3 – 5PM (until 31st March 2025) \nTo read more about the Pantry please click here.
URL:https://gorebridge.org.uk/upcomingevents/gorebridge-community-pantry-2/2024-06-25/
LOCATION:Gorebridge Beacon
CATEGORIES:Food,Gorebridge Beacon,Gorebridge Community Development Trust
END:VEVENT
BEGIN:VEVENT
DTSTART;TZID=Europe/London:20240623T143000
DTEND;TZID=Europe/London:20240623T163000
DTSTAMP:20260424T210354
CREATED:20240605T124940Z
LAST-MODIFIED:20240605T124940Z
UID:11317-1719153000-1719160200@gorebridge.org.uk
SUMMARY:Community Gardening Drop-In Session
DESCRIPTION:Join our weekly community gardening sessions. Cultivate friendships\, learn new skills and be part of our sustainable community! All levels of experience welcome and no seed to sign up\, just pop in and get gardening! \nDrop-ins every Tuesday 6 – 8:30pm \nHot drinks available. \n*Important – drop-in sessions may be cancelled if the weather is rotten. Please contact the Beacon if you would like to confirm if a session is taking place or not. Times change during Winter months.
URL:https://gorebridge.org.uk/upcomingevents/community-gardening-drop-in-session-2/2024-06-23/
LOCATION:Gorebridge Beacon
CATEGORIES:Beacon,Garden,Gorebridge Community Development Trust
END:VEVENT
BEGIN:VEVENT
DTSTART;TZID=Europe/London:20240618T180000
DTEND;TZID=Europe/London:20240618T203000
DTSTAMP:20260424T210354
CREATED:20240605T124749Z
LAST-MODIFIED:20240605T124749Z
UID:11285-1718733600-1718742600@gorebridge.org.uk
SUMMARY:Community Gardening Drop-In Session
DESCRIPTION:Join our weekly community gardening sessions. Cultivate friendships\, learn new skills and be part of our sustainable community! All levels of experience welcome and no seed to sign up\, just pop in and get gardening! \nDrop-ins every Tuesday 6 – 8:30pm \nHot drinks available. \n*Important – drop-in sessions may be cancelled if the weather is rotten. Please contact the Beacon if you would like to confirm if a session is taking place or not. Times change during Winter months.
URL:https://gorebridge.org.uk/upcomingevents/community-gardening-drop-in-session/2024-06-18/
CATEGORIES:Events,Family Activities,Garden,Gorebridge Community Development Trust
END:VEVENT
BEGIN:VEVENT
DTSTART;TZID=Europe/London:20240618T150000
DTEND;TZID=Europe/London:20240618T170000
DTSTAMP:20260424T210354
CREATED:20240605T124327Z
LAST-MODIFIED:20240605T124327Z
UID:12680-1718722800-1718730000@gorebridge.org.uk
SUMMARY:Gorebridge Community Pantry
DESCRIPTION:The Gorebridge Community Pantry is open every Tuesday evening 3 – 5PM (until 31st March 2025) \nTo read more about the Pantry please click here.
URL:https://gorebridge.org.uk/upcomingevents/gorebridge-community-pantry-2/2024-06-18/
LOCATION:Gorebridge Beacon
CATEGORIES:Food,Gorebridge Beacon,Gorebridge Community Development Trust
END:VEVENT
BEGIN:VEVENT
DTSTART;TZID=Europe/London:20240616T143000
DTEND;TZID=Europe/London:20240616T163000
DTSTAMP:20260424T210354
CREATED:20240605T124940Z
LAST-MODIFIED:20240605T124940Z
UID:11315-1718548200-1718555400@gorebridge.org.uk
SUMMARY:Community Gardening Drop-In Session
DESCRIPTION:Join our weekly community gardening sessions. Cultivate friendships\, learn new skills and be part of our sustainable community! All levels of experience welcome and no seed to sign up\, just pop in and get gardening! \nDrop-ins every Tuesday 6 – 8:30pm \nHot drinks available. \n*Important – drop-in sessions may be cancelled if the weather is rotten. Please contact the Beacon if you would like to confirm if a session is taking place or not. Times change during Winter months.
URL:https://gorebridge.org.uk/upcomingevents/community-gardening-drop-in-session-2/2024-06-16/
LOCATION:Gorebridge Beacon
CATEGORIES:Beacon,Garden,Gorebridge Community Development Trust
END:VEVENT
BEGIN:VEVENT
DTSTART;TZID=Europe/London:20240611T180000
DTEND;TZID=Europe/London:20240611T203000
DTSTAMP:20260424T210354
CREATED:20240605T124749Z
LAST-MODIFIED:20240605T124749Z
UID:11283-1718128800-1718137800@gorebridge.org.uk
SUMMARY:Community Gardening Drop-In Session
DESCRIPTION:Join our weekly community gardening sessions. Cultivate friendships\, learn new skills and be part of our sustainable community! All levels of experience welcome and no seed to sign up\, just pop in and get gardening! \nDrop-ins every Tuesday 6 – 8:30pm \nHot drinks available. \n*Important – drop-in sessions may be cancelled if the weather is rotten. Please contact the Beacon if you would like to confirm if a session is taking place or not. Times change during Winter months.
URL:https://gorebridge.org.uk/upcomingevents/community-gardening-drop-in-session/2024-06-11/
CATEGORIES:Events,Family Activities,Garden,Gorebridge Community Development Trust
END:VEVENT
BEGIN:VEVENT
DTSTART;TZID=Europe/London:20240611T150000
DTEND;TZID=Europe/London:20240611T170000
DTSTAMP:20260424T210354
CREATED:20240605T124327Z
LAST-MODIFIED:20240605T124327Z
UID:12679-1718118000-1718125200@gorebridge.org.uk
SUMMARY:Gorebridge Community Pantry
DESCRIPTION:The Gorebridge Community Pantry is open every Tuesday evening 3 – 5PM (until 31st March 2025) \nTo read more about the Pantry please click here.
URL:https://gorebridge.org.uk/upcomingevents/gorebridge-community-pantry-2/2024-06-11/
LOCATION:Gorebridge Beacon
CATEGORIES:Food,Gorebridge Beacon,Gorebridge Community Development Trust
END:VEVENT
BEGIN:VEVENT
DTSTART;TZID=Europe/London:20240609T143000
DTEND;TZID=Europe/London:20240609T163000
DTSTAMP:20260424T210354
CREATED:20240605T124940Z
LAST-MODIFIED:20240605T124940Z
UID:11314-1717943400-1717950600@gorebridge.org.uk
SUMMARY:Community Gardening Drop-In Session
DESCRIPTION:Join our weekly community gardening sessions. Cultivate friendships\, learn new skills and be part of our sustainable community! All levels of experience welcome and no seed to sign up\, just pop in and get gardening! \nDrop-ins every Tuesday 6 – 8:30pm \nHot drinks available. \n*Important – drop-in sessions may be cancelled if the weather is rotten. Please contact the Beacon if you would like to confirm if a session is taking place or not. Times change during Winter months.
URL:https://gorebridge.org.uk/upcomingevents/community-gardening-drop-in-session-2/2024-06-09/
LOCATION:Gorebridge Beacon
CATEGORIES:Beacon,Garden,Gorebridge Community Development Trust
END:VEVENT
BEGIN:VEVENT
DTSTART;TZID=Europe/London:20240607T143000
DTEND;TZID=Europe/London:20240607T163000
DTSTAMP:20260424T210354
CREATED:20240603T125750Z
LAST-MODIFIED:20240604T104133Z
UID:10940-1717770600-1717777800@gorebridge.org.uk
SUMMARY:Swiftie Party
DESCRIPTION:We asked. \nYou answered. \nJoin us for all magical Taylor Swift-themed party \nWhen? Friday 7th June 2.30 – 4.30PM \nWhere? Gorebridge Beacon \nWho? Perfect 5 – 12 years (primary) \nHow much? £5 per child (but we’ve popped in a donate)\, parents/carers must remain (don’t worry\, cafe will be open\, and you can use the garden) \nWhat if it sells out? We might (read might) run another\, no date confirmed. \nThis event will be fun-filled and be packed with music\, dancing and Swiftie themed activities. \nCome and shake it off with us! \n 
URL:https://gorebridge.org.uk/upcomingevents/swiftie-party/
LOCATION:Gorebridge Beacon
CATEGORIES:Beacon,Gorebridge Beacon,Gorebridge Community Development Trust
ATTACH;FMTTYPE=image/png:https://gorebridge.org.uk/wp-content/uploads/2024/06/TS.png
END:VEVENT
BEGIN:VEVENT
DTSTART;TZID=Europe/London:20240604T180000
DTEND;TZID=Europe/London:20240604T203000
DTSTAMP:20260424T210354
CREATED:20240605T124749Z
LAST-MODIFIED:20240605T124749Z
UID:11282-1717524000-1717533000@gorebridge.org.uk
SUMMARY:Community Gardening Drop-In Session
DESCRIPTION:Join our weekly community gardening sessions. Cultivate friendships\, learn new skills and be part of our sustainable community! All levels of experience welcome and no seed to sign up\, just pop in and get gardening! \nDrop-ins every Tuesday 6 – 8:30pm \nHot drinks available. \n*Important – drop-in sessions may be cancelled if the weather is rotten. Please contact the Beacon if you would like to confirm if a session is taking place or not. Times change during Winter months.
URL:https://gorebridge.org.uk/upcomingevents/community-gardening-drop-in-session/2024-06-04/
CATEGORIES:Events,Family Activities,Garden,Gorebridge Community Development Trust
END:VEVENT
BEGIN:VEVENT
DTSTART;TZID=Europe/London:20240604T150000
DTEND;TZID=Europe/London:20240604T170000
DTSTAMP:20260424T210354
CREATED:20240605T124327Z
LAST-MODIFIED:20240605T124327Z
UID:12678-1717513200-1717520400@gorebridge.org.uk
SUMMARY:Gorebridge Community Pantry
DESCRIPTION:The Gorebridge Community Pantry is open every Tuesday evening 3 – 5PM (until 31st March 2025) \nTo read more about the Pantry please click here.
URL:https://gorebridge.org.uk/upcomingevents/gorebridge-community-pantry-2/2024-06-04/
LOCATION:Gorebridge Beacon
CATEGORIES:Food,Gorebridge Beacon,Gorebridge Community Development Trust
END:VEVENT
BEGIN:VEVENT
DTSTART;TZID=Europe/London:20240602T143000
DTEND;TZID=Europe/London:20240602T163000
DTSTAMP:20260424T210354
CREATED:20240605T124940Z
LAST-MODIFIED:20240605T124940Z
UID:11313-1717338600-1717345800@gorebridge.org.uk
SUMMARY:Community Gardening Drop-In Session
DESCRIPTION:Join our weekly community gardening sessions. Cultivate friendships\, learn new skills and be part of our sustainable community! All levels of experience welcome and no seed to sign up\, just pop in and get gardening! \nDrop-ins every Tuesday 6 – 8:30pm \nHot drinks available. \n*Important – drop-in sessions may be cancelled if the weather is rotten. Please contact the Beacon if you would like to confirm if a session is taking place or not. Times change during Winter months.
URL:https://gorebridge.org.uk/upcomingevents/community-gardening-drop-in-session-2/2024-06-02/
LOCATION:Gorebridge Beacon
CATEGORIES:Beacon,Garden,Gorebridge Community Development Trust
END:VEVENT
END:VCALENDAR