BEGIN:VCALENDAR
VERSION:2.0
PRODID:-//Gorebridge Community Development Trust - ECPv6.15.20//NONSGML v1.0//EN
CALSCALE:GREGORIAN
METHOD:PUBLISH
X-WR-CALNAME:Gorebridge Community Development Trust
X-ORIGINAL-URL:https://gorebridge.org.uk
X-WR-CALDESC:Events for Gorebridge Community Development Trust
REFRESH-INTERVAL;VALUE=DURATION:PT1H
X-Robots-Tag:noindex
X-PUBLISHED-TTL:PT1H
BEGIN:VTIMEZONE
TZID:Europe/London
BEGIN:DAYLIGHT
TZOFFSETFROM:+0000
TZOFFSETTO:+0100
TZNAME:BST
DTSTART:20230326T010000
END:DAYLIGHT
BEGIN:STANDARD
TZOFFSETFROM:+0100
TZOFFSETTO:+0000
TZNAME:GMT
DTSTART:20231029T010000
END:STANDARD
BEGIN:DAYLIGHT
TZOFFSETFROM:+0000
TZOFFSETTO:+0100
TZNAME:BST
DTSTART:20240331T010000
END:DAYLIGHT
BEGIN:STANDARD
TZOFFSETFROM:+0100
TZOFFSETTO:+0000
TZNAME:GMT
DTSTART:20241027T010000
END:STANDARD
BEGIN:DAYLIGHT
TZOFFSETFROM:+0000
TZOFFSETTO:+0100
TZNAME:BST
DTSTART:20250330T010000
END:DAYLIGHT
BEGIN:STANDARD
TZOFFSETFROM:+0100
TZOFFSETTO:+0000
TZNAME:GMT
DTSTART:20251026T010000
END:STANDARD
BEGIN:DAYLIGHT
TZOFFSETFROM:+0000
TZOFFSETTO:+0100
TZNAME:BST
DTSTART:20260329T010000
END:DAYLIGHT
BEGIN:STANDARD
TZOFFSETFROM:+0100
TZOFFSETTO:+0000
TZNAME:GMT
DTSTART:20261025T010000
END:STANDARD
END:VTIMEZONE
BEGIN:VEVENT
DTSTART;TZID=Europe/London:20251006T100000
DTEND;TZID=Europe/London:20251006T120000
DTSTAMP:20260424T082417
CREATED:20250828T114710Z
LAST-MODIFIED:20250828T114710Z
UID:13665-1759744800-1759752000@gorebridge.org.uk
SUMMARY:Monday Coffee Mornings at the Beacon
DESCRIPTION:Every Monday 10 – 12 the Midlothian Council’s Young Community Access Team (YCATS) run a Coffee Morning at the Gorebridge Beacon. Six young adults with are developing new skills\, becoming more independent and enjoying feeling part of the community thanks to the Coffee Morning\, it also allows the Beacon to be open for great coffee and cake for those who can’t wait until we are full service Tuesday to Saturday. \nFor the remainder of 2025 the YCATS will run 4 fundraising coffee mornings. Please follow us on Facebook for more information.
URL:https://gorebridge.org.uk/upcomingevents/monday-coffee-mornings-at-the-beacon/2025-10-06/
CATEGORIES:Events,Gorebridge Beacon,Gorebridge Community Development Trust
ATTACH;FMTTYPE=image/png:https://gorebridge.org.uk/wp-content/uploads/2025/08/Coffee-Morning.png
END:VEVENT
BEGIN:VEVENT
DTSTART;TZID=Europe/London:20251004T123000
DTEND;TZID=Europe/London:20251004T140000
DTSTAMP:20260424T082417
CREATED:20250828T142317Z
LAST-MODIFIED:20251020T173213Z
UID:13690-1759581000-1759586400@gorebridge.org.uk
SUMMARY:Breather Cafe (for Unpaid Carers)
DESCRIPTION:Are you an unpaid carer?  \nAn unpaid carer is someone who supports a family member\, partner\, relative or friend\, of any age who needs help to manage a long-term condition\, disability\, physical or mental health condition\, ‘if you spend time caring for someone who relies on your help\, you’re an unpaid carer.’ \nThe Breather Cafe is not a service\, we wanted to create a space where you can come along\, out from your caring role\, chat and once a month (to be arranged/decided) maybe take part in an activity. You don’t need to attend every week\, it’s there for you\, should you want it. \nFree.
URL:https://gorebridge.org.uk/upcomingevents/breather-cafe/2025-10-04/
CATEGORIES:Events,Gorebridge Beacon,Gorebridge Community Development Trust
ATTACH;FMTTYPE=image/png:https://gorebridge.org.uk/wp-content/uploads/2025/08/Breather-Cafe.png
END:VEVENT
BEGIN:VEVENT
DTSTART;TZID=Europe/London:20250929T100000
DTEND;TZID=Europe/London:20250929T120000
DTSTAMP:20260424T082417
CREATED:20250828T114710Z
LAST-MODIFIED:20250828T114710Z
UID:13664-1759140000-1759147200@gorebridge.org.uk
SUMMARY:Monday Coffee Mornings at the Beacon
DESCRIPTION:Every Monday 10 – 12 the Midlothian Council’s Young Community Access Team (YCATS) run a Coffee Morning at the Gorebridge Beacon. Six young adults with are developing new skills\, becoming more independent and enjoying feeling part of the community thanks to the Coffee Morning\, it also allows the Beacon to be open for great coffee and cake for those who can’t wait until we are full service Tuesday to Saturday. \nFor the remainder of 2025 the YCATS will run 4 fundraising coffee mornings. Please follow us on Facebook for more information.
URL:https://gorebridge.org.uk/upcomingevents/monday-coffee-mornings-at-the-beacon/2025-09-29/
CATEGORIES:Events,Gorebridge Beacon,Gorebridge Community Development Trust
ATTACH;FMTTYPE=image/png:https://gorebridge.org.uk/wp-content/uploads/2025/08/Coffee-Morning.png
END:VEVENT
BEGIN:VEVENT
DTSTART;TZID=Europe/London:20250927T123000
DTEND;TZID=Europe/London:20250927T140000
DTSTAMP:20260424T082417
CREATED:20250828T142317Z
LAST-MODIFIED:20251020T173210Z
UID:13688-1758976200-1758981600@gorebridge.org.uk
SUMMARY:Breather Cafe (for Unpaid Carers)
DESCRIPTION:Are you an unpaid carer?  \nAn unpaid carer is someone who supports a family member\, partner\, relative or friend\, of any age who needs help to manage a long-term condition\, disability\, physical or mental health condition\, ‘if you spend time caring for someone who relies on your help\, you’re an unpaid carer.’ \nThe Breather Cafe is not a service\, we wanted to create a space where you can come along\, out from your caring role\, chat and once a month (to be arranged/decided) maybe take part in an activity. You don’t need to attend every week\, it’s there for you\, should you want it. \nFree.
URL:https://gorebridge.org.uk/upcomingevents/breather-cafe/2025-09-27/
CATEGORIES:Events,Gorebridge Beacon,Gorebridge Community Development Trust
ATTACH;FMTTYPE=image/png:https://gorebridge.org.uk/wp-content/uploads/2025/08/Breather-Cafe.png
END:VEVENT
BEGIN:VEVENT
DTSTART;TZID=Europe/London:20250922T100000
DTEND;TZID=Europe/London:20250922T120000
DTSTAMP:20260424T082417
CREATED:20250828T114710Z
LAST-MODIFIED:20250828T114710Z
UID:13663-1758535200-1758542400@gorebridge.org.uk
SUMMARY:Monday Coffee Mornings at the Beacon
DESCRIPTION:Every Monday 10 – 12 the Midlothian Council’s Young Community Access Team (YCATS) run a Coffee Morning at the Gorebridge Beacon. Six young adults with are developing new skills\, becoming more independent and enjoying feeling part of the community thanks to the Coffee Morning\, it also allows the Beacon to be open for great coffee and cake for those who can’t wait until we are full service Tuesday to Saturday. \nFor the remainder of 2025 the YCATS will run 4 fundraising coffee mornings. Please follow us on Facebook for more information.
URL:https://gorebridge.org.uk/upcomingevents/monday-coffee-mornings-at-the-beacon/2025-09-22/
CATEGORIES:Events,Gorebridge Beacon,Gorebridge Community Development Trust
ATTACH;FMTTYPE=image/png:https://gorebridge.org.uk/wp-content/uploads/2025/08/Coffee-Morning.png
END:VEVENT
BEGIN:VEVENT
DTSTART;TZID=Europe/London:20250920T123000
DTEND;TZID=Europe/London:20250920T140000
DTSTAMP:20260424T082417
CREATED:20250828T142317Z
LAST-MODIFIED:20251020T173207Z
UID:13686-1758371400-1758376800@gorebridge.org.uk
SUMMARY:Breather Cafe (for Unpaid Carers)
DESCRIPTION:Are you an unpaid carer?  \nAn unpaid carer is someone who supports a family member\, partner\, relative or friend\, of any age who needs help to manage a long-term condition\, disability\, physical or mental health condition\, ‘if you spend time caring for someone who relies on your help\, you’re an unpaid carer.’ \nThe Breather Cafe is not a service\, we wanted to create a space where you can come along\, out from your caring role\, chat and once a month (to be arranged/decided) maybe take part in an activity. You don’t need to attend every week\, it’s there for you\, should you want it. \nFree.
URL:https://gorebridge.org.uk/upcomingevents/breather-cafe/2025-09-20/
CATEGORIES:Events,Gorebridge Beacon,Gorebridge Community Development Trust
ATTACH;FMTTYPE=image/png:https://gorebridge.org.uk/wp-content/uploads/2025/08/Breather-Cafe.png
END:VEVENT
BEGIN:VEVENT
DTSTART;TZID=Europe/London:20250915T100000
DTEND;TZID=Europe/London:20250915T120000
DTSTAMP:20260424T082417
CREATED:20250828T114710Z
LAST-MODIFIED:20250828T114710Z
UID:13662-1757930400-1757937600@gorebridge.org.uk
SUMMARY:Monday Coffee Mornings at the Beacon
DESCRIPTION:Every Monday 10 – 12 the Midlothian Council’s Young Community Access Team (YCATS) run a Coffee Morning at the Gorebridge Beacon. Six young adults with are developing new skills\, becoming more independent and enjoying feeling part of the community thanks to the Coffee Morning\, it also allows the Beacon to be open for great coffee and cake for those who can’t wait until we are full service Tuesday to Saturday. \nFor the remainder of 2025 the YCATS will run 4 fundraising coffee mornings. Please follow us on Facebook for more information.
URL:https://gorebridge.org.uk/upcomingevents/monday-coffee-mornings-at-the-beacon/2025-09-15/
CATEGORIES:Events,Gorebridge Beacon,Gorebridge Community Development Trust
ATTACH;FMTTYPE=image/png:https://gorebridge.org.uk/wp-content/uploads/2025/08/Coffee-Morning.png
END:VEVENT
BEGIN:VEVENT
DTSTART;TZID=Europe/London:20250913T123000
DTEND;TZID=Europe/London:20250913T140000
DTSTAMP:20260424T082417
CREATED:20250828T142317Z
LAST-MODIFIED:20251020T173204Z
UID:13684-1757766600-1757772000@gorebridge.org.uk
SUMMARY:Breather Cafe (for Unpaid Carers)
DESCRIPTION:Are you an unpaid carer?  \nAn unpaid carer is someone who supports a family member\, partner\, relative or friend\, of any age who needs help to manage a long-term condition\, disability\, physical or mental health condition\, ‘if you spend time caring for someone who relies on your help\, you’re an unpaid carer.’ \nThe Breather Cafe is not a service\, we wanted to create a space where you can come along\, out from your caring role\, chat and once a month (to be arranged/decided) maybe take part in an activity. You don’t need to attend every week\, it’s there for you\, should you want it. \nFree.
URL:https://gorebridge.org.uk/upcomingevents/breather-cafe/2025-09-13/
CATEGORIES:Events,Gorebridge Beacon,Gorebridge Community Development Trust
ATTACH;FMTTYPE=image/png:https://gorebridge.org.uk/wp-content/uploads/2025/08/Breather-Cafe.png
END:VEVENT
BEGIN:VEVENT
DTSTART;TZID=Europe/London:20250908T100000
DTEND;TZID=Europe/London:20250908T120000
DTSTAMP:20260424T082417
CREATED:20250828T114710Z
LAST-MODIFIED:20250828T114710Z
UID:13661-1757325600-1757332800@gorebridge.org.uk
SUMMARY:Monday Coffee Mornings at the Beacon
DESCRIPTION:Every Monday 10 – 12 the Midlothian Council’s Young Community Access Team (YCATS) run a Coffee Morning at the Gorebridge Beacon. Six young adults with are developing new skills\, becoming more independent and enjoying feeling part of the community thanks to the Coffee Morning\, it also allows the Beacon to be open for great coffee and cake for those who can’t wait until we are full service Tuesday to Saturday. \nFor the remainder of 2025 the YCATS will run 4 fundraising coffee mornings. Please follow us on Facebook for more information.
URL:https://gorebridge.org.uk/upcomingevents/monday-coffee-mornings-at-the-beacon/2025-09-08/
CATEGORIES:Events,Gorebridge Beacon,Gorebridge Community Development Trust
ATTACH;FMTTYPE=image/png:https://gorebridge.org.uk/wp-content/uploads/2025/08/Coffee-Morning.png
END:VEVENT
BEGIN:VEVENT
DTSTART;TZID=Europe/London:20250906T123000
DTEND;TZID=Europe/London:20250906T140000
DTSTAMP:20260424T082417
CREATED:20250828T142317Z
LAST-MODIFIED:20251020T173201Z
UID:13682-1757161800-1757167200@gorebridge.org.uk
SUMMARY:Breather Cafe (for Unpaid Carers)
DESCRIPTION:Are you an unpaid carer?  \nAn unpaid carer is someone who supports a family member\, partner\, relative or friend\, of any age who needs help to manage a long-term condition\, disability\, physical or mental health condition\, ‘if you spend time caring for someone who relies on your help\, you’re an unpaid carer.’ \nThe Breather Cafe is not a service\, we wanted to create a space where you can come along\, out from your caring role\, chat and once a month (to be arranged/decided) maybe take part in an activity. You don’t need to attend every week\, it’s there for you\, should you want it. \nFree.
URL:https://gorebridge.org.uk/upcomingevents/breather-cafe/2025-09-06/
CATEGORIES:Events,Gorebridge Beacon,Gorebridge Community Development Trust
ATTACH;FMTTYPE=image/png:https://gorebridge.org.uk/wp-content/uploads/2025/08/Breather-Cafe.png
END:VEVENT
BEGIN:VEVENT
DTSTART;TZID=Europe/London:20250901T100000
DTEND;TZID=Europe/London:20250901T120000
DTSTAMP:20260424T082417
CREATED:20250828T114710Z
LAST-MODIFIED:20250828T114710Z
UID:13659-1756720800-1756728000@gorebridge.org.uk
SUMMARY:Monday Coffee Mornings at the Beacon
DESCRIPTION:Every Monday 10 – 12 the Midlothian Council’s Young Community Access Team (YCATS) run a Coffee Morning at the Gorebridge Beacon. Six young adults with are developing new skills\, becoming more independent and enjoying feeling part of the community thanks to the Coffee Morning\, it also allows the Beacon to be open for great coffee and cake for those who can’t wait until we are full service Tuesday to Saturday. \nFor the remainder of 2025 the YCATS will run 4 fundraising coffee mornings. Please follow us on Facebook for more information.
URL:https://gorebridge.org.uk/upcomingevents/monday-coffee-mornings-at-the-beacon/2025-09-01/
CATEGORIES:Events,Gorebridge Beacon,Gorebridge Community Development Trust
ATTACH;FMTTYPE=image/png:https://gorebridge.org.uk/wp-content/uploads/2025/08/Coffee-Morning.png
END:VEVENT
BEGIN:VEVENT
DTSTART;TZID=Europe/London:20250830T123000
DTEND;TZID=Europe/London:20250830T140000
DTSTAMP:20260424T082417
CREATED:20250828T142317Z
LAST-MODIFIED:20251020T173130Z
UID:13678-1756557000-1756562400@gorebridge.org.uk
SUMMARY:Breather Cafe (for Unpaid Carers)
DESCRIPTION:Are you an unpaid carer?  \nAn unpaid carer is someone who supports a family member\, partner\, relative or friend\, of any age who needs help to manage a long-term condition\, disability\, physical or mental health condition\, ‘if you spend time caring for someone who relies on your help\, you’re an unpaid carer.’ \nThe Breather Cafe is not a service\, we wanted to create a space where you can come along\, out from your caring role\, chat and once a month (to be arranged/decided) maybe take part in an activity. You don’t need to attend every week\, it’s there for you\, should you want it. \nFree.
URL:https://gorebridge.org.uk/upcomingevents/breather-cafe/2025-08-30/
CATEGORIES:Events,Gorebridge Beacon,Gorebridge Community Development Trust
ATTACH;FMTTYPE=image/png:https://gorebridge.org.uk/wp-content/uploads/2025/08/Breather-Cafe.png
END:VEVENT
BEGIN:VEVENT
DTSTART;TZID=Europe/London:20250325T150000
DTEND;TZID=Europe/London:20250325T170000
DTSTAMP:20260424T082417
CREATED:20240605T124327Z
LAST-MODIFIED:20240605T124327Z
UID:12720-1742914800-1742922000@gorebridge.org.uk
SUMMARY:Gorebridge Community Pantry
DESCRIPTION:The Gorebridge Community Pantry is open every Tuesday evening 3 – 5PM (until 31st March 2025) \nTo read more about the Pantry please click here.
URL:https://gorebridge.org.uk/upcomingevents/gorebridge-community-pantry-2/2025-03-25/
LOCATION:Gorebridge Beacon
CATEGORIES:Food,Gorebridge Beacon,Gorebridge Community Development Trust
END:VEVENT
BEGIN:VEVENT
DTSTART;TZID=Europe/London:20250318T150000
DTEND;TZID=Europe/London:20250318T170000
DTSTAMP:20260424T082417
CREATED:20240605T124327Z
LAST-MODIFIED:20240605T124327Z
UID:12719-1742310000-1742317200@gorebridge.org.uk
SUMMARY:Gorebridge Community Pantry
DESCRIPTION:The Gorebridge Community Pantry is open every Tuesday evening 3 – 5PM (until 31st March 2025) \nTo read more about the Pantry please click here.
URL:https://gorebridge.org.uk/upcomingevents/gorebridge-community-pantry-2/2025-03-18/
LOCATION:Gorebridge Beacon
CATEGORIES:Food,Gorebridge Beacon,Gorebridge Community Development Trust
END:VEVENT
BEGIN:VEVENT
DTSTART;TZID=Europe/London:20250311T150000
DTEND;TZID=Europe/London:20250311T170000
DTSTAMP:20260424T082417
CREATED:20240605T124327Z
LAST-MODIFIED:20240605T124327Z
UID:12718-1741705200-1741712400@gorebridge.org.uk
SUMMARY:Gorebridge Community Pantry
DESCRIPTION:The Gorebridge Community Pantry is open every Tuesday evening 3 – 5PM (until 31st March 2025) \nTo read more about the Pantry please click here.
URL:https://gorebridge.org.uk/upcomingevents/gorebridge-community-pantry-2/2025-03-11/
LOCATION:Gorebridge Beacon
CATEGORIES:Food,Gorebridge Beacon,Gorebridge Community Development Trust
END:VEVENT
BEGIN:VEVENT
DTSTART;TZID=Europe/London:20250304T150000
DTEND;TZID=Europe/London:20250304T170000
DTSTAMP:20260424T082417
CREATED:20240605T124327Z
LAST-MODIFIED:20240605T124327Z
UID:12717-1741100400-1741107600@gorebridge.org.uk
SUMMARY:Gorebridge Community Pantry
DESCRIPTION:The Gorebridge Community Pantry is open every Tuesday evening 3 – 5PM (until 31st March 2025) \nTo read more about the Pantry please click here.
URL:https://gorebridge.org.uk/upcomingevents/gorebridge-community-pantry-2/2025-03-04/
LOCATION:Gorebridge Beacon
CATEGORIES:Food,Gorebridge Beacon,Gorebridge Community Development Trust
END:VEVENT
BEGIN:VEVENT
DTSTART;TZID=Europe/London:20250225T150000
DTEND;TZID=Europe/London:20250225T170000
DTSTAMP:20260424T082417
CREATED:20240605T124327Z
LAST-MODIFIED:20240605T124327Z
UID:12716-1740495600-1740502800@gorebridge.org.uk
SUMMARY:Gorebridge Community Pantry
DESCRIPTION:The Gorebridge Community Pantry is open every Tuesday evening 3 – 5PM (until 31st March 2025) \nTo read more about the Pantry please click here.
URL:https://gorebridge.org.uk/upcomingevents/gorebridge-community-pantry-2/2025-02-25/
LOCATION:Gorebridge Beacon
CATEGORIES:Food,Gorebridge Beacon,Gorebridge Community Development Trust
END:VEVENT
BEGIN:VEVENT
DTSTART;TZID=Europe/London:20250218T150000
DTEND;TZID=Europe/London:20250218T170000
DTSTAMP:20260424T082417
CREATED:20240605T124327Z
LAST-MODIFIED:20240605T124327Z
UID:12715-1739890800-1739898000@gorebridge.org.uk
SUMMARY:Gorebridge Community Pantry
DESCRIPTION:The Gorebridge Community Pantry is open every Tuesday evening 3 – 5PM (until 31st March 2025) \nTo read more about the Pantry please click here.
URL:https://gorebridge.org.uk/upcomingevents/gorebridge-community-pantry-2/2025-02-18/
LOCATION:Gorebridge Beacon
CATEGORIES:Food,Gorebridge Beacon,Gorebridge Community Development Trust
END:VEVENT
BEGIN:VEVENT
DTSTART;TZID=Europe/London:20250211T150000
DTEND;TZID=Europe/London:20250211T170000
DTSTAMP:20260424T082417
CREATED:20240605T124327Z
LAST-MODIFIED:20240605T124327Z
UID:12714-1739286000-1739293200@gorebridge.org.uk
SUMMARY:Gorebridge Community Pantry
DESCRIPTION:The Gorebridge Community Pantry is open every Tuesday evening 3 – 5PM (until 31st March 2025) \nTo read more about the Pantry please click here.
URL:https://gorebridge.org.uk/upcomingevents/gorebridge-community-pantry-2/2025-02-11/
LOCATION:Gorebridge Beacon
CATEGORIES:Food,Gorebridge Beacon,Gorebridge Community Development Trust
END:VEVENT
BEGIN:VEVENT
DTSTART;TZID=Europe/London:20250204T150000
DTEND;TZID=Europe/London:20250204T170000
DTSTAMP:20260424T082417
CREATED:20240605T124327Z
LAST-MODIFIED:20240605T124327Z
UID:12713-1738681200-1738688400@gorebridge.org.uk
SUMMARY:Gorebridge Community Pantry
DESCRIPTION:The Gorebridge Community Pantry is open every Tuesday evening 3 – 5PM (until 31st March 2025) \nTo read more about the Pantry please click here.
URL:https://gorebridge.org.uk/upcomingevents/gorebridge-community-pantry-2/2025-02-04/
LOCATION:Gorebridge Beacon
CATEGORIES:Food,Gorebridge Beacon,Gorebridge Community Development Trust
END:VEVENT
BEGIN:VEVENT
DTSTART;TZID=Europe/London:20250128T150000
DTEND;TZID=Europe/London:20250128T170000
DTSTAMP:20260424T082417
CREATED:20240605T124327Z
LAST-MODIFIED:20240605T124327Z
UID:12712-1738076400-1738083600@gorebridge.org.uk
SUMMARY:Gorebridge Community Pantry
DESCRIPTION:The Gorebridge Community Pantry is open every Tuesday evening 3 – 5PM (until 31st March 2025) \nTo read more about the Pantry please click here.
URL:https://gorebridge.org.uk/upcomingevents/gorebridge-community-pantry-2/2025-01-28/
LOCATION:Gorebridge Beacon
CATEGORIES:Food,Gorebridge Beacon,Gorebridge Community Development Trust
END:VEVENT
BEGIN:VEVENT
DTSTART;TZID=Europe/London:20250121T150000
DTEND;TZID=Europe/London:20250121T170000
DTSTAMP:20260424T082417
CREATED:20240605T124327Z
LAST-MODIFIED:20240605T124327Z
UID:12711-1737471600-1737478800@gorebridge.org.uk
SUMMARY:Gorebridge Community Pantry
DESCRIPTION:The Gorebridge Community Pantry is open every Tuesday evening 3 – 5PM (until 31st March 2025) \nTo read more about the Pantry please click here.
URL:https://gorebridge.org.uk/upcomingevents/gorebridge-community-pantry-2/2025-01-21/
LOCATION:Gorebridge Beacon
CATEGORIES:Food,Gorebridge Beacon,Gorebridge Community Development Trust
END:VEVENT
BEGIN:VEVENT
DTSTART;TZID=Europe/London:20250114T150000
DTEND;TZID=Europe/London:20250114T170000
DTSTAMP:20260424T082417
CREATED:20240605T124327Z
LAST-MODIFIED:20240605T124327Z
UID:12710-1736866800-1736874000@gorebridge.org.uk
SUMMARY:Gorebridge Community Pantry
DESCRIPTION:The Gorebridge Community Pantry is open every Tuesday evening 3 – 5PM (until 31st March 2025) \nTo read more about the Pantry please click here.
URL:https://gorebridge.org.uk/upcomingevents/gorebridge-community-pantry-2/2025-01-14/
LOCATION:Gorebridge Beacon
CATEGORIES:Food,Gorebridge Beacon,Gorebridge Community Development Trust
END:VEVENT
BEGIN:VEVENT
DTSTART;TZID=Europe/London:20250107T150000
DTEND;TZID=Europe/London:20250107T170000
DTSTAMP:20260424T082417
CREATED:20240605T124327Z
LAST-MODIFIED:20240605T124327Z
UID:12709-1736262000-1736269200@gorebridge.org.uk
SUMMARY:Gorebridge Community Pantry
DESCRIPTION:The Gorebridge Community Pantry is open every Tuesday evening 3 – 5PM (until 31st March 2025) \nTo read more about the Pantry please click here.
URL:https://gorebridge.org.uk/upcomingevents/gorebridge-community-pantry-2/2025-01-07/
LOCATION:Gorebridge Beacon
CATEGORIES:Food,Gorebridge Beacon,Gorebridge Community Development Trust
END:VEVENT
BEGIN:VEVENT
DTSTART;TZID=Europe/London:20241231T150000
DTEND;TZID=Europe/London:20241231T170000
DTSTAMP:20260424T082417
CREATED:20240605T124327Z
LAST-MODIFIED:20240605T124327Z
UID:12708-1735657200-1735664400@gorebridge.org.uk
SUMMARY:Gorebridge Community Pantry
DESCRIPTION:The Gorebridge Community Pantry is open every Tuesday evening 3 – 5PM (until 31st March 2025) \nTo read more about the Pantry please click here.
URL:https://gorebridge.org.uk/upcomingevents/gorebridge-community-pantry-2/2024-12-31/
LOCATION:Gorebridge Beacon
CATEGORIES:Food,Gorebridge Beacon,Gorebridge Community Development Trust
END:VEVENT
BEGIN:VEVENT
DTSTART;TZID=Europe/London:20241224T150000
DTEND;TZID=Europe/London:20241224T170000
DTSTAMP:20260424T082417
CREATED:20240605T124327Z
LAST-MODIFIED:20240605T124327Z
UID:12707-1735052400-1735059600@gorebridge.org.uk
SUMMARY:Gorebridge Community Pantry
DESCRIPTION:The Gorebridge Community Pantry is open every Tuesday evening 3 – 5PM (until 31st March 2025) \nTo read more about the Pantry please click here.
URL:https://gorebridge.org.uk/upcomingevents/gorebridge-community-pantry-2/2024-12-24/
LOCATION:Gorebridge Beacon
CATEGORIES:Food,Gorebridge Beacon,Gorebridge Community Development Trust
END:VEVENT
BEGIN:VEVENT
DTSTART;TZID=Europe/London:20241217T150000
DTEND;TZID=Europe/London:20241217T170000
DTSTAMP:20260424T082417
CREATED:20240605T124327Z
LAST-MODIFIED:20240605T124327Z
UID:12706-1734447600-1734454800@gorebridge.org.uk
SUMMARY:Gorebridge Community Pantry
DESCRIPTION:The Gorebridge Community Pantry is open every Tuesday evening 3 – 5PM (until 31st March 2025) \nTo read more about the Pantry please click here.
URL:https://gorebridge.org.uk/upcomingevents/gorebridge-community-pantry-2/2024-12-17/
LOCATION:Gorebridge Beacon
CATEGORIES:Food,Gorebridge Beacon,Gorebridge Community Development Trust
END:VEVENT
BEGIN:VEVENT
DTSTART;TZID=Europe/London:20241210T150000
DTEND;TZID=Europe/London:20241210T170000
DTSTAMP:20260424T082417
CREATED:20240605T124327Z
LAST-MODIFIED:20240605T124327Z
UID:12705-1733842800-1733850000@gorebridge.org.uk
SUMMARY:Gorebridge Community Pantry
DESCRIPTION:The Gorebridge Community Pantry is open every Tuesday evening 3 – 5PM (until 31st March 2025) \nTo read more about the Pantry please click here.
URL:https://gorebridge.org.uk/upcomingevents/gorebridge-community-pantry-2/2024-12-10/
LOCATION:Gorebridge Beacon
CATEGORIES:Food,Gorebridge Beacon,Gorebridge Community Development Trust
END:VEVENT
BEGIN:VEVENT
DTSTART;TZID=Europe/London:20241203T150000
DTEND;TZID=Europe/London:20241203T170000
DTSTAMP:20260424T082417
CREATED:20240605T124327Z
LAST-MODIFIED:20240605T124327Z
UID:12704-1733238000-1733245200@gorebridge.org.uk
SUMMARY:Gorebridge Community Pantry
DESCRIPTION:The Gorebridge Community Pantry is open every Tuesday evening 3 – 5PM (until 31st March 2025) \nTo read more about the Pantry please click here.
URL:https://gorebridge.org.uk/upcomingevents/gorebridge-community-pantry-2/2024-12-03/
LOCATION:Gorebridge Beacon
CATEGORIES:Food,Gorebridge Beacon,Gorebridge Community Development Trust
END:VEVENT
BEGIN:VEVENT
DTSTART;TZID=Europe/London:20241126T150000
DTEND;TZID=Europe/London:20241126T170000
DTSTAMP:20260424T082417
CREATED:20240605T124327Z
LAST-MODIFIED:20240605T124327Z
UID:12703-1732633200-1732640400@gorebridge.org.uk
SUMMARY:Gorebridge Community Pantry
DESCRIPTION:The Gorebridge Community Pantry is open every Tuesday evening 3 – 5PM (until 31st March 2025) \nTo read more about the Pantry please click here.
URL:https://gorebridge.org.uk/upcomingevents/gorebridge-community-pantry-2/2024-11-26/
LOCATION:Gorebridge Beacon
CATEGORIES:Food,Gorebridge Beacon,Gorebridge Community Development Trust
END:VEVENT
END:VCALENDAR