BEGIN:VCALENDAR
VERSION:2.0
PRODID:-//Gorebridge Community Development Trust - ECPv6.15.20//NONSGML v1.0//EN
CALSCALE:GREGORIAN
METHOD:PUBLISH
X-WR-CALNAME:Gorebridge Community Development Trust
X-ORIGINAL-URL:https://gorebridge.org.uk
X-WR-CALDESC:Events for Gorebridge Community Development Trust
REFRESH-INTERVAL;VALUE=DURATION:PT1H
X-Robots-Tag:noindex
X-PUBLISHED-TTL:PT1H
BEGIN:VTIMEZONE
TZID:Europe/London
BEGIN:DAYLIGHT
TZOFFSETFROM:+0000
TZOFFSETTO:+0100
TZNAME:BST
DTSTART:20170326T010000
END:DAYLIGHT
BEGIN:STANDARD
TZOFFSETFROM:+0100
TZOFFSETTO:+0000
TZNAME:GMT
DTSTART:20171029T010000
END:STANDARD
BEGIN:DAYLIGHT
TZOFFSETFROM:+0000
TZOFFSETTO:+0100
TZNAME:BST
DTSTART:20180325T010000
END:DAYLIGHT
BEGIN:STANDARD
TZOFFSETFROM:+0100
TZOFFSETTO:+0000
TZNAME:GMT
DTSTART:20181028T010000
END:STANDARD
BEGIN:DAYLIGHT
TZOFFSETFROM:+0000
TZOFFSETTO:+0100
TZNAME:BST
DTSTART:20190331T010000
END:DAYLIGHT
BEGIN:STANDARD
TZOFFSETFROM:+0100
TZOFFSETTO:+0000
TZNAME:GMT
DTSTART:20191027T010000
END:STANDARD
END:VTIMEZONE
BEGIN:VEVENT
DTSTART;TZID=Europe/London:20180705T100000
DTEND;TZID=Europe/London:20180705T120000
DTSTAMP:20260424T032612
CREATED:20180709T180826Z
LAST-MODIFIED:20190110T234431Z
UID:2608-1530784800-1530792000@gorebridge.org.uk
SUMMARY:Creative Wellbeing
DESCRIPTION:Working in partnership with The Orchard Centre (part of Health in Mind) in Bonnyrigg\, Creative Wellbeing is taking place in Gorebridge on a Thursday morning (10am – 12pm) at the Pop-UpBeacon\, 55 Main Street\, Gorebridge. \nYou can join any week\, each week has a ‘theme’\, every session offers a craft activity followed by led Wellbeing session (optional). Anyone can take part\, you will be asked to complete a small form (needed for the Orchard Centre) on your first visit. \nFor more information about this event\, please contact Dawn at GCDT on 015875 822823 or Phil\, Louise or Rachel at The Orchard Centre on 0131 663 1616. Or just turn up on the day\, you will be made very welcome\, and one of us will greet you.
URL:https://gorebridge.org.uk/upcomingevents/creative-wellbeing/2018-07-05/
LOCATION:The Beacon\, Hunterfield Road\, Gorebridge\, Midlothian\, EH23 4TT\, United Kingdom
CATEGORIES:Gorebridge Beacon,Health and Wellbeing
ATTACH;FMTTYPE=image/jpeg:https://gorebridge.org.uk/wp-content/uploads/2018/07/Creating-wellbeing-july-2018.jpg
END:VEVENT
END:VCALENDAR