BEGIN:VCALENDAR
VERSION:2.0
PRODID:-//Gorebridge Community Development Trust - ECPv6.15.20//NONSGML v1.0//EN
CALSCALE:GREGORIAN
METHOD:PUBLISH
X-WR-CALNAME:Gorebridge Community Development Trust
X-ORIGINAL-URL:https://gorebridge.org.uk
X-WR-CALDESC:Events for Gorebridge Community Development Trust
REFRESH-INTERVAL;VALUE=DURATION:PT1H
X-Robots-Tag:noindex
X-PUBLISHED-TTL:PT1H
BEGIN:VTIMEZONE
TZID:Europe/London
BEGIN:DAYLIGHT
TZOFFSETFROM:+0000
TZOFFSETTO:+0100
TZNAME:BST
DTSTART:20220327T010000
END:DAYLIGHT
BEGIN:STANDARD
TZOFFSETFROM:+0100
TZOFFSETTO:+0000
TZNAME:GMT
DTSTART:20221030T010000
END:STANDARD
BEGIN:DAYLIGHT
TZOFFSETFROM:+0000
TZOFFSETTO:+0100
TZNAME:BST
DTSTART:20230326T010000
END:DAYLIGHT
BEGIN:STANDARD
TZOFFSETFROM:+0100
TZOFFSETTO:+0000
TZNAME:GMT
DTSTART:20231029T010000
END:STANDARD
BEGIN:DAYLIGHT
TZOFFSETFROM:+0000
TZOFFSETTO:+0100
TZNAME:BST
DTSTART:20240331T010000
END:DAYLIGHT
BEGIN:STANDARD
TZOFFSETFROM:+0100
TZOFFSETTO:+0000
TZNAME:GMT
DTSTART:20241027T010000
END:STANDARD
END:VTIMEZONE
BEGIN:VEVENT
DTSTART;TZID=Europe/London:20230307T183000
DTEND;TZID=Europe/London:20230307T193000
DTSTAMP:20260424T052553
CREATED:20230220T125737Z
LAST-MODIFIED:20230220T125737Z
UID:10099-1678213800-1678217400@gorebridge.org.uk
SUMMARY:Drop In Volunteer Evenings
DESCRIPTION:If you want to find out more about volunteering with Gorebridge Community Development Trust (including the Beacon)\, come along to one of our drop-in information evenings at the Beacon\, where you can chat to some of our current volunteers and staff; we have various roles to suit everyone\, and some don’t require a regular weekly commitment. Maybe you have skills you would like to offer? We would love to hear from you. \nWhy volunteer?  \n\nYou can add skills to your CV\nGet involved with your local community\nGive back/pay it forward\nMeet new people\nBe part of something local\n\nVolunteer Drop In Sessions \nHeld the 1st Tuesday of every month 6.30 – 7.30\, if you want more information before coming please email office@gorebridge.org.uk\, contact us using the contact form\, or call us on 01875 816320. Full volunteer information is available here. Please also get in touch if you can’t make a Tuesday evening but would like to get involved. \n 
URL:https://gorebridge.org.uk/upcomingevents/drop-in-volunteer-evenings/2023-03-07/
LOCATION:Gorebridge Beacon
CATEGORIES:GCDT,Gorebridge Community Development Trust
ATTACH;FMTTYPE=image/png:https://gorebridge.org.uk/wp-content/uploads/2023/02/Gorebridge-Community-Volunteers.png
END:VEVENT
END:VCALENDAR