BEGIN:VCALENDAR
VERSION:2.0
PRODID:-//Gorebridge Community Development Trust - ECPv6.15.20//NONSGML v1.0//EN
CALSCALE:GREGORIAN
METHOD:PUBLISH
X-WR-CALNAME:Gorebridge Community Development Trust
X-ORIGINAL-URL:https://gorebridge.org.uk
X-WR-CALDESC:Events for Gorebridge Community Development Trust
REFRESH-INTERVAL;VALUE=DURATION:PT1H
X-Robots-Tag:noindex
X-PUBLISHED-TTL:PT1H
BEGIN:VTIMEZONE
TZID:Europe/London
BEGIN:DAYLIGHT
TZOFFSETFROM:+0000
TZOFFSETTO:+0100
TZNAME:BST
DTSTART:20200329T010000
END:DAYLIGHT
BEGIN:STANDARD
TZOFFSETFROM:+0100
TZOFFSETTO:+0000
TZNAME:GMT
DTSTART:20201025T010000
END:STANDARD
BEGIN:DAYLIGHT
TZOFFSETFROM:+0000
TZOFFSETTO:+0100
TZNAME:BST
DTSTART:20210328T010000
END:DAYLIGHT
BEGIN:STANDARD
TZOFFSETFROM:+0100
TZOFFSETTO:+0000
TZNAME:GMT
DTSTART:20211031T010000
END:STANDARD
BEGIN:DAYLIGHT
TZOFFSETFROM:+0000
TZOFFSETTO:+0100
TZNAME:BST
DTSTART:20220327T010000
END:DAYLIGHT
BEGIN:STANDARD
TZOFFSETFROM:+0100
TZOFFSETTO:+0000
TZNAME:GMT
DTSTART:20221030T010000
END:STANDARD
END:VTIMEZONE
BEGIN:VEVENT
DTSTART;TZID=Europe/London:20210515T104500
DTEND;TZID=Europe/London:20210515T231500
DTSTAMP:20260424T143511
CREATED:20210511T095511Z
LAST-MODIFIED:20210511T095511Z
UID:5959-1621075500-1621120500@gorebridge.org.uk
SUMMARY:Funky Pop
DESCRIPTION:[External User of the Beacon] \nCalling all dancers! Have fun learning routines to the latest chart hits. Our Students get fit and burn off excess energy while busting some ‘sick’ moves ready to own that dance floor. \n£4 per class. Your first class is offered at half price (£2.00) and at the moment when you book a block of ten classes you get two classes free. This means your first block of ten will cost £30. This takes your trial class into consideration.
URL:https://gorebridge.org.uk/upcomingevents/funky-pop/2021-05-15/
LOCATION:Gorebridge Beacon
ORGANIZER;CN="Mari Paterson":MAILTO:behappyperforming@hotmail.com
END:VEVENT
END:VCALENDAR