BEGIN:VCALENDAR
VERSION:2.0
PRODID:-//Gorebridge Community Development Trust - ECPv6.15.20//NONSGML v1.0//EN
CALSCALE:GREGORIAN
METHOD:PUBLISH
X-WR-CALNAME:Gorebridge Community Development Trust
X-ORIGINAL-URL:https://gorebridge.org.uk
X-WR-CALDESC:Events for Gorebridge Community Development Trust
REFRESH-INTERVAL;VALUE=DURATION:PT1H
X-Robots-Tag:noindex
X-PUBLISHED-TTL:PT1H
BEGIN:VTIMEZONE
TZID:Europe/London
BEGIN:DAYLIGHT
TZOFFSETFROM:+0000
TZOFFSETTO:+0100
TZNAME:BST
DTSTART:20180325T010000
END:DAYLIGHT
BEGIN:STANDARD
TZOFFSETFROM:+0100
TZOFFSETTO:+0000
TZNAME:GMT
DTSTART:20181028T010000
END:STANDARD
BEGIN:DAYLIGHT
TZOFFSETFROM:+0000
TZOFFSETTO:+0100
TZNAME:BST
DTSTART:20190331T010000
END:DAYLIGHT
BEGIN:STANDARD
TZOFFSETFROM:+0100
TZOFFSETTO:+0000
TZNAME:GMT
DTSTART:20191027T010000
END:STANDARD
BEGIN:DAYLIGHT
TZOFFSETFROM:+0000
TZOFFSETTO:+0100
TZNAME:BST
DTSTART:20200329T010000
END:DAYLIGHT
BEGIN:STANDARD
TZOFFSETFROM:+0100
TZOFFSETTO:+0000
TZNAME:GMT
DTSTART:20201025T010000
END:STANDARD
END:VTIMEZONE
BEGIN:VEVENT
DTSTART;TZID=Europe/London:20190822T100000
DTEND;TZID=Europe/London:20190822T120000
DTSTAMP:20260424T093718
CREATED:20190808T113022Z
LAST-MODIFIED:20190808T113022Z
UID:3817-1566468000-1566475200@gorebridge.org.uk
SUMMARY:Gardening Sessions (Volunteers)
DESCRIPTION:Come and join Lorna in the Beacon Community Garden every Thursday or Saturday 10 AM – Noon. Children must be accompanied by an adult.
URL:https://gorebridge.org.uk/upcomingevents/gardening-sessions-volunteers/2019-08-22/
CATEGORIES:Beacon
ATTACH;FMTTYPE=image/jpeg:https://gorebridge.org.uk/wp-content/uploads/2019/03/IMG_20190312_123017-scaled.jpg
END:VEVENT
END:VCALENDAR