BEGIN:VCALENDAR
VERSION:2.0
PRODID:-//Gorebridge Community Development Trust - ECPv6.15.20//NONSGML v1.0//EN
CALSCALE:GREGORIAN
METHOD:PUBLISH
X-ORIGINAL-URL:https://gorebridge.org.uk
X-WR-CALDESC:Events for Gorebridge Community Development Trust
REFRESH-INTERVAL;VALUE=DURATION:PT1H
X-Robots-Tag:noindex
X-PUBLISHED-TTL:PT1H
BEGIN:VTIMEZONE
TZID:Europe/London
BEGIN:DAYLIGHT
TZOFFSETFROM:+0000
TZOFFSETTO:+0100
TZNAME:BST
DTSTART:20240331T010000
END:DAYLIGHT
BEGIN:STANDARD
TZOFFSETFROM:+0100
TZOFFSETTO:+0000
TZNAME:GMT
DTSTART:20241027T010000
END:STANDARD
BEGIN:DAYLIGHT
TZOFFSETFROM:+0000
TZOFFSETTO:+0100
TZNAME:BST
DTSTART:20250330T010000
END:DAYLIGHT
BEGIN:STANDARD
TZOFFSETFROM:+0100
TZOFFSETTO:+0000
TZNAME:GMT
DTSTART:20251026T010000
END:STANDARD
BEGIN:DAYLIGHT
TZOFFSETFROM:+0000
TZOFFSETTO:+0100
TZNAME:BST
DTSTART:20260329T010000
END:DAYLIGHT
BEGIN:STANDARD
TZOFFSETFROM:+0100
TZOFFSETTO:+0000
TZNAME:GMT
DTSTART:20261025T010000
END:STANDARD
END:VTIMEZONE
BEGIN:VEVENT
DTSTART;TZID=Europe/London:20251028T180000
DTEND;TZID=Europe/London:20251028T203000
DTSTAMP:20260424T075914
CREATED:20250408T214107Z
LAST-MODIFIED:20250408T214107Z
UID:13525-1761674400-1761683400@gorebridge.org.uk
SUMMARY:Gorebridge Community Gardeners Drop In Session
DESCRIPTION:Volunteers WANTED! \nJoin our weekly community gardening sessions. Cultivate friendships\, learn new skills and be part of our sustainable community! All levels of experience welcome and no seed to sign up\, just pop in and get gardening! \nDrop-ins every Tuesday 6 – 8:30pm \nHot drinks available. \n*Important – drop-in sessions may be cancelled if the weather is rotten. Please contact the Beacon if you would like to confirm if a session is taking place or not. Times change during Winter months.
URL:https://gorebridge.org.uk/upcomingevents/gorebridge-community-gardeners-drop-in-session/2025-10-28/
CATEGORIES:Beacon
END:VEVENT
BEGIN:VEVENT
DTSTART;TZID=Europe/London:20251021T180000
DTEND;TZID=Europe/London:20251021T203000
DTSTAMP:20260424T075914
CREATED:20250408T214107Z
LAST-MODIFIED:20250408T214107Z
UID:13524-1761069600-1761078600@gorebridge.org.uk
SUMMARY:Gorebridge Community Gardeners Drop In Session
DESCRIPTION:Volunteers WANTED! \nJoin our weekly community gardening sessions. Cultivate friendships\, learn new skills and be part of our sustainable community! All levels of experience welcome and no seed to sign up\, just pop in and get gardening! \nDrop-ins every Tuesday 6 – 8:30pm \nHot drinks available. \n*Important – drop-in sessions may be cancelled if the weather is rotten. Please contact the Beacon if you would like to confirm if a session is taking place or not. Times change during Winter months.
URL:https://gorebridge.org.uk/upcomingevents/gorebridge-community-gardeners-drop-in-session/2025-10-21/
CATEGORIES:Beacon
END:VEVENT
BEGIN:VEVENT
DTSTART;TZID=Europe/London:20251014T180000
DTEND;TZID=Europe/London:20251014T203000
DTSTAMP:20260424T075914
CREATED:20250408T214107Z
LAST-MODIFIED:20250408T214107Z
UID:13523-1760464800-1760473800@gorebridge.org.uk
SUMMARY:Gorebridge Community Gardeners Drop In Session
DESCRIPTION:Volunteers WANTED! \nJoin our weekly community gardening sessions. Cultivate friendships\, learn new skills and be part of our sustainable community! All levels of experience welcome and no seed to sign up\, just pop in and get gardening! \nDrop-ins every Tuesday 6 – 8:30pm \nHot drinks available. \n*Important – drop-in sessions may be cancelled if the weather is rotten. Please contact the Beacon if you would like to confirm if a session is taking place or not. Times change during Winter months.
URL:https://gorebridge.org.uk/upcomingevents/gorebridge-community-gardeners-drop-in-session/2025-10-14/
CATEGORIES:Beacon
END:VEVENT
BEGIN:VEVENT
DTSTART;TZID=Europe/London:20251007T180000
DTEND;TZID=Europe/London:20251007T203000
DTSTAMP:20260424T075914
CREATED:20250408T214107Z
LAST-MODIFIED:20250408T214107Z
UID:13522-1759860000-1759869000@gorebridge.org.uk
SUMMARY:Gorebridge Community Gardeners Drop In Session
DESCRIPTION:Volunteers WANTED! \nJoin our weekly community gardening sessions. Cultivate friendships\, learn new skills and be part of our sustainable community! All levels of experience welcome and no seed to sign up\, just pop in and get gardening! \nDrop-ins every Tuesday 6 – 8:30pm \nHot drinks available. \n*Important – drop-in sessions may be cancelled if the weather is rotten. Please contact the Beacon if you would like to confirm if a session is taking place or not. Times change during Winter months.
URL:https://gorebridge.org.uk/upcomingevents/gorebridge-community-gardeners-drop-in-session/2025-10-07/
CATEGORIES:Beacon
END:VEVENT
BEGIN:VEVENT
DTSTART;TZID=Europe/London:20250930T180000
DTEND;TZID=Europe/London:20250930T203000
DTSTAMP:20260424T075914
CREATED:20250408T214107Z
LAST-MODIFIED:20250408T214107Z
UID:13521-1759255200-1759264200@gorebridge.org.uk
SUMMARY:Gorebridge Community Gardeners Drop In Session
DESCRIPTION:Volunteers WANTED! \nJoin our weekly community gardening sessions. Cultivate friendships\, learn new skills and be part of our sustainable community! All levels of experience welcome and no seed to sign up\, just pop in and get gardening! \nDrop-ins every Tuesday 6 – 8:30pm \nHot drinks available. \n*Important – drop-in sessions may be cancelled if the weather is rotten. Please contact the Beacon if you would like to confirm if a session is taking place or not. Times change during Winter months.
URL:https://gorebridge.org.uk/upcomingevents/gorebridge-community-gardeners-drop-in-session/2025-09-30/
CATEGORIES:Beacon
END:VEVENT
BEGIN:VEVENT
DTSTART;TZID=Europe/London:20250923T180000
DTEND;TZID=Europe/London:20250923T203000
DTSTAMP:20260424T075914
CREATED:20250408T214107Z
LAST-MODIFIED:20250408T214107Z
UID:13520-1758650400-1758659400@gorebridge.org.uk
SUMMARY:Gorebridge Community Gardeners Drop In Session
DESCRIPTION:Volunteers WANTED! \nJoin our weekly community gardening sessions. Cultivate friendships\, learn new skills and be part of our sustainable community! All levels of experience welcome and no seed to sign up\, just pop in and get gardening! \nDrop-ins every Tuesday 6 – 8:30pm \nHot drinks available. \n*Important – drop-in sessions may be cancelled if the weather is rotten. Please contact the Beacon if you would like to confirm if a session is taking place or not. Times change during Winter months.
URL:https://gorebridge.org.uk/upcomingevents/gorebridge-community-gardeners-drop-in-session/2025-09-23/
CATEGORIES:Beacon
END:VEVENT
BEGIN:VEVENT
DTSTART;TZID=Europe/London:20250916T180000
DTEND;TZID=Europe/London:20250916T203000
DTSTAMP:20260424T075914
CREATED:20250408T214107Z
LAST-MODIFIED:20250408T214107Z
UID:13519-1758045600-1758054600@gorebridge.org.uk
SUMMARY:Gorebridge Community Gardeners Drop In Session
DESCRIPTION:Volunteers WANTED! \nJoin our weekly community gardening sessions. Cultivate friendships\, learn new skills and be part of our sustainable community! All levels of experience welcome and no seed to sign up\, just pop in and get gardening! \nDrop-ins every Tuesday 6 – 8:30pm \nHot drinks available. \n*Important – drop-in sessions may be cancelled if the weather is rotten. Please contact the Beacon if you would like to confirm if a session is taking place or not. Times change during Winter months.
URL:https://gorebridge.org.uk/upcomingevents/gorebridge-community-gardeners-drop-in-session/2025-09-16/
CATEGORIES:Beacon
END:VEVENT
BEGIN:VEVENT
DTSTART;TZID=Europe/London:20250909T180000
DTEND;TZID=Europe/London:20250909T203000
DTSTAMP:20260424T075914
CREATED:20250408T214107Z
LAST-MODIFIED:20250408T214107Z
UID:13518-1757440800-1757449800@gorebridge.org.uk
SUMMARY:Gorebridge Community Gardeners Drop In Session
DESCRIPTION:Volunteers WANTED! \nJoin our weekly community gardening sessions. Cultivate friendships\, learn new skills and be part of our sustainable community! All levels of experience welcome and no seed to sign up\, just pop in and get gardening! \nDrop-ins every Tuesday 6 – 8:30pm \nHot drinks available. \n*Important – drop-in sessions may be cancelled if the weather is rotten. Please contact the Beacon if you would like to confirm if a session is taking place or not. Times change during Winter months.
URL:https://gorebridge.org.uk/upcomingevents/gorebridge-community-gardeners-drop-in-session/2025-09-09/
CATEGORIES:Beacon
END:VEVENT
BEGIN:VEVENT
DTSTART;TZID=Europe/London:20250902T180000
DTEND;TZID=Europe/London:20250902T203000
DTSTAMP:20260424T075914
CREATED:20250408T214107Z
LAST-MODIFIED:20250408T214107Z
UID:13517-1756836000-1756845000@gorebridge.org.uk
SUMMARY:Gorebridge Community Gardeners Drop In Session
DESCRIPTION:Volunteers WANTED! \nJoin our weekly community gardening sessions. Cultivate friendships\, learn new skills and be part of our sustainable community! All levels of experience welcome and no seed to sign up\, just pop in and get gardening! \nDrop-ins every Tuesday 6 – 8:30pm \nHot drinks available. \n*Important – drop-in sessions may be cancelled if the weather is rotten. Please contact the Beacon if you would like to confirm if a session is taking place or not. Times change during Winter months.
URL:https://gorebridge.org.uk/upcomingevents/gorebridge-community-gardeners-drop-in-session/2025-09-02/
CATEGORIES:Beacon
END:VEVENT
BEGIN:VEVENT
DTSTART;TZID=Europe/London:20250826T180000
DTEND;TZID=Europe/London:20250826T203000
DTSTAMP:20260424T075914
CREATED:20250408T214107Z
LAST-MODIFIED:20250408T214107Z
UID:13516-1756231200-1756240200@gorebridge.org.uk
SUMMARY:Gorebridge Community Gardeners Drop In Session
DESCRIPTION:Volunteers WANTED! \nJoin our weekly community gardening sessions. Cultivate friendships\, learn new skills and be part of our sustainable community! All levels of experience welcome and no seed to sign up\, just pop in and get gardening! \nDrop-ins every Tuesday 6 – 8:30pm \nHot drinks available. \n*Important – drop-in sessions may be cancelled if the weather is rotten. Please contact the Beacon if you would like to confirm if a session is taking place or not. Times change during Winter months.
URL:https://gorebridge.org.uk/upcomingevents/gorebridge-community-gardeners-drop-in-session/2025-08-26/
CATEGORIES:Beacon
END:VEVENT
BEGIN:VEVENT
DTSTART;TZID=Europe/London:20250819T180000
DTEND;TZID=Europe/London:20250819T203000
DTSTAMP:20260424T075914
CREATED:20250408T214107Z
LAST-MODIFIED:20250408T214107Z
UID:13515-1755626400-1755635400@gorebridge.org.uk
SUMMARY:Gorebridge Community Gardeners Drop In Session
DESCRIPTION:Volunteers WANTED! \nJoin our weekly community gardening sessions. Cultivate friendships\, learn new skills and be part of our sustainable community! All levels of experience welcome and no seed to sign up\, just pop in and get gardening! \nDrop-ins every Tuesday 6 – 8:30pm \nHot drinks available. \n*Important – drop-in sessions may be cancelled if the weather is rotten. Please contact the Beacon if you would like to confirm if a session is taking place or not. Times change during Winter months.
URL:https://gorebridge.org.uk/upcomingevents/gorebridge-community-gardeners-drop-in-session/2025-08-19/
CATEGORIES:Beacon
END:VEVENT
BEGIN:VEVENT
DTSTART;TZID=Europe/London:20250812T180000
DTEND;TZID=Europe/London:20250812T203000
DTSTAMP:20260424T075914
CREATED:20250408T214107Z
LAST-MODIFIED:20250408T214107Z
UID:13514-1755021600-1755030600@gorebridge.org.uk
SUMMARY:Gorebridge Community Gardeners Drop In Session
DESCRIPTION:Volunteers WANTED! \nJoin our weekly community gardening sessions. Cultivate friendships\, learn new skills and be part of our sustainable community! All levels of experience welcome and no seed to sign up\, just pop in and get gardening! \nDrop-ins every Tuesday 6 – 8:30pm \nHot drinks available. \n*Important – drop-in sessions may be cancelled if the weather is rotten. Please contact the Beacon if you would like to confirm if a session is taking place or not. Times change during Winter months.
URL:https://gorebridge.org.uk/upcomingevents/gorebridge-community-gardeners-drop-in-session/2025-08-12/
CATEGORIES:Beacon
END:VEVENT
BEGIN:VEVENT
DTSTART;TZID=Europe/London:20250805T180000
DTEND;TZID=Europe/London:20250805T203000
DTSTAMP:20260424T075914
CREATED:20250408T214107Z
LAST-MODIFIED:20250408T214107Z
UID:13513-1754416800-1754425800@gorebridge.org.uk
SUMMARY:Gorebridge Community Gardeners Drop In Session
DESCRIPTION:Volunteers WANTED! \nJoin our weekly community gardening sessions. Cultivate friendships\, learn new skills and be part of our sustainable community! All levels of experience welcome and no seed to sign up\, just pop in and get gardening! \nDrop-ins every Tuesday 6 – 8:30pm \nHot drinks available. \n*Important – drop-in sessions may be cancelled if the weather is rotten. Please contact the Beacon if you would like to confirm if a session is taking place or not. Times change during Winter months.
URL:https://gorebridge.org.uk/upcomingevents/gorebridge-community-gardeners-drop-in-session/2025-08-05/
CATEGORIES:Beacon
END:VEVENT
BEGIN:VEVENT
DTSTART;TZID=Europe/London:20250729T180000
DTEND;TZID=Europe/London:20250729T203000
DTSTAMP:20260424T075914
CREATED:20250408T214107Z
LAST-MODIFIED:20250408T214107Z
UID:13512-1753812000-1753821000@gorebridge.org.uk
SUMMARY:Gorebridge Community Gardeners Drop In Session
DESCRIPTION:Volunteers WANTED! \nJoin our weekly community gardening sessions. Cultivate friendships\, learn new skills and be part of our sustainable community! All levels of experience welcome and no seed to sign up\, just pop in and get gardening! \nDrop-ins every Tuesday 6 – 8:30pm \nHot drinks available. \n*Important – drop-in sessions may be cancelled if the weather is rotten. Please contact the Beacon if you would like to confirm if a session is taking place or not. Times change during Winter months.
URL:https://gorebridge.org.uk/upcomingevents/gorebridge-community-gardeners-drop-in-session/2025-07-29/
CATEGORIES:Beacon
END:VEVENT
BEGIN:VEVENT
DTSTART;TZID=Europe/London:20250722T180000
DTEND;TZID=Europe/London:20250722T203000
DTSTAMP:20260424T075914
CREATED:20250408T214107Z
LAST-MODIFIED:20250408T214107Z
UID:13511-1753207200-1753216200@gorebridge.org.uk
SUMMARY:Gorebridge Community Gardeners Drop In Session
DESCRIPTION:Volunteers WANTED! \nJoin our weekly community gardening sessions. Cultivate friendships\, learn new skills and be part of our sustainable community! All levels of experience welcome and no seed to sign up\, just pop in and get gardening! \nDrop-ins every Tuesday 6 – 8:30pm \nHot drinks available. \n*Important – drop-in sessions may be cancelled if the weather is rotten. Please contact the Beacon if you would like to confirm if a session is taking place or not. Times change during Winter months.
URL:https://gorebridge.org.uk/upcomingevents/gorebridge-community-gardeners-drop-in-session/2025-07-22/
CATEGORIES:Beacon
END:VEVENT
BEGIN:VEVENT
DTSTART;TZID=Europe/London:20250715T180000
DTEND;TZID=Europe/London:20250715T203000
DTSTAMP:20260424T075914
CREATED:20250408T214107Z
LAST-MODIFIED:20250408T214107Z
UID:13510-1752602400-1752611400@gorebridge.org.uk
SUMMARY:Gorebridge Community Gardeners Drop In Session
DESCRIPTION:Volunteers WANTED! \nJoin our weekly community gardening sessions. Cultivate friendships\, learn new skills and be part of our sustainable community! All levels of experience welcome and no seed to sign up\, just pop in and get gardening! \nDrop-ins every Tuesday 6 – 8:30pm \nHot drinks available. \n*Important – drop-in sessions may be cancelled if the weather is rotten. Please contact the Beacon if you would like to confirm if a session is taking place or not. Times change during Winter months.
URL:https://gorebridge.org.uk/upcomingevents/gorebridge-community-gardeners-drop-in-session/2025-07-15/
CATEGORIES:Beacon
END:VEVENT
BEGIN:VEVENT
DTSTART;TZID=Europe/London:20250708T180000
DTEND;TZID=Europe/London:20250708T203000
DTSTAMP:20260424T075914
CREATED:20250408T214107Z
LAST-MODIFIED:20250408T214107Z
UID:13509-1751997600-1752006600@gorebridge.org.uk
SUMMARY:Gorebridge Community Gardeners Drop In Session
DESCRIPTION:Volunteers WANTED! \nJoin our weekly community gardening sessions. Cultivate friendships\, learn new skills and be part of our sustainable community! All levels of experience welcome and no seed to sign up\, just pop in and get gardening! \nDrop-ins every Tuesday 6 – 8:30pm \nHot drinks available. \n*Important – drop-in sessions may be cancelled if the weather is rotten. Please contact the Beacon if you would like to confirm if a session is taking place or not. Times change during Winter months.
URL:https://gorebridge.org.uk/upcomingevents/gorebridge-community-gardeners-drop-in-session/2025-07-08/
CATEGORIES:Beacon
END:VEVENT
BEGIN:VEVENT
DTSTART;TZID=Europe/London:20250701T180000
DTEND;TZID=Europe/London:20250701T203000
DTSTAMP:20260424T075914
CREATED:20250408T214107Z
LAST-MODIFIED:20250408T214107Z
UID:13508-1751392800-1751401800@gorebridge.org.uk
SUMMARY:Gorebridge Community Gardeners Drop In Session
DESCRIPTION:Volunteers WANTED! \nJoin our weekly community gardening sessions. Cultivate friendships\, learn new skills and be part of our sustainable community! All levels of experience welcome and no seed to sign up\, just pop in and get gardening! \nDrop-ins every Tuesday 6 – 8:30pm \nHot drinks available. \n*Important – drop-in sessions may be cancelled if the weather is rotten. Please contact the Beacon if you would like to confirm if a session is taking place or not. Times change during Winter months.
URL:https://gorebridge.org.uk/upcomingevents/gorebridge-community-gardeners-drop-in-session/2025-07-01/
CATEGORIES:Beacon
END:VEVENT
BEGIN:VEVENT
DTSTART;TZID=Europe/London:20250624T180000
DTEND;TZID=Europe/London:20250624T203000
DTSTAMP:20260424T075914
CREATED:20250408T214107Z
LAST-MODIFIED:20250408T214107Z
UID:13507-1750788000-1750797000@gorebridge.org.uk
SUMMARY:Gorebridge Community Gardeners Drop In Session
DESCRIPTION:Volunteers WANTED! \nJoin our weekly community gardening sessions. Cultivate friendships\, learn new skills and be part of our sustainable community! All levels of experience welcome and no seed to sign up\, just pop in and get gardening! \nDrop-ins every Tuesday 6 – 8:30pm \nHot drinks available. \n*Important – drop-in sessions may be cancelled if the weather is rotten. Please contact the Beacon if you would like to confirm if a session is taking place or not. Times change during Winter months.
URL:https://gorebridge.org.uk/upcomingevents/gorebridge-community-gardeners-drop-in-session/2025-06-24/
CATEGORIES:Beacon
END:VEVENT
BEGIN:VEVENT
DTSTART;TZID=Europe/London:20250617T180000
DTEND;TZID=Europe/London:20250617T203000
DTSTAMP:20260424T075914
CREATED:20250408T214107Z
LAST-MODIFIED:20250408T214107Z
UID:13505-1750183200-1750192200@gorebridge.org.uk
SUMMARY:Gorebridge Community Gardeners Drop In Session
DESCRIPTION:Volunteers WANTED! \nJoin our weekly community gardening sessions. Cultivate friendships\, learn new skills and be part of our sustainable community! All levels of experience welcome and no seed to sign up\, just pop in and get gardening! \nDrop-ins every Tuesday 6 – 8:30pm \nHot drinks available. \n*Important – drop-in sessions may be cancelled if the weather is rotten. Please contact the Beacon if you would like to confirm if a session is taking place or not. Times change during Winter months.
URL:https://gorebridge.org.uk/upcomingevents/gorebridge-community-gardeners-drop-in-session/2025-06-17/
CATEGORIES:Beacon
END:VEVENT
BEGIN:VEVENT
DTSTART;TZID=Europe/London:20250610T180000
DTEND;TZID=Europe/London:20250610T203000
DTSTAMP:20260424T075914
CREATED:20250408T214107Z
LAST-MODIFIED:20250408T214107Z
UID:13504-1749578400-1749587400@gorebridge.org.uk
SUMMARY:Gorebridge Community Gardeners Drop In Session
DESCRIPTION:Volunteers WANTED! \nJoin our weekly community gardening sessions. Cultivate friendships\, learn new skills and be part of our sustainable community! All levels of experience welcome and no seed to sign up\, just pop in and get gardening! \nDrop-ins every Tuesday 6 – 8:30pm \nHot drinks available. \n*Important – drop-in sessions may be cancelled if the weather is rotten. Please contact the Beacon if you would like to confirm if a session is taking place or not. Times change during Winter months.
URL:https://gorebridge.org.uk/upcomingevents/gorebridge-community-gardeners-drop-in-session/2025-06-10/
CATEGORIES:Beacon
END:VEVENT
BEGIN:VEVENT
DTSTART;TZID=Europe/London:20250603T180000
DTEND;TZID=Europe/London:20250603T203000
DTSTAMP:20260424T075914
CREATED:20250408T214107Z
LAST-MODIFIED:20250408T214107Z
UID:13503-1748973600-1748982600@gorebridge.org.uk
SUMMARY:Gorebridge Community Gardeners Drop In Session
DESCRIPTION:Volunteers WANTED! \nJoin our weekly community gardening sessions. Cultivate friendships\, learn new skills and be part of our sustainable community! All levels of experience welcome and no seed to sign up\, just pop in and get gardening! \nDrop-ins every Tuesday 6 – 8:30pm \nHot drinks available. \n*Important – drop-in sessions may be cancelled if the weather is rotten. Please contact the Beacon if you would like to confirm if a session is taking place or not. Times change during Winter months.
URL:https://gorebridge.org.uk/upcomingevents/gorebridge-community-gardeners-drop-in-session/2025-06-03/
CATEGORIES:Beacon
END:VEVENT
BEGIN:VEVENT
DTSTART;TZID=Europe/London:20250527T180000
DTEND;TZID=Europe/London:20250527T203000
DTSTAMP:20260424T075914
CREATED:20250408T214107Z
LAST-MODIFIED:20250408T214107Z
UID:13502-1748368800-1748377800@gorebridge.org.uk
SUMMARY:Gorebridge Community Gardeners Drop In Session
DESCRIPTION:Volunteers WANTED! \nJoin our weekly community gardening sessions. Cultivate friendships\, learn new skills and be part of our sustainable community! All levels of experience welcome and no seed to sign up\, just pop in and get gardening! \nDrop-ins every Tuesday 6 – 8:30pm \nHot drinks available. \n*Important – drop-in sessions may be cancelled if the weather is rotten. Please contact the Beacon if you would like to confirm if a session is taking place or not. Times change during Winter months.
URL:https://gorebridge.org.uk/upcomingevents/gorebridge-community-gardeners-drop-in-session/2025-05-27/
CATEGORIES:Beacon
END:VEVENT
BEGIN:VEVENT
DTSTART;TZID=Europe/London:20250520T180000
DTEND;TZID=Europe/London:20250520T203000
DTSTAMP:20260424T075914
CREATED:20250408T214107Z
LAST-MODIFIED:20250408T214107Z
UID:13501-1747764000-1747773000@gorebridge.org.uk
SUMMARY:Gorebridge Community Gardeners Drop In Session
DESCRIPTION:Volunteers WANTED! \nJoin our weekly community gardening sessions. Cultivate friendships\, learn new skills and be part of our sustainable community! All levels of experience welcome and no seed to sign up\, just pop in and get gardening! \nDrop-ins every Tuesday 6 – 8:30pm \nHot drinks available. \n*Important – drop-in sessions may be cancelled if the weather is rotten. Please contact the Beacon if you would like to confirm if a session is taking place or not. Times change during Winter months.
URL:https://gorebridge.org.uk/upcomingevents/gorebridge-community-gardeners-drop-in-session/2025-05-20/
CATEGORIES:Beacon
END:VEVENT
BEGIN:VEVENT
DTSTART;TZID=Europe/London:20250513T180000
DTEND;TZID=Europe/London:20250513T203000
DTSTAMP:20260424T075914
CREATED:20250408T214107Z
LAST-MODIFIED:20250408T214107Z
UID:13500-1747159200-1747168200@gorebridge.org.uk
SUMMARY:Gorebridge Community Gardeners Drop In Session
DESCRIPTION:Volunteers WANTED! \nJoin our weekly community gardening sessions. Cultivate friendships\, learn new skills and be part of our sustainable community! All levels of experience welcome and no seed to sign up\, just pop in and get gardening! \nDrop-ins every Tuesday 6 – 8:30pm \nHot drinks available. \n*Important – drop-in sessions may be cancelled if the weather is rotten. Please contact the Beacon if you would like to confirm if a session is taking place or not. Times change during Winter months.
URL:https://gorebridge.org.uk/upcomingevents/gorebridge-community-gardeners-drop-in-session/2025-05-13/
CATEGORIES:Beacon
END:VEVENT
BEGIN:VEVENT
DTSTART;TZID=Europe/London:20250506T180000
DTEND;TZID=Europe/London:20250506T203000
DTSTAMP:20260424T075914
CREATED:20250408T214107Z
LAST-MODIFIED:20250408T214107Z
UID:13499-1746554400-1746563400@gorebridge.org.uk
SUMMARY:Gorebridge Community Gardeners Drop In Session
DESCRIPTION:Volunteers WANTED! \nJoin our weekly community gardening sessions. Cultivate friendships\, learn new skills and be part of our sustainable community! All levels of experience welcome and no seed to sign up\, just pop in and get gardening! \nDrop-ins every Tuesday 6 – 8:30pm \nHot drinks available. \n*Important – drop-in sessions may be cancelled if the weather is rotten. Please contact the Beacon if you would like to confirm if a session is taking place or not. Times change during Winter months.
URL:https://gorebridge.org.uk/upcomingevents/gorebridge-community-gardeners-drop-in-session/2025-05-06/
CATEGORIES:Beacon
END:VEVENT
BEGIN:VEVENT
DTSTART;TZID=Europe/London:20250429T180000
DTEND;TZID=Europe/London:20250429T203000
DTSTAMP:20260424T075914
CREATED:20250408T214107Z
LAST-MODIFIED:20250408T214107Z
UID:13498-1745949600-1745958600@gorebridge.org.uk
SUMMARY:Gorebridge Community Gardeners Drop In Session
DESCRIPTION:Volunteers WANTED! \nJoin our weekly community gardening sessions. Cultivate friendships\, learn new skills and be part of our sustainable community! All levels of experience welcome and no seed to sign up\, just pop in and get gardening! \nDrop-ins every Tuesday 6 – 8:30pm \nHot drinks available. \n*Important – drop-in sessions may be cancelled if the weather is rotten. Please contact the Beacon if you would like to confirm if a session is taking place or not. Times change during Winter months.
URL:https://gorebridge.org.uk/upcomingevents/gorebridge-community-gardeners-drop-in-session/2025-04-29/
CATEGORIES:Beacon
END:VEVENT
BEGIN:VEVENT
DTSTART;TZID=Europe/London:20250422T180000
DTEND;TZID=Europe/London:20250422T203000
DTSTAMP:20260424T075914
CREATED:20250408T214107Z
LAST-MODIFIED:20250408T214107Z
UID:13497-1745344800-1745353800@gorebridge.org.uk
SUMMARY:Gorebridge Community Gardeners Drop In Session
DESCRIPTION:Volunteers WANTED! \nJoin our weekly community gardening sessions. Cultivate friendships\, learn new skills and be part of our sustainable community! All levels of experience welcome and no seed to sign up\, just pop in and get gardening! \nDrop-ins every Tuesday 6 – 8:30pm \nHot drinks available. \n*Important – drop-in sessions may be cancelled if the weather is rotten. Please contact the Beacon if you would like to confirm if a session is taking place or not. Times change during Winter months.
URL:https://gorebridge.org.uk/upcomingevents/gorebridge-community-gardeners-drop-in-session/2025-04-22/
CATEGORIES:Beacon
END:VEVENT
BEGIN:VEVENT
DTSTART;TZID=Europe/London:20250415T180000
DTEND;TZID=Europe/London:20250415T203000
DTSTAMP:20260424T075914
CREATED:20250408T214107Z
LAST-MODIFIED:20250408T214107Z
UID:13496-1744740000-1744749000@gorebridge.org.uk
SUMMARY:Gorebridge Community Gardeners Drop In Session
DESCRIPTION:Volunteers WANTED! \nJoin our weekly community gardening sessions. Cultivate friendships\, learn new skills and be part of our sustainable community! All levels of experience welcome and no seed to sign up\, just pop in and get gardening! \nDrop-ins every Tuesday 6 – 8:30pm \nHot drinks available. \n*Important – drop-in sessions may be cancelled if the weather is rotten. Please contact the Beacon if you would like to confirm if a session is taking place or not. Times change during Winter months.
URL:https://gorebridge.org.uk/upcomingevents/gorebridge-community-gardeners-drop-in-session/2025-04-15/
CATEGORIES:Beacon
END:VEVENT
BEGIN:VEVENT
DTSTART;TZID=Europe/London:20250408T180000
DTEND;TZID=Europe/London:20250408T203000
DTSTAMP:20260424T075914
CREATED:20250408T214107Z
LAST-MODIFIED:20250408T214107Z
UID:13495-1744135200-1744144200@gorebridge.org.uk
SUMMARY:Gorebridge Community Gardeners Drop In Session
DESCRIPTION:Volunteers WANTED! \nJoin our weekly community gardening sessions. Cultivate friendships\, learn new skills and be part of our sustainable community! All levels of experience welcome and no seed to sign up\, just pop in and get gardening! \nDrop-ins every Tuesday 6 – 8:30pm \nHot drinks available. \n*Important – drop-in sessions may be cancelled if the weather is rotten. Please contact the Beacon if you would like to confirm if a session is taking place or not. Times change during Winter months.
URL:https://gorebridge.org.uk/upcomingevents/gorebridge-community-gardeners-drop-in-session/2025-04-08/
CATEGORIES:Beacon
END:VEVENT
END:VCALENDAR