BEGIN:VCALENDAR
VERSION:2.0
PRODID:-//Gorebridge Community Development Trust - ECPv6.15.20//NONSGML v1.0//EN
CALSCALE:GREGORIAN
METHOD:PUBLISH
X-ORIGINAL-URL:https://gorebridge.org.uk
X-WR-CALDESC:Events for Gorebridge Community Development Trust
REFRESH-INTERVAL;VALUE=DURATION:PT1H
X-Robots-Tag:noindex
X-PUBLISHED-TTL:PT1H
BEGIN:VTIMEZONE
TZID:Europe/London
BEGIN:DAYLIGHT
TZOFFSETFROM:+0000
TZOFFSETTO:+0100
TZNAME:BST
DTSTART:20250330T010000
END:DAYLIGHT
BEGIN:STANDARD
TZOFFSETFROM:+0100
TZOFFSETTO:+0000
TZNAME:GMT
DTSTART:20251026T010000
END:STANDARD
BEGIN:DAYLIGHT
TZOFFSETFROM:+0000
TZOFFSETTO:+0100
TZNAME:BST
DTSTART:20260329T010000
END:DAYLIGHT
BEGIN:STANDARD
TZOFFSETFROM:+0100
TZOFFSETTO:+0000
TZNAME:GMT
DTSTART:20261025T010000
END:STANDARD
BEGIN:DAYLIGHT
TZOFFSETFROM:+0000
TZOFFSETTO:+0100
TZNAME:BST
DTSTART:20270328T010000
END:DAYLIGHT
BEGIN:STANDARD
TZOFFSETFROM:+0100
TZOFFSETTO:+0000
TZNAME:GMT
DTSTART:20271031T010000
END:STANDARD
END:VTIMEZONE
BEGIN:VEVENT
DTSTART;TZID=Europe/London:20260421T150000
DTEND;TZID=Europe/London:20260421T170000
DTSTAMP:20260423T203735
CREATED:20260107T223427Z
LAST-MODIFIED:20260107T223427Z
UID:14613-1776783600-1776790800@gorebridge.org.uk
SUMMARY:Gorebridge Community Pantry
DESCRIPTION:The Pantry is open to all households/residents of EH23\, anyone who lives in this Post Code area can apply to become members of the Pantry and ‘shop’ there once a week. Membership is limited to 1 person per household. Membership is free\, and weekly ‘shop’ costs £3.50 which is put back into buying stock into the Pantry the following week. Each member receives 10 credits for £3.50\, and these credits can be used to ‘spend’ on fresh\, ambient or store-cupboard ingredients. If available\, free bread will be offered\, and volunteers will make each member a bag of fresh fruit and veggies. \nThe Pantry is open to EVERYONE who lives in EH23. Pop along to the Beacon 3 until 5 on a Tuesday and we will sign you up and you can do your shop.
URL:https://gorebridge.org.uk/upcomingevents/gorebridge-community-pantry-3/2026-04-21/
LOCATION:Gorebridge Beacon
CATEGORIES:Beacon,GCDT
ATTACH;FMTTYPE=image/png:https://gorebridge.org.uk/wp-content/uploads/2023/07/Pantry-3000-copy.png
END:VEVENT
BEGIN:VEVENT
DTSTART;TZID=Europe/London:20260414T150000
DTEND;TZID=Europe/London:20260414T170000
DTSTAMP:20260423T203735
CREATED:20260107T223427Z
LAST-MODIFIED:20260107T223427Z
UID:14612-1776178800-1776186000@gorebridge.org.uk
SUMMARY:Gorebridge Community Pantry
DESCRIPTION:The Pantry is open to all households/residents of EH23\, anyone who lives in this Post Code area can apply to become members of the Pantry and ‘shop’ there once a week. Membership is limited to 1 person per household. Membership is free\, and weekly ‘shop’ costs £3.50 which is put back into buying stock into the Pantry the following week. Each member receives 10 credits for £3.50\, and these credits can be used to ‘spend’ on fresh\, ambient or store-cupboard ingredients. If available\, free bread will be offered\, and volunteers will make each member a bag of fresh fruit and veggies. \nThe Pantry is open to EVERYONE who lives in EH23. Pop along to the Beacon 3 until 5 on a Tuesday and we will sign you up and you can do your shop.
URL:https://gorebridge.org.uk/upcomingevents/gorebridge-community-pantry-3/2026-04-14/
LOCATION:Gorebridge Beacon
CATEGORIES:Beacon,GCDT
ATTACH;FMTTYPE=image/png:https://gorebridge.org.uk/wp-content/uploads/2023/07/Pantry-3000-copy.png
END:VEVENT
BEGIN:VEVENT
DTSTART;TZID=Europe/London:20260407T150000
DTEND;TZID=Europe/London:20260407T170000
DTSTAMP:20260423T203735
CREATED:20260107T223427Z
LAST-MODIFIED:20260107T223427Z
UID:14611-1775574000-1775581200@gorebridge.org.uk
SUMMARY:Gorebridge Community Pantry
DESCRIPTION:The Pantry is open to all households/residents of EH23\, anyone who lives in this Post Code area can apply to become members of the Pantry and ‘shop’ there once a week. Membership is limited to 1 person per household. Membership is free\, and weekly ‘shop’ costs £3.50 which is put back into buying stock into the Pantry the following week. Each member receives 10 credits for £3.50\, and these credits can be used to ‘spend’ on fresh\, ambient or store-cupboard ingredients. If available\, free bread will be offered\, and volunteers will make each member a bag of fresh fruit and veggies. \nThe Pantry is open to EVERYONE who lives in EH23. Pop along to the Beacon 3 until 5 on a Tuesday and we will sign you up and you can do your shop.
URL:https://gorebridge.org.uk/upcomingevents/gorebridge-community-pantry-3/2026-04-07/
LOCATION:Gorebridge Beacon
CATEGORIES:Beacon,GCDT
ATTACH;FMTTYPE=image/png:https://gorebridge.org.uk/wp-content/uploads/2023/07/Pantry-3000-copy.png
END:VEVENT
BEGIN:VEVENT
DTSTART;TZID=Europe/London:20260331T150000
DTEND;TZID=Europe/London:20260331T170000
DTSTAMP:20260423T203735
CREATED:20260107T223427Z
LAST-MODIFIED:20260107T223427Z
UID:14610-1774969200-1774976400@gorebridge.org.uk
SUMMARY:Gorebridge Community Pantry
DESCRIPTION:The Pantry is open to all households/residents of EH23\, anyone who lives in this Post Code area can apply to become members of the Pantry and ‘shop’ there once a week. Membership is limited to 1 person per household. Membership is free\, and weekly ‘shop’ costs £3.50 which is put back into buying stock into the Pantry the following week. Each member receives 10 credits for £3.50\, and these credits can be used to ‘spend’ on fresh\, ambient or store-cupboard ingredients. If available\, free bread will be offered\, and volunteers will make each member a bag of fresh fruit and veggies. \nThe Pantry is open to EVERYONE who lives in EH23. Pop along to the Beacon 3 until 5 on a Tuesday and we will sign you up and you can do your shop.
URL:https://gorebridge.org.uk/upcomingevents/gorebridge-community-pantry-3/2026-03-31/
LOCATION:Gorebridge Beacon
CATEGORIES:Beacon,GCDT
ATTACH;FMTTYPE=image/png:https://gorebridge.org.uk/wp-content/uploads/2023/07/Pantry-3000-copy.png
END:VEVENT
BEGIN:VEVENT
DTSTART;TZID=Europe/London:20260324T150000
DTEND;TZID=Europe/London:20260324T170000
DTSTAMP:20260423T203735
CREATED:20260107T223427Z
LAST-MODIFIED:20260107T223427Z
UID:14609-1774364400-1774371600@gorebridge.org.uk
SUMMARY:Gorebridge Community Pantry
DESCRIPTION:The Pantry is open to all households/residents of EH23\, anyone who lives in this Post Code area can apply to become members of the Pantry and ‘shop’ there once a week. Membership is limited to 1 person per household. Membership is free\, and weekly ‘shop’ costs £3.50 which is put back into buying stock into the Pantry the following week. Each member receives 10 credits for £3.50\, and these credits can be used to ‘spend’ on fresh\, ambient or store-cupboard ingredients. If available\, free bread will be offered\, and volunteers will make each member a bag of fresh fruit and veggies. \nThe Pantry is open to EVERYONE who lives in EH23. Pop along to the Beacon 3 until 5 on a Tuesday and we will sign you up and you can do your shop.
URL:https://gorebridge.org.uk/upcomingevents/gorebridge-community-pantry-3/2026-03-24/
LOCATION:Gorebridge Beacon
CATEGORIES:Beacon,GCDT
ATTACH;FMTTYPE=image/png:https://gorebridge.org.uk/wp-content/uploads/2023/07/Pantry-3000-copy.png
END:VEVENT
BEGIN:VEVENT
DTSTART;TZID=Europe/London:20260317T150000
DTEND;TZID=Europe/London:20260317T170000
DTSTAMP:20260423T203735
CREATED:20260107T223427Z
LAST-MODIFIED:20260107T223427Z
UID:14607-1773759600-1773766800@gorebridge.org.uk
SUMMARY:Gorebridge Community Pantry
DESCRIPTION:The Pantry is open to all households/residents of EH23\, anyone who lives in this Post Code area can apply to become members of the Pantry and ‘shop’ there once a week. Membership is limited to 1 person per household. Membership is free\, and weekly ‘shop’ costs £3.50 which is put back into buying stock into the Pantry the following week. Each member receives 10 credits for £3.50\, and these credits can be used to ‘spend’ on fresh\, ambient or store-cupboard ingredients. If available\, free bread will be offered\, and volunteers will make each member a bag of fresh fruit and veggies. \nThe Pantry is open to EVERYONE who lives in EH23. Pop along to the Beacon 3 until 5 on a Tuesday and we will sign you up and you can do your shop.
URL:https://gorebridge.org.uk/upcomingevents/gorebridge-community-pantry-3/2026-03-17/
LOCATION:Gorebridge Beacon
CATEGORIES:Beacon,GCDT
ATTACH;FMTTYPE=image/png:https://gorebridge.org.uk/wp-content/uploads/2023/07/Pantry-3000-copy.png
END:VEVENT
BEGIN:VEVENT
DTSTART;TZID=Europe/London:20260310T150000
DTEND;TZID=Europe/London:20260310T170000
DTSTAMP:20260423T203735
CREATED:20260107T223427Z
LAST-MODIFIED:20260107T223427Z
UID:14606-1773154800-1773162000@gorebridge.org.uk
SUMMARY:Gorebridge Community Pantry
DESCRIPTION:The Pantry is open to all households/residents of EH23\, anyone who lives in this Post Code area can apply to become members of the Pantry and ‘shop’ there once a week. Membership is limited to 1 person per household. Membership is free\, and weekly ‘shop’ costs £3.50 which is put back into buying stock into the Pantry the following week. Each member receives 10 credits for £3.50\, and these credits can be used to ‘spend’ on fresh\, ambient or store-cupboard ingredients. If available\, free bread will be offered\, and volunteers will make each member a bag of fresh fruit and veggies. \nThe Pantry is open to EVERYONE who lives in EH23. Pop along to the Beacon 3 until 5 on a Tuesday and we will sign you up and you can do your shop.
URL:https://gorebridge.org.uk/upcomingevents/gorebridge-community-pantry-3/2026-03-10/
LOCATION:Gorebridge Beacon
CATEGORIES:Beacon,GCDT
ATTACH;FMTTYPE=image/png:https://gorebridge.org.uk/wp-content/uploads/2023/07/Pantry-3000-copy.png
END:VEVENT
BEGIN:VEVENT
DTSTART;TZID=Europe/London:20260303T150000
DTEND;TZID=Europe/London:20260303T170000
DTSTAMP:20260423T203735
CREATED:20260107T223427Z
LAST-MODIFIED:20260107T223427Z
UID:14605-1772550000-1772557200@gorebridge.org.uk
SUMMARY:Gorebridge Community Pantry
DESCRIPTION:The Pantry is open to all households/residents of EH23\, anyone who lives in this Post Code area can apply to become members of the Pantry and ‘shop’ there once a week. Membership is limited to 1 person per household. Membership is free\, and weekly ‘shop’ costs £3.50 which is put back into buying stock into the Pantry the following week. Each member receives 10 credits for £3.50\, and these credits can be used to ‘spend’ on fresh\, ambient or store-cupboard ingredients. If available\, free bread will be offered\, and volunteers will make each member a bag of fresh fruit and veggies. \nThe Pantry is open to EVERYONE who lives in EH23. Pop along to the Beacon 3 until 5 on a Tuesday and we will sign you up and you can do your shop.
URL:https://gorebridge.org.uk/upcomingevents/gorebridge-community-pantry-3/2026-03-03/
LOCATION:Gorebridge Beacon
CATEGORIES:Beacon,GCDT
ATTACH;FMTTYPE=image/png:https://gorebridge.org.uk/wp-content/uploads/2023/07/Pantry-3000-copy.png
END:VEVENT
BEGIN:VEVENT
DTSTART;TZID=Europe/London:20260224T150000
DTEND;TZID=Europe/London:20260224T170000
DTSTAMP:20260423T203735
CREATED:20260107T223427Z
LAST-MODIFIED:20260107T223427Z
UID:14604-1771945200-1771952400@gorebridge.org.uk
SUMMARY:Gorebridge Community Pantry
DESCRIPTION:The Pantry is open to all households/residents of EH23\, anyone who lives in this Post Code area can apply to become members of the Pantry and ‘shop’ there once a week. Membership is limited to 1 person per household. Membership is free\, and weekly ‘shop’ costs £3.50 which is put back into buying stock into the Pantry the following week. Each member receives 10 credits for £3.50\, and these credits can be used to ‘spend’ on fresh\, ambient or store-cupboard ingredients. If available\, free bread will be offered\, and volunteers will make each member a bag of fresh fruit and veggies. \nThe Pantry is open to EVERYONE who lives in EH23. Pop along to the Beacon 3 until 5 on a Tuesday and we will sign you up and you can do your shop.
URL:https://gorebridge.org.uk/upcomingevents/gorebridge-community-pantry-3/2026-02-24/
LOCATION:Gorebridge Beacon
CATEGORIES:Beacon,GCDT
ATTACH;FMTTYPE=image/png:https://gorebridge.org.uk/wp-content/uploads/2023/07/Pantry-3000-copy.png
END:VEVENT
BEGIN:VEVENT
DTSTART;TZID=Europe/London:20260217T150000
DTEND;TZID=Europe/London:20260217T170000
DTSTAMP:20260423T203735
CREATED:20260107T223427Z
LAST-MODIFIED:20260107T223427Z
UID:14603-1771340400-1771347600@gorebridge.org.uk
SUMMARY:Gorebridge Community Pantry
DESCRIPTION:The Pantry is open to all households/residents of EH23\, anyone who lives in this Post Code area can apply to become members of the Pantry and ‘shop’ there once a week. Membership is limited to 1 person per household. Membership is free\, and weekly ‘shop’ costs £3.50 which is put back into buying stock into the Pantry the following week. Each member receives 10 credits for £3.50\, and these credits can be used to ‘spend’ on fresh\, ambient or store-cupboard ingredients. If available\, free bread will be offered\, and volunteers will make each member a bag of fresh fruit and veggies. \nThe Pantry is open to EVERYONE who lives in EH23. Pop along to the Beacon 3 until 5 on a Tuesday and we will sign you up and you can do your shop.
URL:https://gorebridge.org.uk/upcomingevents/gorebridge-community-pantry-3/2026-02-17/
LOCATION:Gorebridge Beacon
CATEGORIES:Beacon,GCDT
ATTACH;FMTTYPE=image/png:https://gorebridge.org.uk/wp-content/uploads/2023/07/Pantry-3000-copy.png
END:VEVENT
BEGIN:VEVENT
DTSTART;TZID=Europe/London:20260210T150000
DTEND;TZID=Europe/London:20260210T170000
DTSTAMP:20260423T203735
CREATED:20260107T223427Z
LAST-MODIFIED:20260107T223427Z
UID:14602-1770735600-1770742800@gorebridge.org.uk
SUMMARY:Gorebridge Community Pantry
DESCRIPTION:The Pantry is open to all households/residents of EH23\, anyone who lives in this Post Code area can apply to become members of the Pantry and ‘shop’ there once a week. Membership is limited to 1 person per household. Membership is free\, and weekly ‘shop’ costs £3.50 which is put back into buying stock into the Pantry the following week. Each member receives 10 credits for £3.50\, and these credits can be used to ‘spend’ on fresh\, ambient or store-cupboard ingredients. If available\, free bread will be offered\, and volunteers will make each member a bag of fresh fruit and veggies. \nThe Pantry is open to EVERYONE who lives in EH23. Pop along to the Beacon 3 until 5 on a Tuesday and we will sign you up and you can do your shop.
URL:https://gorebridge.org.uk/upcomingevents/gorebridge-community-pantry-3/2026-02-10/
LOCATION:Gorebridge Beacon
CATEGORIES:Beacon,GCDT
ATTACH;FMTTYPE=image/png:https://gorebridge.org.uk/wp-content/uploads/2023/07/Pantry-3000-copy.png
END:VEVENT
BEGIN:VEVENT
DTSTART;TZID=Europe/London:20260203T150000
DTEND;TZID=Europe/London:20260203T170000
DTSTAMP:20260423T203735
CREATED:20260107T223427Z
LAST-MODIFIED:20260107T223427Z
UID:14601-1770130800-1770138000@gorebridge.org.uk
SUMMARY:Gorebridge Community Pantry
DESCRIPTION:The Pantry is open to all households/residents of EH23\, anyone who lives in this Post Code area can apply to become members of the Pantry and ‘shop’ there once a week. Membership is limited to 1 person per household. Membership is free\, and weekly ‘shop’ costs £3.50 which is put back into buying stock into the Pantry the following week. Each member receives 10 credits for £3.50\, and these credits can be used to ‘spend’ on fresh\, ambient or store-cupboard ingredients. If available\, free bread will be offered\, and volunteers will make each member a bag of fresh fruit and veggies. \nThe Pantry is open to EVERYONE who lives in EH23. Pop along to the Beacon 3 until 5 on a Tuesday and we will sign you up and you can do your shop.
URL:https://gorebridge.org.uk/upcomingevents/gorebridge-community-pantry-3/2026-02-03/
LOCATION:Gorebridge Beacon
CATEGORIES:Beacon,GCDT
ATTACH;FMTTYPE=image/png:https://gorebridge.org.uk/wp-content/uploads/2023/07/Pantry-3000-copy.png
END:VEVENT
BEGIN:VEVENT
DTSTART;TZID=Europe/London:20260127T150000
DTEND;TZID=Europe/London:20260127T170000
DTSTAMP:20260423T203735
CREATED:20260107T223427Z
LAST-MODIFIED:20260107T223427Z
UID:14600-1769526000-1769533200@gorebridge.org.uk
SUMMARY:Gorebridge Community Pantry
DESCRIPTION:The Pantry is open to all households/residents of EH23\, anyone who lives in this Post Code area can apply to become members of the Pantry and ‘shop’ there once a week. Membership is limited to 1 person per household. Membership is free\, and weekly ‘shop’ costs £3.50 which is put back into buying stock into the Pantry the following week. Each member receives 10 credits for £3.50\, and these credits can be used to ‘spend’ on fresh\, ambient or store-cupboard ingredients. If available\, free bread will be offered\, and volunteers will make each member a bag of fresh fruit and veggies. \nThe Pantry is open to EVERYONE who lives in EH23. Pop along to the Beacon 3 until 5 on a Tuesday and we will sign you up and you can do your shop.
URL:https://gorebridge.org.uk/upcomingevents/gorebridge-community-pantry-3/2026-01-27/
LOCATION:Gorebridge Beacon
CATEGORIES:Beacon,GCDT
ATTACH;FMTTYPE=image/png:https://gorebridge.org.uk/wp-content/uploads/2023/07/Pantry-3000-copy.png
END:VEVENT
BEGIN:VEVENT
DTSTART;TZID=Europe/London:20260120T150000
DTEND;TZID=Europe/London:20260120T170000
DTSTAMP:20260423T203735
CREATED:20260107T223427Z
LAST-MODIFIED:20260107T223427Z
UID:14599-1768921200-1768928400@gorebridge.org.uk
SUMMARY:Gorebridge Community Pantry
DESCRIPTION:The Pantry is open to all households/residents of EH23\, anyone who lives in this Post Code area can apply to become members of the Pantry and ‘shop’ there once a week. Membership is limited to 1 person per household. Membership is free\, and weekly ‘shop’ costs £3.50 which is put back into buying stock into the Pantry the following week. Each member receives 10 credits for £3.50\, and these credits can be used to ‘spend’ on fresh\, ambient or store-cupboard ingredients. If available\, free bread will be offered\, and volunteers will make each member a bag of fresh fruit and veggies. \nThe Pantry is open to EVERYONE who lives in EH23. Pop along to the Beacon 3 until 5 on a Tuesday and we will sign you up and you can do your shop.
URL:https://gorebridge.org.uk/upcomingevents/gorebridge-community-pantry-3/2026-01-20/
LOCATION:Gorebridge Beacon
CATEGORIES:Beacon,GCDT
ATTACH;FMTTYPE=image/png:https://gorebridge.org.uk/wp-content/uploads/2023/07/Pantry-3000-copy.png
END:VEVENT
BEGIN:VEVENT
DTSTART;TZID=Europe/London:20260113T150000
DTEND;TZID=Europe/London:20260113T170000
DTSTAMP:20260423T203735
CREATED:20260107T223427Z
LAST-MODIFIED:20260107T223427Z
UID:14598-1768316400-1768323600@gorebridge.org.uk
SUMMARY:Gorebridge Community Pantry
DESCRIPTION:The Pantry is open to all households/residents of EH23\, anyone who lives in this Post Code area can apply to become members of the Pantry and ‘shop’ there once a week. Membership is limited to 1 person per household. Membership is free\, and weekly ‘shop’ costs £3.50 which is put back into buying stock into the Pantry the following week. Each member receives 10 credits for £3.50\, and these credits can be used to ‘spend’ on fresh\, ambient or store-cupboard ingredients. If available\, free bread will be offered\, and volunteers will make each member a bag of fresh fruit and veggies. \nThe Pantry is open to EVERYONE who lives in EH23. Pop along to the Beacon 3 until 5 on a Tuesday and we will sign you up and you can do your shop.
URL:https://gorebridge.org.uk/upcomingevents/gorebridge-community-pantry-3/2026-01-13/
LOCATION:Gorebridge Beacon
CATEGORIES:Beacon,GCDT
ATTACH;FMTTYPE=image/png:https://gorebridge.org.uk/wp-content/uploads/2023/07/Pantry-3000-copy.png
END:VEVENT
BEGIN:VEVENT
DTSTART;TZID=Europe/London:20260106T150000
DTEND;TZID=Europe/London:20260106T170000
DTSTAMP:20260423T203735
CREATED:20260107T223427Z
LAST-MODIFIED:20260107T223427Z
UID:14597-1767711600-1767718800@gorebridge.org.uk
SUMMARY:Gorebridge Community Pantry
DESCRIPTION:The Pantry is open to all households/residents of EH23\, anyone who lives in this Post Code area can apply to become members of the Pantry and ‘shop’ there once a week. Membership is limited to 1 person per household. Membership is free\, and weekly ‘shop’ costs £3.50 which is put back into buying stock into the Pantry the following week. Each member receives 10 credits for £3.50\, and these credits can be used to ‘spend’ on fresh\, ambient or store-cupboard ingredients. If available\, free bread will be offered\, and volunteers will make each member a bag of fresh fruit and veggies. \nThe Pantry is open to EVERYONE who lives in EH23. Pop along to the Beacon 3 until 5 on a Tuesday and we will sign you up and you can do your shop.
URL:https://gorebridge.org.uk/upcomingevents/gorebridge-community-pantry-3/2026-01-06/
LOCATION:Gorebridge Beacon
CATEGORIES:Beacon,GCDT
ATTACH;FMTTYPE=image/png:https://gorebridge.org.uk/wp-content/uploads/2023/07/Pantry-3000-copy.png
END:VEVENT
END:VCALENDAR