BEGIN:VCALENDAR
VERSION:2.0
PRODID:-//Gorebridge Community Development Trust - ECPv6.15.20//NONSGML v1.0//EN
CALSCALE:GREGORIAN
METHOD:PUBLISH
X-ORIGINAL-URL:https://gorebridge.org.uk
X-WR-CALDESC:Events for Gorebridge Community Development Trust
REFRESH-INTERVAL;VALUE=DURATION:PT1H
X-Robots-Tag:noindex
X-PUBLISHED-TTL:PT1H
BEGIN:VTIMEZONE
TZID:Europe/London
BEGIN:DAYLIGHT
TZOFFSETFROM:+0000
TZOFFSETTO:+0100
TZNAME:BST
DTSTART:20180325T010000
END:DAYLIGHT
BEGIN:STANDARD
TZOFFSETFROM:+0100
TZOFFSETTO:+0000
TZNAME:GMT
DTSTART:20181028T010000
END:STANDARD
BEGIN:DAYLIGHT
TZOFFSETFROM:+0000
TZOFFSETTO:+0100
TZNAME:BST
DTSTART:20190331T010000
END:DAYLIGHT
BEGIN:STANDARD
TZOFFSETFROM:+0100
TZOFFSETTO:+0000
TZNAME:GMT
DTSTART:20191027T010000
END:STANDARD
BEGIN:DAYLIGHT
TZOFFSETFROM:+0000
TZOFFSETTO:+0100
TZNAME:BST
DTSTART:20200329T010000
END:DAYLIGHT
BEGIN:STANDARD
TZOFFSETFROM:+0100
TZOFFSETTO:+0000
TZNAME:GMT
DTSTART:20201025T010000
END:STANDARD
END:VTIMEZONE
BEGIN:VEVENT
DTSTART;TZID=Europe/London:20191113T190000
DTEND;TZID=Europe/London:20191113T203000
DTSTAMP:20260424T094644
CREATED:20191112T172629Z
LAST-MODIFIED:20191112T172629Z
UID:4148-1573671600-1573677000@gorebridge.org.uk
SUMMARY:Gorebridge Photography Group
DESCRIPTION:The Gorebridge Photography Group is a fun get together that gives anyone\, with any level of experience the opportunity to meet others\, socialise\, take shoots and have photography outings. \nIt is a self led group which is fully supported by GCDT and meets at the Gorebridge Beacon on a Wednesday night 7 – 8PM and has a Facebook private group for you to join. \nThe aims of the group are really simple: \n\nOpen\, welcoming and inclusive: it doesn’t matter if you are complete novice or seasoned pro\, whether you shoot with your smartphone or camera. All are welcome and all can learn from each other.\nAffordable: the cost of the group at present is £1 – to cover the use of the Beacon. If money is tight and you would still like to come please contact us.\nFriendly and self led: the group is supported by GCDT and the group lead themselves in what to do each week\, where to meet to shot at weekends\, and you do not have to attend every single Wednesday evening to be part of it.\n\nJoin the group on Facebook. Get in touch if you want to know more.
URL:https://gorebridge.org.uk/upcomingevents/gorebridge-photography-group/2019-11-13/
CATEGORIES:Creative,GCDT,Gorebridge Beacon
ATTACH;FMTTYPE=image/png:https://gorebridge.org.uk/wp-content/uploads/2019/11/Gorebridge-Photography-Group.png
END:VEVENT
END:VCALENDAR