BEGIN:VCALENDAR
VERSION:2.0
PRODID:-//Gorebridge Community Development Trust - ECPv6.15.20//NONSGML v1.0//EN
CALSCALE:GREGORIAN
METHOD:PUBLISH
X-WR-CALNAME:Gorebridge Community Development Trust
X-ORIGINAL-URL:https://gorebridge.org.uk
X-WR-CALDESC:Events for Gorebridge Community Development Trust
REFRESH-INTERVAL;VALUE=DURATION:PT1H
X-Robots-Tag:noindex
X-PUBLISHED-TTL:PT1H
BEGIN:VTIMEZONE
TZID:Europe/London
BEGIN:DAYLIGHT
TZOFFSETFROM:+0000
TZOFFSETTO:+0100
TZNAME:BST
DTSTART:20240331T010000
END:DAYLIGHT
BEGIN:STANDARD
TZOFFSETFROM:+0100
TZOFFSETTO:+0000
TZNAME:GMT
DTSTART:20241027T010000
END:STANDARD
BEGIN:DAYLIGHT
TZOFFSETFROM:+0000
TZOFFSETTO:+0100
TZNAME:BST
DTSTART:20250330T010000
END:DAYLIGHT
BEGIN:STANDARD
TZOFFSETFROM:+0100
TZOFFSETTO:+0000
TZNAME:GMT
DTSTART:20251026T010000
END:STANDARD
BEGIN:DAYLIGHT
TZOFFSETFROM:+0000
TZOFFSETTO:+0100
TZNAME:BST
DTSTART:20260329T010000
END:DAYLIGHT
BEGIN:STANDARD
TZOFFSETFROM:+0100
TZOFFSETTO:+0000
TZNAME:GMT
DTSTART:20261025T010000
END:STANDARD
END:VTIMEZONE
BEGIN:VEVENT
DTSTART;TZID=Europe/London:20251222T173000
DTEND;TZID=Europe/London:20251222T210000
DTSTAMP:20260424T043431
CREATED:20250221T121807Z
LAST-MODIFIED:20250221T121807Z
UID:13081-1766424600-1766437200@gorebridge.org.uk
SUMMARY:Judo Heriot Wado-Kai
DESCRIPTION:Judo at the Beacon Monday and Thursday evenings. \nJuniors 5 – 8 years 5:30 – 6:30pm \nJuniors 9 – 12 years 6:30 – 7:30pm \nAdults 7:30 – 9:00pm \nFor more information please contact Paul Conner at heriotwadokai(at)gmail.com or call 07989 427390
URL:https://gorebridge.org.uk/upcomingevents/judo-heriot-wado-kai/2025-12-22/
LOCATION:Gorebridge Beacon
CATEGORIES:Beacon,Events
END:VEVENT
BEGIN:VEVENT
DTSTART;TZID=Europe/London:20251218T173000
DTEND;TZID=Europe/London:20251218T210000
DTSTAMP:20260424T043431
CREATED:20250221T121807Z
LAST-MODIFIED:20250221T121807Z
UID:13080-1766079000-1766091600@gorebridge.org.uk
SUMMARY:Judo Heriot Wado-Kai
DESCRIPTION:Judo at the Beacon Monday and Thursday evenings. \nJuniors 5 – 8 years 5:30 – 6:30pm \nJuniors 9 – 12 years 6:30 – 7:30pm \nAdults 7:30 – 9:00pm \nFor more information please contact Paul Conner at heriotwadokai(at)gmail.com or call 07989 427390
URL:https://gorebridge.org.uk/upcomingevents/judo-heriot-wado-kai/2025-12-18/
LOCATION:Gorebridge Beacon
CATEGORIES:Beacon,Events
END:VEVENT
BEGIN:VEVENT
DTSTART;TZID=Europe/London:20251215T173000
DTEND;TZID=Europe/London:20251215T210000
DTSTAMP:20260424T043431
CREATED:20250221T121807Z
LAST-MODIFIED:20250221T121807Z
UID:13079-1765819800-1765832400@gorebridge.org.uk
SUMMARY:Judo Heriot Wado-Kai
DESCRIPTION:Judo at the Beacon Monday and Thursday evenings. \nJuniors 5 – 8 years 5:30 – 6:30pm \nJuniors 9 – 12 years 6:30 – 7:30pm \nAdults 7:30 – 9:00pm \nFor more information please contact Paul Conner at heriotwadokai(at)gmail.com or call 07989 427390
URL:https://gorebridge.org.uk/upcomingevents/judo-heriot-wado-kai/2025-12-15/
LOCATION:Gorebridge Beacon
CATEGORIES:Beacon,Events
END:VEVENT
BEGIN:VEVENT
DTSTART;TZID=Europe/London:20251211T173000
DTEND;TZID=Europe/London:20251211T210000
DTSTAMP:20260424T043431
CREATED:20250221T121807Z
LAST-MODIFIED:20250221T121807Z
UID:13078-1765474200-1765486800@gorebridge.org.uk
SUMMARY:Judo Heriot Wado-Kai
DESCRIPTION:Judo at the Beacon Monday and Thursday evenings. \nJuniors 5 – 8 years 5:30 – 6:30pm \nJuniors 9 – 12 years 6:30 – 7:30pm \nAdults 7:30 – 9:00pm \nFor more information please contact Paul Conner at heriotwadokai(at)gmail.com or call 07989 427390
URL:https://gorebridge.org.uk/upcomingevents/judo-heriot-wado-kai/2025-12-11/
LOCATION:Gorebridge Beacon
CATEGORIES:Beacon,Events
END:VEVENT
BEGIN:VEVENT
DTSTART;TZID=Europe/London:20251208T173000
DTEND;TZID=Europe/London:20251208T210000
DTSTAMP:20260424T043431
CREATED:20250221T121807Z
LAST-MODIFIED:20250221T121807Z
UID:13077-1765215000-1765227600@gorebridge.org.uk
SUMMARY:Judo Heriot Wado-Kai
DESCRIPTION:Judo at the Beacon Monday and Thursday evenings. \nJuniors 5 – 8 years 5:30 – 6:30pm \nJuniors 9 – 12 years 6:30 – 7:30pm \nAdults 7:30 – 9:00pm \nFor more information please contact Paul Conner at heriotwadokai(at)gmail.com or call 07989 427390
URL:https://gorebridge.org.uk/upcomingevents/judo-heriot-wado-kai/2025-12-08/
LOCATION:Gorebridge Beacon
CATEGORIES:Beacon,Events
END:VEVENT
BEGIN:VEVENT
DTSTART;TZID=Europe/London:20251204T173000
DTEND;TZID=Europe/London:20251204T210000
DTSTAMP:20260424T043431
CREATED:20250221T121807Z
LAST-MODIFIED:20250221T121807Z
UID:13076-1764869400-1764882000@gorebridge.org.uk
SUMMARY:Judo Heriot Wado-Kai
DESCRIPTION:Judo at the Beacon Monday and Thursday evenings. \nJuniors 5 – 8 years 5:30 – 6:30pm \nJuniors 9 – 12 years 6:30 – 7:30pm \nAdults 7:30 – 9:00pm \nFor more information please contact Paul Conner at heriotwadokai(at)gmail.com or call 07989 427390
URL:https://gorebridge.org.uk/upcomingevents/judo-heriot-wado-kai/2025-12-04/
LOCATION:Gorebridge Beacon
CATEGORIES:Beacon,Events
END:VEVENT
BEGIN:VEVENT
DTSTART;TZID=Europe/London:20251201T173000
DTEND;TZID=Europe/London:20251201T210000
DTSTAMP:20260424T043431
CREATED:20250221T121807Z
LAST-MODIFIED:20250221T121807Z
UID:13075-1764610200-1764622800@gorebridge.org.uk
SUMMARY:Judo Heriot Wado-Kai
DESCRIPTION:Judo at the Beacon Monday and Thursday evenings. \nJuniors 5 – 8 years 5:30 – 6:30pm \nJuniors 9 – 12 years 6:30 – 7:30pm \nAdults 7:30 – 9:00pm \nFor more information please contact Paul Conner at heriotwadokai(at)gmail.com or call 07989 427390
URL:https://gorebridge.org.uk/upcomingevents/judo-heriot-wado-kai/2025-12-01/
LOCATION:Gorebridge Beacon
CATEGORIES:Beacon,Events
END:VEVENT
BEGIN:VEVENT
DTSTART;TZID=Europe/London:20251127T173000
DTEND;TZID=Europe/London:20251127T210000
DTSTAMP:20260424T043431
CREATED:20250221T121807Z
LAST-MODIFIED:20250221T121807Z
UID:13074-1764264600-1764277200@gorebridge.org.uk
SUMMARY:Judo Heriot Wado-Kai
DESCRIPTION:Judo at the Beacon Monday and Thursday evenings. \nJuniors 5 – 8 years 5:30 – 6:30pm \nJuniors 9 – 12 years 6:30 – 7:30pm \nAdults 7:30 – 9:00pm \nFor more information please contact Paul Conner at heriotwadokai(at)gmail.com or call 07989 427390
URL:https://gorebridge.org.uk/upcomingevents/judo-heriot-wado-kai/2025-11-27/
LOCATION:Gorebridge Beacon
CATEGORIES:Beacon,Events
END:VEVENT
BEGIN:VEVENT
DTSTART;TZID=Europe/London:20251124T173000
DTEND;TZID=Europe/London:20251124T210000
DTSTAMP:20260424T043431
CREATED:20250221T121807Z
LAST-MODIFIED:20250221T121807Z
UID:13073-1764005400-1764018000@gorebridge.org.uk
SUMMARY:Judo Heriot Wado-Kai
DESCRIPTION:Judo at the Beacon Monday and Thursday evenings. \nJuniors 5 – 8 years 5:30 – 6:30pm \nJuniors 9 – 12 years 6:30 – 7:30pm \nAdults 7:30 – 9:00pm \nFor more information please contact Paul Conner at heriotwadokai(at)gmail.com or call 07989 427390
URL:https://gorebridge.org.uk/upcomingevents/judo-heriot-wado-kai/2025-11-24/
LOCATION:Gorebridge Beacon
CATEGORIES:Beacon,Events
END:VEVENT
BEGIN:VEVENT
DTSTART;TZID=Europe/London:20251120T173000
DTEND;TZID=Europe/London:20251120T210000
DTSTAMP:20260424T043431
CREATED:20250221T121807Z
LAST-MODIFIED:20250221T121807Z
UID:13072-1763659800-1763672400@gorebridge.org.uk
SUMMARY:Judo Heriot Wado-Kai
DESCRIPTION:Judo at the Beacon Monday and Thursday evenings. \nJuniors 5 – 8 years 5:30 – 6:30pm \nJuniors 9 – 12 years 6:30 – 7:30pm \nAdults 7:30 – 9:00pm \nFor more information please contact Paul Conner at heriotwadokai(at)gmail.com or call 07989 427390
URL:https://gorebridge.org.uk/upcomingevents/judo-heriot-wado-kai/2025-11-20/
LOCATION:Gorebridge Beacon
CATEGORIES:Beacon,Events
END:VEVENT
BEGIN:VEVENT
DTSTART;TZID=Europe/London:20251117T173000
DTEND;TZID=Europe/London:20251117T210000
DTSTAMP:20260424T043431
CREATED:20250221T121807Z
LAST-MODIFIED:20250221T121807Z
UID:13071-1763400600-1763413200@gorebridge.org.uk
SUMMARY:Judo Heriot Wado-Kai
DESCRIPTION:Judo at the Beacon Monday and Thursday evenings. \nJuniors 5 – 8 years 5:30 – 6:30pm \nJuniors 9 – 12 years 6:30 – 7:30pm \nAdults 7:30 – 9:00pm \nFor more information please contact Paul Conner at heriotwadokai(at)gmail.com or call 07989 427390
URL:https://gorebridge.org.uk/upcomingevents/judo-heriot-wado-kai/2025-11-17/
LOCATION:Gorebridge Beacon
CATEGORIES:Beacon,Events
END:VEVENT
BEGIN:VEVENT
DTSTART;TZID=Europe/London:20251113T173000
DTEND;TZID=Europe/London:20251113T210000
DTSTAMP:20260424T043431
CREATED:20250221T121807Z
LAST-MODIFIED:20250221T121807Z
UID:13070-1763055000-1763067600@gorebridge.org.uk
SUMMARY:Judo Heriot Wado-Kai
DESCRIPTION:Judo at the Beacon Monday and Thursday evenings. \nJuniors 5 – 8 years 5:30 – 6:30pm \nJuniors 9 – 12 years 6:30 – 7:30pm \nAdults 7:30 – 9:00pm \nFor more information please contact Paul Conner at heriotwadokai(at)gmail.com or call 07989 427390
URL:https://gorebridge.org.uk/upcomingevents/judo-heriot-wado-kai/2025-11-13/
LOCATION:Gorebridge Beacon
CATEGORIES:Beacon,Events
END:VEVENT
BEGIN:VEVENT
DTSTART;TZID=Europe/London:20251110T173000
DTEND;TZID=Europe/London:20251110T210000
DTSTAMP:20260424T043431
CREATED:20250221T121807Z
LAST-MODIFIED:20250221T121807Z
UID:13069-1762795800-1762808400@gorebridge.org.uk
SUMMARY:Judo Heriot Wado-Kai
DESCRIPTION:Judo at the Beacon Monday and Thursday evenings. \nJuniors 5 – 8 years 5:30 – 6:30pm \nJuniors 9 – 12 years 6:30 – 7:30pm \nAdults 7:30 – 9:00pm \nFor more information please contact Paul Conner at heriotwadokai(at)gmail.com or call 07989 427390
URL:https://gorebridge.org.uk/upcomingevents/judo-heriot-wado-kai/2025-11-10/
LOCATION:Gorebridge Beacon
CATEGORIES:Beacon,Events
END:VEVENT
BEGIN:VEVENT
DTSTART;TZID=Europe/London:20251106T173000
DTEND;TZID=Europe/London:20251106T210000
DTSTAMP:20260424T043431
CREATED:20250221T121807Z
LAST-MODIFIED:20250221T121807Z
UID:13068-1762450200-1762462800@gorebridge.org.uk
SUMMARY:Judo Heriot Wado-Kai
DESCRIPTION:Judo at the Beacon Monday and Thursday evenings. \nJuniors 5 – 8 years 5:30 – 6:30pm \nJuniors 9 – 12 years 6:30 – 7:30pm \nAdults 7:30 – 9:00pm \nFor more information please contact Paul Conner at heriotwadokai(at)gmail.com or call 07989 427390
URL:https://gorebridge.org.uk/upcomingevents/judo-heriot-wado-kai/2025-11-06/
LOCATION:Gorebridge Beacon
CATEGORIES:Beacon,Events
END:VEVENT
BEGIN:VEVENT
DTSTART;TZID=Europe/London:20251103T173000
DTEND;TZID=Europe/London:20251103T210000
DTSTAMP:20260424T043431
CREATED:20250221T121807Z
LAST-MODIFIED:20250221T121807Z
UID:13067-1762191000-1762203600@gorebridge.org.uk
SUMMARY:Judo Heriot Wado-Kai
DESCRIPTION:Judo at the Beacon Monday and Thursday evenings. \nJuniors 5 – 8 years 5:30 – 6:30pm \nJuniors 9 – 12 years 6:30 – 7:30pm \nAdults 7:30 – 9:00pm \nFor more information please contact Paul Conner at heriotwadokai(at)gmail.com or call 07989 427390
URL:https://gorebridge.org.uk/upcomingevents/judo-heriot-wado-kai/2025-11-03/
LOCATION:Gorebridge Beacon
CATEGORIES:Beacon,Events
END:VEVENT
BEGIN:VEVENT
DTSTART;TZID=Europe/London:20251030T173000
DTEND;TZID=Europe/London:20251030T210000
DTSTAMP:20260424T043431
CREATED:20250221T121807Z
LAST-MODIFIED:20250221T121807Z
UID:13066-1761845400-1761858000@gorebridge.org.uk
SUMMARY:Judo Heriot Wado-Kai
DESCRIPTION:Judo at the Beacon Monday and Thursday evenings. \nJuniors 5 – 8 years 5:30 – 6:30pm \nJuniors 9 – 12 years 6:30 – 7:30pm \nAdults 7:30 – 9:00pm \nFor more information please contact Paul Conner at heriotwadokai(at)gmail.com or call 07989 427390
URL:https://gorebridge.org.uk/upcomingevents/judo-heriot-wado-kai/2025-10-30/
LOCATION:Gorebridge Beacon
CATEGORIES:Beacon,Events
END:VEVENT
BEGIN:VEVENT
DTSTART;TZID=Europe/London:20251027T173000
DTEND;TZID=Europe/London:20251027T210000
DTSTAMP:20260424T043431
CREATED:20250221T121807Z
LAST-MODIFIED:20250221T121807Z
UID:13065-1761586200-1761598800@gorebridge.org.uk
SUMMARY:Judo Heriot Wado-Kai
DESCRIPTION:Judo at the Beacon Monday and Thursday evenings. \nJuniors 5 – 8 years 5:30 – 6:30pm \nJuniors 9 – 12 years 6:30 – 7:30pm \nAdults 7:30 – 9:00pm \nFor more information please contact Paul Conner at heriotwadokai(at)gmail.com or call 07989 427390
URL:https://gorebridge.org.uk/upcomingevents/judo-heriot-wado-kai/2025-10-27/
LOCATION:Gorebridge Beacon
CATEGORIES:Beacon,Events
END:VEVENT
BEGIN:VEVENT
DTSTART;TZID=Europe/London:20251023T173000
DTEND;TZID=Europe/London:20251023T210000
DTSTAMP:20260424T043431
CREATED:20250221T121807Z
LAST-MODIFIED:20250221T121807Z
UID:13064-1761240600-1761253200@gorebridge.org.uk
SUMMARY:Judo Heriot Wado-Kai
DESCRIPTION:Judo at the Beacon Monday and Thursday evenings. \nJuniors 5 – 8 years 5:30 – 6:30pm \nJuniors 9 – 12 years 6:30 – 7:30pm \nAdults 7:30 – 9:00pm \nFor more information please contact Paul Conner at heriotwadokai(at)gmail.com or call 07989 427390
URL:https://gorebridge.org.uk/upcomingevents/judo-heriot-wado-kai/2025-10-23/
LOCATION:Gorebridge Beacon
CATEGORIES:Beacon,Events
END:VEVENT
BEGIN:VEVENT
DTSTART;TZID=Europe/London:20251020T173000
DTEND;TZID=Europe/London:20251020T210000
DTSTAMP:20260424T043431
CREATED:20250221T121807Z
LAST-MODIFIED:20250221T121807Z
UID:13063-1760981400-1760994000@gorebridge.org.uk
SUMMARY:Judo Heriot Wado-Kai
DESCRIPTION:Judo at the Beacon Monday and Thursday evenings. \nJuniors 5 – 8 years 5:30 – 6:30pm \nJuniors 9 – 12 years 6:30 – 7:30pm \nAdults 7:30 – 9:00pm \nFor more information please contact Paul Conner at heriotwadokai(at)gmail.com or call 07989 427390
URL:https://gorebridge.org.uk/upcomingevents/judo-heriot-wado-kai/2025-10-20/
LOCATION:Gorebridge Beacon
CATEGORIES:Beacon,Events
END:VEVENT
BEGIN:VEVENT
DTSTART;TZID=Europe/London:20251016T173000
DTEND;TZID=Europe/London:20251016T210000
DTSTAMP:20260424T043431
CREATED:20250221T121807Z
LAST-MODIFIED:20250221T121807Z
UID:13062-1760635800-1760648400@gorebridge.org.uk
SUMMARY:Judo Heriot Wado-Kai
DESCRIPTION:Judo at the Beacon Monday and Thursday evenings. \nJuniors 5 – 8 years 5:30 – 6:30pm \nJuniors 9 – 12 years 6:30 – 7:30pm \nAdults 7:30 – 9:00pm \nFor more information please contact Paul Conner at heriotwadokai(at)gmail.com or call 07989 427390
URL:https://gorebridge.org.uk/upcomingevents/judo-heriot-wado-kai/2025-10-16/
LOCATION:Gorebridge Beacon
CATEGORIES:Beacon,Events
END:VEVENT
BEGIN:VEVENT
DTSTART;TZID=Europe/London:20251013T173000
DTEND;TZID=Europe/London:20251013T210000
DTSTAMP:20260424T043431
CREATED:20250221T121807Z
LAST-MODIFIED:20250221T121807Z
UID:13061-1760376600-1760389200@gorebridge.org.uk
SUMMARY:Judo Heriot Wado-Kai
DESCRIPTION:Judo at the Beacon Monday and Thursday evenings. \nJuniors 5 – 8 years 5:30 – 6:30pm \nJuniors 9 – 12 years 6:30 – 7:30pm \nAdults 7:30 – 9:00pm \nFor more information please contact Paul Conner at heriotwadokai(at)gmail.com or call 07989 427390
URL:https://gorebridge.org.uk/upcomingevents/judo-heriot-wado-kai/2025-10-13/
LOCATION:Gorebridge Beacon
CATEGORIES:Beacon,Events
END:VEVENT
BEGIN:VEVENT
DTSTART;TZID=Europe/London:20251009T173000
DTEND;TZID=Europe/London:20251009T210000
DTSTAMP:20260424T043431
CREATED:20250221T121807Z
LAST-MODIFIED:20250221T121807Z
UID:13060-1760031000-1760043600@gorebridge.org.uk
SUMMARY:Judo Heriot Wado-Kai
DESCRIPTION:Judo at the Beacon Monday and Thursday evenings. \nJuniors 5 – 8 years 5:30 – 6:30pm \nJuniors 9 – 12 years 6:30 – 7:30pm \nAdults 7:30 – 9:00pm \nFor more information please contact Paul Conner at heriotwadokai(at)gmail.com or call 07989 427390
URL:https://gorebridge.org.uk/upcomingevents/judo-heriot-wado-kai/2025-10-09/
LOCATION:Gorebridge Beacon
CATEGORIES:Beacon,Events
END:VEVENT
BEGIN:VEVENT
DTSTART;TZID=Europe/London:20251006T173000
DTEND;TZID=Europe/London:20251006T210000
DTSTAMP:20260424T043431
CREATED:20250221T121807Z
LAST-MODIFIED:20250221T121807Z
UID:13059-1759771800-1759784400@gorebridge.org.uk
SUMMARY:Judo Heriot Wado-Kai
DESCRIPTION:Judo at the Beacon Monday and Thursday evenings. \nJuniors 5 – 8 years 5:30 – 6:30pm \nJuniors 9 – 12 years 6:30 – 7:30pm \nAdults 7:30 – 9:00pm \nFor more information please contact Paul Conner at heriotwadokai(at)gmail.com or call 07989 427390
URL:https://gorebridge.org.uk/upcomingevents/judo-heriot-wado-kai/2025-10-06/
LOCATION:Gorebridge Beacon
CATEGORIES:Beacon,Events
END:VEVENT
BEGIN:VEVENT
DTSTART;TZID=Europe/London:20251002T173000
DTEND;TZID=Europe/London:20251002T210000
DTSTAMP:20260424T043431
CREATED:20250221T121807Z
LAST-MODIFIED:20250221T121807Z
UID:13058-1759426200-1759438800@gorebridge.org.uk
SUMMARY:Judo Heriot Wado-Kai
DESCRIPTION:Judo at the Beacon Monday and Thursday evenings. \nJuniors 5 – 8 years 5:30 – 6:30pm \nJuniors 9 – 12 years 6:30 – 7:30pm \nAdults 7:30 – 9:00pm \nFor more information please contact Paul Conner at heriotwadokai(at)gmail.com or call 07989 427390
URL:https://gorebridge.org.uk/upcomingevents/judo-heriot-wado-kai/2025-10-02/
LOCATION:Gorebridge Beacon
CATEGORIES:Beacon,Events
END:VEVENT
BEGIN:VEVENT
DTSTART;TZID=Europe/London:20250929T173000
DTEND;TZID=Europe/London:20250929T210000
DTSTAMP:20260424T043431
CREATED:20250221T121807Z
LAST-MODIFIED:20250221T121807Z
UID:13057-1759167000-1759179600@gorebridge.org.uk
SUMMARY:Judo Heriot Wado-Kai
DESCRIPTION:Judo at the Beacon Monday and Thursday evenings. \nJuniors 5 – 8 years 5:30 – 6:30pm \nJuniors 9 – 12 years 6:30 – 7:30pm \nAdults 7:30 – 9:00pm \nFor more information please contact Paul Conner at heriotwadokai(at)gmail.com or call 07989 427390
URL:https://gorebridge.org.uk/upcomingevents/judo-heriot-wado-kai/2025-09-29/
LOCATION:Gorebridge Beacon
CATEGORIES:Beacon,Events
END:VEVENT
BEGIN:VEVENT
DTSTART;TZID=Europe/London:20250925T173000
DTEND;TZID=Europe/London:20250925T210000
DTSTAMP:20260424T043431
CREATED:20250221T121807Z
LAST-MODIFIED:20250221T121807Z
UID:13056-1758821400-1758834000@gorebridge.org.uk
SUMMARY:Judo Heriot Wado-Kai
DESCRIPTION:Judo at the Beacon Monday and Thursday evenings. \nJuniors 5 – 8 years 5:30 – 6:30pm \nJuniors 9 – 12 years 6:30 – 7:30pm \nAdults 7:30 – 9:00pm \nFor more information please contact Paul Conner at heriotwadokai(at)gmail.com or call 07989 427390
URL:https://gorebridge.org.uk/upcomingevents/judo-heriot-wado-kai/2025-09-25/
LOCATION:Gorebridge Beacon
CATEGORIES:Beacon,Events
END:VEVENT
BEGIN:VEVENT
DTSTART;TZID=Europe/London:20250922T173000
DTEND;TZID=Europe/London:20250922T210000
DTSTAMP:20260424T043431
CREATED:20250221T121807Z
LAST-MODIFIED:20250221T121807Z
UID:13055-1758562200-1758574800@gorebridge.org.uk
SUMMARY:Judo Heriot Wado-Kai
DESCRIPTION:Judo at the Beacon Monday and Thursday evenings. \nJuniors 5 – 8 years 5:30 – 6:30pm \nJuniors 9 – 12 years 6:30 – 7:30pm \nAdults 7:30 – 9:00pm \nFor more information please contact Paul Conner at heriotwadokai(at)gmail.com or call 07989 427390
URL:https://gorebridge.org.uk/upcomingevents/judo-heriot-wado-kai/2025-09-22/
LOCATION:Gorebridge Beacon
CATEGORIES:Beacon,Events
END:VEVENT
BEGIN:VEVENT
DTSTART;TZID=Europe/London:20250918T173000
DTEND;TZID=Europe/London:20250918T210000
DTSTAMP:20260424T043431
CREATED:20250221T121807Z
LAST-MODIFIED:20250221T121807Z
UID:13054-1758216600-1758229200@gorebridge.org.uk
SUMMARY:Judo Heriot Wado-Kai
DESCRIPTION:Judo at the Beacon Monday and Thursday evenings. \nJuniors 5 – 8 years 5:30 – 6:30pm \nJuniors 9 – 12 years 6:30 – 7:30pm \nAdults 7:30 – 9:00pm \nFor more information please contact Paul Conner at heriotwadokai(at)gmail.com or call 07989 427390
URL:https://gorebridge.org.uk/upcomingevents/judo-heriot-wado-kai/2025-09-18/
LOCATION:Gorebridge Beacon
CATEGORIES:Beacon,Events
END:VEVENT
BEGIN:VEVENT
DTSTART;TZID=Europe/London:20250915T173000
DTEND;TZID=Europe/London:20250915T210000
DTSTAMP:20260424T043431
CREATED:20250221T121807Z
LAST-MODIFIED:20250221T121807Z
UID:13053-1757957400-1757970000@gorebridge.org.uk
SUMMARY:Judo Heriot Wado-Kai
DESCRIPTION:Judo at the Beacon Monday and Thursday evenings. \nJuniors 5 – 8 years 5:30 – 6:30pm \nJuniors 9 – 12 years 6:30 – 7:30pm \nAdults 7:30 – 9:00pm \nFor more information please contact Paul Conner at heriotwadokai(at)gmail.com or call 07989 427390
URL:https://gorebridge.org.uk/upcomingevents/judo-heriot-wado-kai/2025-09-15/
LOCATION:Gorebridge Beacon
CATEGORIES:Beacon,Events
END:VEVENT
BEGIN:VEVENT
DTSTART;TZID=Europe/London:20250911T173000
DTEND;TZID=Europe/London:20250911T210000
DTSTAMP:20260424T043431
CREATED:20250221T121807Z
LAST-MODIFIED:20250221T121807Z
UID:13052-1757611800-1757624400@gorebridge.org.uk
SUMMARY:Judo Heriot Wado-Kai
DESCRIPTION:Judo at the Beacon Monday and Thursday evenings. \nJuniors 5 – 8 years 5:30 – 6:30pm \nJuniors 9 – 12 years 6:30 – 7:30pm \nAdults 7:30 – 9:00pm \nFor more information please contact Paul Conner at heriotwadokai(at)gmail.com or call 07989 427390
URL:https://gorebridge.org.uk/upcomingevents/judo-heriot-wado-kai/2025-09-11/
LOCATION:Gorebridge Beacon
CATEGORIES:Beacon,Events
END:VEVENT
END:VCALENDAR