BEGIN:VCALENDAR
VERSION:2.0
PRODID:-//Gorebridge Community Development Trust - ECPv6.15.20//NONSGML v1.0//EN
CALSCALE:GREGORIAN
METHOD:PUBLISH
X-ORIGINAL-URL:https://gorebridge.org.uk
X-WR-CALDESC:Events for Gorebridge Community Development Trust
REFRESH-INTERVAL;VALUE=DURATION:PT1H
X-Robots-Tag:noindex
X-PUBLISHED-TTL:PT1H
BEGIN:VTIMEZONE
TZID:Europe/London
BEGIN:DAYLIGHT
TZOFFSETFROM:+0000
TZOFFSETTO:+0100
TZNAME:BST
DTSTART:20240331T010000
END:DAYLIGHT
BEGIN:STANDARD
TZOFFSETFROM:+0100
TZOFFSETTO:+0000
TZNAME:GMT
DTSTART:20241027T010000
END:STANDARD
BEGIN:DAYLIGHT
TZOFFSETFROM:+0000
TZOFFSETTO:+0100
TZNAME:BST
DTSTART:20250330T010000
END:DAYLIGHT
BEGIN:STANDARD
TZOFFSETFROM:+0100
TZOFFSETTO:+0000
TZNAME:GMT
DTSTART:20251026T010000
END:STANDARD
BEGIN:DAYLIGHT
TZOFFSETFROM:+0000
TZOFFSETTO:+0100
TZNAME:BST
DTSTART:20260329T010000
END:DAYLIGHT
BEGIN:STANDARD
TZOFFSETFROM:+0100
TZOFFSETTO:+0000
TZNAME:GMT
DTSTART:20261025T010000
END:STANDARD
END:VTIMEZONE
BEGIN:VEVENT
DTSTART;TZID=Europe/London:20251220T090000
DTEND;TZID=Europe/London:20251220T120000
DTSTAMP:20260424T052446
CREATED:20250221T133434Z
LAST-MODIFIED:20250221T133434Z
UID:13403-1766221200-1766232000@gorebridge.org.uk
SUMMARY:Judo
DESCRIPTION:Sportif Judo aim is to create a friendly\, positive environment for people to learn judo and ultimately to create confident\, respectful and skillful judo players and athletes. Sportif Judo’s club moto is “Judo builds people” and the entire ethos and development of Sportif is built around this simple philosophy. Children’s classes run at the Beacon on a Saturday morning. For more information please contact Hanna on Mbl: 07907 308876
URL:https://gorebridge.org.uk/upcomingevents/judo/2025-12-20/
CATEGORIES:Beacon,Events
END:VEVENT
BEGIN:VEVENT
DTSTART;TZID=Europe/London:20251213T090000
DTEND;TZID=Europe/London:20251213T120000
DTSTAMP:20260424T052446
CREATED:20250221T133434Z
LAST-MODIFIED:20250221T133434Z
UID:13402-1765616400-1765627200@gorebridge.org.uk
SUMMARY:Judo
DESCRIPTION:Sportif Judo aim is to create a friendly\, positive environment for people to learn judo and ultimately to create confident\, respectful and skillful judo players and athletes. Sportif Judo’s club moto is “Judo builds people” and the entire ethos and development of Sportif is built around this simple philosophy. Children’s classes run at the Beacon on a Saturday morning. For more information please contact Hanna on Mbl: 07907 308876
URL:https://gorebridge.org.uk/upcomingevents/judo/2025-12-13/
CATEGORIES:Beacon,Events
END:VEVENT
BEGIN:VEVENT
DTSTART;TZID=Europe/London:20251206T090000
DTEND;TZID=Europe/London:20251206T120000
DTSTAMP:20260424T052446
CREATED:20250221T133434Z
LAST-MODIFIED:20250221T133434Z
UID:13401-1765011600-1765022400@gorebridge.org.uk
SUMMARY:Judo
DESCRIPTION:Sportif Judo aim is to create a friendly\, positive environment for people to learn judo and ultimately to create confident\, respectful and skillful judo players and athletes. Sportif Judo’s club moto is “Judo builds people” and the entire ethos and development of Sportif is built around this simple philosophy. Children’s classes run at the Beacon on a Saturday morning. For more information please contact Hanna on Mbl: 07907 308876
URL:https://gorebridge.org.uk/upcomingevents/judo/2025-12-06/
CATEGORIES:Beacon,Events
END:VEVENT
BEGIN:VEVENT
DTSTART;TZID=Europe/London:20251129T090000
DTEND;TZID=Europe/London:20251129T120000
DTSTAMP:20260424T052446
CREATED:20250221T133434Z
LAST-MODIFIED:20250221T133434Z
UID:13400-1764406800-1764417600@gorebridge.org.uk
SUMMARY:Judo
DESCRIPTION:Sportif Judo aim is to create a friendly\, positive environment for people to learn judo and ultimately to create confident\, respectful and skillful judo players and athletes. Sportif Judo’s club moto is “Judo builds people” and the entire ethos and development of Sportif is built around this simple philosophy. Children’s classes run at the Beacon on a Saturday morning. For more information please contact Hanna on Mbl: 07907 308876
URL:https://gorebridge.org.uk/upcomingevents/judo/2025-11-29/
CATEGORIES:Beacon,Events
END:VEVENT
BEGIN:VEVENT
DTSTART;TZID=Europe/London:20251122T090000
DTEND;TZID=Europe/London:20251122T120000
DTSTAMP:20260424T052446
CREATED:20250221T133434Z
LAST-MODIFIED:20250221T133434Z
UID:13399-1763802000-1763812800@gorebridge.org.uk
SUMMARY:Judo
DESCRIPTION:Sportif Judo aim is to create a friendly\, positive environment for people to learn judo and ultimately to create confident\, respectful and skillful judo players and athletes. Sportif Judo’s club moto is “Judo builds people” and the entire ethos and development of Sportif is built around this simple philosophy. Children’s classes run at the Beacon on a Saturday morning. For more information please contact Hanna on Mbl: 07907 308876
URL:https://gorebridge.org.uk/upcomingevents/judo/2025-11-22/
CATEGORIES:Beacon,Events
END:VEVENT
BEGIN:VEVENT
DTSTART;TZID=Europe/London:20251115T090000
DTEND;TZID=Europe/London:20251115T120000
DTSTAMP:20260424T052446
CREATED:20250221T133434Z
LAST-MODIFIED:20250221T133434Z
UID:13398-1763197200-1763208000@gorebridge.org.uk
SUMMARY:Judo
DESCRIPTION:Sportif Judo aim is to create a friendly\, positive environment for people to learn judo and ultimately to create confident\, respectful and skillful judo players and athletes. Sportif Judo’s club moto is “Judo builds people” and the entire ethos and development of Sportif is built around this simple philosophy. Children’s classes run at the Beacon on a Saturday morning. For more information please contact Hanna on Mbl: 07907 308876
URL:https://gorebridge.org.uk/upcomingevents/judo/2025-11-15/
CATEGORIES:Beacon,Events
END:VEVENT
BEGIN:VEVENT
DTSTART;TZID=Europe/London:20251108T090000
DTEND;TZID=Europe/London:20251108T120000
DTSTAMP:20260424T052446
CREATED:20250221T133434Z
LAST-MODIFIED:20250221T133434Z
UID:13397-1762592400-1762603200@gorebridge.org.uk
SUMMARY:Judo
DESCRIPTION:Sportif Judo aim is to create a friendly\, positive environment for people to learn judo and ultimately to create confident\, respectful and skillful judo players and athletes. Sportif Judo’s club moto is “Judo builds people” and the entire ethos and development of Sportif is built around this simple philosophy. Children’s classes run at the Beacon on a Saturday morning. For more information please contact Hanna on Mbl: 07907 308876
URL:https://gorebridge.org.uk/upcomingevents/judo/2025-11-08/
CATEGORIES:Beacon,Events
END:VEVENT
BEGIN:VEVENT
DTSTART;TZID=Europe/London:20251101T090000
DTEND;TZID=Europe/London:20251101T120000
DTSTAMP:20260424T052446
CREATED:20250221T133434Z
LAST-MODIFIED:20250221T133434Z
UID:13396-1761987600-1761998400@gorebridge.org.uk
SUMMARY:Judo
DESCRIPTION:Sportif Judo aim is to create a friendly\, positive environment for people to learn judo and ultimately to create confident\, respectful and skillful judo players and athletes. Sportif Judo’s club moto is “Judo builds people” and the entire ethos and development of Sportif is built around this simple philosophy. Children’s classes run at the Beacon on a Saturday morning. For more information please contact Hanna on Mbl: 07907 308876
URL:https://gorebridge.org.uk/upcomingevents/judo/2025-11-01/
CATEGORIES:Beacon,Events
END:VEVENT
BEGIN:VEVENT
DTSTART;TZID=Europe/London:20251025T090000
DTEND;TZID=Europe/London:20251025T120000
DTSTAMP:20260424T052446
CREATED:20250221T133434Z
LAST-MODIFIED:20250221T133434Z
UID:13395-1761382800-1761393600@gorebridge.org.uk
SUMMARY:Judo
DESCRIPTION:Sportif Judo aim is to create a friendly\, positive environment for people to learn judo and ultimately to create confident\, respectful and skillful judo players and athletes. Sportif Judo’s club moto is “Judo builds people” and the entire ethos and development of Sportif is built around this simple philosophy. Children’s classes run at the Beacon on a Saturday morning. For more information please contact Hanna on Mbl: 07907 308876
URL:https://gorebridge.org.uk/upcomingevents/judo/2025-10-25/
CATEGORIES:Beacon,Events
END:VEVENT
BEGIN:VEVENT
DTSTART;TZID=Europe/London:20251018T090000
DTEND;TZID=Europe/London:20251018T120000
DTSTAMP:20260424T052446
CREATED:20250221T133434Z
LAST-MODIFIED:20250221T133434Z
UID:13394-1760778000-1760788800@gorebridge.org.uk
SUMMARY:Judo
DESCRIPTION:Sportif Judo aim is to create a friendly\, positive environment for people to learn judo and ultimately to create confident\, respectful and skillful judo players and athletes. Sportif Judo’s club moto is “Judo builds people” and the entire ethos and development of Sportif is built around this simple philosophy. Children’s classes run at the Beacon on a Saturday morning. For more information please contact Hanna on Mbl: 07907 308876
URL:https://gorebridge.org.uk/upcomingevents/judo/2025-10-18/
CATEGORIES:Beacon,Events
END:VEVENT
BEGIN:VEVENT
DTSTART;TZID=Europe/London:20251011T090000
DTEND;TZID=Europe/London:20251011T120000
DTSTAMP:20260424T052446
CREATED:20250221T133434Z
LAST-MODIFIED:20250221T133434Z
UID:13393-1760173200-1760184000@gorebridge.org.uk
SUMMARY:Judo
DESCRIPTION:Sportif Judo aim is to create a friendly\, positive environment for people to learn judo and ultimately to create confident\, respectful and skillful judo players and athletes. Sportif Judo’s club moto is “Judo builds people” and the entire ethos and development of Sportif is built around this simple philosophy. Children’s classes run at the Beacon on a Saturday morning. For more information please contact Hanna on Mbl: 07907 308876
URL:https://gorebridge.org.uk/upcomingevents/judo/2025-10-11/
CATEGORIES:Beacon,Events
END:VEVENT
BEGIN:VEVENT
DTSTART;TZID=Europe/London:20251004T090000
DTEND;TZID=Europe/London:20251004T120000
DTSTAMP:20260424T052446
CREATED:20250221T133434Z
LAST-MODIFIED:20250221T133434Z
UID:13392-1759568400-1759579200@gorebridge.org.uk
SUMMARY:Judo
DESCRIPTION:Sportif Judo aim is to create a friendly\, positive environment for people to learn judo and ultimately to create confident\, respectful and skillful judo players and athletes. Sportif Judo’s club moto is “Judo builds people” and the entire ethos and development of Sportif is built around this simple philosophy. Children’s classes run at the Beacon on a Saturday morning. For more information please contact Hanna on Mbl: 07907 308876
URL:https://gorebridge.org.uk/upcomingevents/judo/2025-10-04/
CATEGORIES:Beacon,Events
END:VEVENT
BEGIN:VEVENT
DTSTART;TZID=Europe/London:20250927T090000
DTEND;TZID=Europe/London:20250927T120000
DTSTAMP:20260424T052446
CREATED:20250221T133434Z
LAST-MODIFIED:20250221T133434Z
UID:13391-1758963600-1758974400@gorebridge.org.uk
SUMMARY:Judo
DESCRIPTION:Sportif Judo aim is to create a friendly\, positive environment for people to learn judo and ultimately to create confident\, respectful and skillful judo players and athletes. Sportif Judo’s club moto is “Judo builds people” and the entire ethos and development of Sportif is built around this simple philosophy. Children’s classes run at the Beacon on a Saturday morning. For more information please contact Hanna on Mbl: 07907 308876
URL:https://gorebridge.org.uk/upcomingevents/judo/2025-09-27/
CATEGORIES:Beacon,Events
END:VEVENT
BEGIN:VEVENT
DTSTART;TZID=Europe/London:20250920T090000
DTEND;TZID=Europe/London:20250920T120000
DTSTAMP:20260424T052446
CREATED:20250221T133434Z
LAST-MODIFIED:20250221T133434Z
UID:13390-1758358800-1758369600@gorebridge.org.uk
SUMMARY:Judo
DESCRIPTION:Sportif Judo aim is to create a friendly\, positive environment for people to learn judo and ultimately to create confident\, respectful and skillful judo players and athletes. Sportif Judo’s club moto is “Judo builds people” and the entire ethos and development of Sportif is built around this simple philosophy. Children’s classes run at the Beacon on a Saturday morning. For more information please contact Hanna on Mbl: 07907 308876
URL:https://gorebridge.org.uk/upcomingevents/judo/2025-09-20/
CATEGORIES:Beacon,Events
END:VEVENT
BEGIN:VEVENT
DTSTART;TZID=Europe/London:20250913T090000
DTEND;TZID=Europe/London:20250913T120000
DTSTAMP:20260424T052446
CREATED:20250221T133434Z
LAST-MODIFIED:20250221T133434Z
UID:13389-1757754000-1757764800@gorebridge.org.uk
SUMMARY:Judo
DESCRIPTION:Sportif Judo aim is to create a friendly\, positive environment for people to learn judo and ultimately to create confident\, respectful and skillful judo players and athletes. Sportif Judo’s club moto is “Judo builds people” and the entire ethos and development of Sportif is built around this simple philosophy. Children’s classes run at the Beacon on a Saturday morning. For more information please contact Hanna on Mbl: 07907 308876
URL:https://gorebridge.org.uk/upcomingevents/judo/2025-09-13/
CATEGORIES:Beacon,Events
END:VEVENT
BEGIN:VEVENT
DTSTART;TZID=Europe/London:20250906T090000
DTEND;TZID=Europe/London:20250906T120000
DTSTAMP:20260424T052446
CREATED:20250221T133434Z
LAST-MODIFIED:20250221T133434Z
UID:13388-1757149200-1757160000@gorebridge.org.uk
SUMMARY:Judo
DESCRIPTION:Sportif Judo aim is to create a friendly\, positive environment for people to learn judo and ultimately to create confident\, respectful and skillful judo players and athletes. Sportif Judo’s club moto is “Judo builds people” and the entire ethos and development of Sportif is built around this simple philosophy. Children’s classes run at the Beacon on a Saturday morning. For more information please contact Hanna on Mbl: 07907 308876
URL:https://gorebridge.org.uk/upcomingevents/judo/2025-09-06/
CATEGORIES:Beacon,Events
END:VEVENT
BEGIN:VEVENT
DTSTART;TZID=Europe/London:20250830T090000
DTEND;TZID=Europe/London:20250830T120000
DTSTAMP:20260424T052446
CREATED:20250221T133434Z
LAST-MODIFIED:20250221T133434Z
UID:13387-1756544400-1756555200@gorebridge.org.uk
SUMMARY:Judo
DESCRIPTION:Sportif Judo aim is to create a friendly\, positive environment for people to learn judo and ultimately to create confident\, respectful and skillful judo players and athletes. Sportif Judo’s club moto is “Judo builds people” and the entire ethos and development of Sportif is built around this simple philosophy. Children’s classes run at the Beacon on a Saturday morning. For more information please contact Hanna on Mbl: 07907 308876
URL:https://gorebridge.org.uk/upcomingevents/judo/2025-08-30/
CATEGORIES:Beacon,Events
END:VEVENT
BEGIN:VEVENT
DTSTART;TZID=Europe/London:20250823T090000
DTEND;TZID=Europe/London:20250823T120000
DTSTAMP:20260424T052446
CREATED:20250221T133434Z
LAST-MODIFIED:20250221T133434Z
UID:13386-1755939600-1755950400@gorebridge.org.uk
SUMMARY:Judo
DESCRIPTION:Sportif Judo aim is to create a friendly\, positive environment for people to learn judo and ultimately to create confident\, respectful and skillful judo players and athletes. Sportif Judo’s club moto is “Judo builds people” and the entire ethos and development of Sportif is built around this simple philosophy. Children’s classes run at the Beacon on a Saturday morning. For more information please contact Hanna on Mbl: 07907 308876
URL:https://gorebridge.org.uk/upcomingevents/judo/2025-08-23/
CATEGORIES:Beacon,Events
END:VEVENT
BEGIN:VEVENT
DTSTART;TZID=Europe/London:20250816T090000
DTEND;TZID=Europe/London:20250816T120000
DTSTAMP:20260424T052446
CREATED:20250221T133434Z
LAST-MODIFIED:20250221T133434Z
UID:13385-1755334800-1755345600@gorebridge.org.uk
SUMMARY:Judo
DESCRIPTION:Sportif Judo aim is to create a friendly\, positive environment for people to learn judo and ultimately to create confident\, respectful and skillful judo players and athletes. Sportif Judo’s club moto is “Judo builds people” and the entire ethos and development of Sportif is built around this simple philosophy. Children’s classes run at the Beacon on a Saturday morning. For more information please contact Hanna on Mbl: 07907 308876
URL:https://gorebridge.org.uk/upcomingevents/judo/2025-08-16/
CATEGORIES:Beacon,Events
END:VEVENT
BEGIN:VEVENT
DTSTART;TZID=Europe/London:20250809T090000
DTEND;TZID=Europe/London:20250809T120000
DTSTAMP:20260424T052446
CREATED:20250221T133434Z
LAST-MODIFIED:20250221T133434Z
UID:13384-1754730000-1754740800@gorebridge.org.uk
SUMMARY:Judo
DESCRIPTION:Sportif Judo aim is to create a friendly\, positive environment for people to learn judo and ultimately to create confident\, respectful and skillful judo players and athletes. Sportif Judo’s club moto is “Judo builds people” and the entire ethos and development of Sportif is built around this simple philosophy. Children’s classes run at the Beacon on a Saturday morning. For more information please contact Hanna on Mbl: 07907 308876
URL:https://gorebridge.org.uk/upcomingevents/judo/2025-08-09/
CATEGORIES:Beacon,Events
END:VEVENT
BEGIN:VEVENT
DTSTART;TZID=Europe/London:20250802T090000
DTEND;TZID=Europe/London:20250802T120000
DTSTAMP:20260424T052446
CREATED:20250221T133434Z
LAST-MODIFIED:20250221T133434Z
UID:13383-1754125200-1754136000@gorebridge.org.uk
SUMMARY:Judo
DESCRIPTION:Sportif Judo aim is to create a friendly\, positive environment for people to learn judo and ultimately to create confident\, respectful and skillful judo players and athletes. Sportif Judo’s club moto is “Judo builds people” and the entire ethos and development of Sportif is built around this simple philosophy. Children’s classes run at the Beacon on a Saturday morning. For more information please contact Hanna on Mbl: 07907 308876
URL:https://gorebridge.org.uk/upcomingevents/judo/2025-08-02/
CATEGORIES:Beacon,Events
END:VEVENT
BEGIN:VEVENT
DTSTART;TZID=Europe/London:20250726T090000
DTEND;TZID=Europe/London:20250726T120000
DTSTAMP:20260424T052446
CREATED:20250221T133434Z
LAST-MODIFIED:20250221T133434Z
UID:13382-1753520400-1753531200@gorebridge.org.uk
SUMMARY:Judo
DESCRIPTION:Sportif Judo aim is to create a friendly\, positive environment for people to learn judo and ultimately to create confident\, respectful and skillful judo players and athletes. Sportif Judo’s club moto is “Judo builds people” and the entire ethos and development of Sportif is built around this simple philosophy. Children’s classes run at the Beacon on a Saturday morning. For more information please contact Hanna on Mbl: 07907 308876
URL:https://gorebridge.org.uk/upcomingevents/judo/2025-07-26/
CATEGORIES:Beacon,Events
END:VEVENT
BEGIN:VEVENT
DTSTART;TZID=Europe/London:20250719T090000
DTEND;TZID=Europe/London:20250719T120000
DTSTAMP:20260424T052446
CREATED:20250221T133434Z
LAST-MODIFIED:20250221T133434Z
UID:13381-1752915600-1752926400@gorebridge.org.uk
SUMMARY:Judo
DESCRIPTION:Sportif Judo aim is to create a friendly\, positive environment for people to learn judo and ultimately to create confident\, respectful and skillful judo players and athletes. Sportif Judo’s club moto is “Judo builds people” and the entire ethos and development of Sportif is built around this simple philosophy. Children’s classes run at the Beacon on a Saturday morning. For more information please contact Hanna on Mbl: 07907 308876
URL:https://gorebridge.org.uk/upcomingevents/judo/2025-07-19/
CATEGORIES:Beacon,Events
END:VEVENT
BEGIN:VEVENT
DTSTART;TZID=Europe/London:20250712T090000
DTEND;TZID=Europe/London:20250712T120000
DTSTAMP:20260424T052446
CREATED:20250221T133434Z
LAST-MODIFIED:20250221T133434Z
UID:13380-1752310800-1752321600@gorebridge.org.uk
SUMMARY:Judo
DESCRIPTION:Sportif Judo aim is to create a friendly\, positive environment for people to learn judo and ultimately to create confident\, respectful and skillful judo players and athletes. Sportif Judo’s club moto is “Judo builds people” and the entire ethos and development of Sportif is built around this simple philosophy. Children’s classes run at the Beacon on a Saturday morning. For more information please contact Hanna on Mbl: 07907 308876
URL:https://gorebridge.org.uk/upcomingevents/judo/2025-07-12/
CATEGORIES:Beacon,Events
END:VEVENT
BEGIN:VEVENT
DTSTART;TZID=Europe/London:20250705T090000
DTEND;TZID=Europe/London:20250705T120000
DTSTAMP:20260424T052446
CREATED:20250221T133434Z
LAST-MODIFIED:20250221T133434Z
UID:13379-1751706000-1751716800@gorebridge.org.uk
SUMMARY:Judo
DESCRIPTION:Sportif Judo aim is to create a friendly\, positive environment for people to learn judo and ultimately to create confident\, respectful and skillful judo players and athletes. Sportif Judo’s club moto is “Judo builds people” and the entire ethos and development of Sportif is built around this simple philosophy. Children’s classes run at the Beacon on a Saturday morning. For more information please contact Hanna on Mbl: 07907 308876
URL:https://gorebridge.org.uk/upcomingevents/judo/2025-07-05/
CATEGORIES:Beacon,Events
END:VEVENT
BEGIN:VEVENT
DTSTART;TZID=Europe/London:20250628T090000
DTEND;TZID=Europe/London:20250628T120000
DTSTAMP:20260424T052446
CREATED:20250221T133434Z
LAST-MODIFIED:20250221T133434Z
UID:13378-1751101200-1751112000@gorebridge.org.uk
SUMMARY:Judo
DESCRIPTION:Sportif Judo aim is to create a friendly\, positive environment for people to learn judo and ultimately to create confident\, respectful and skillful judo players and athletes. Sportif Judo’s club moto is “Judo builds people” and the entire ethos and development of Sportif is built around this simple philosophy. Children’s classes run at the Beacon on a Saturday morning. For more information please contact Hanna on Mbl: 07907 308876
URL:https://gorebridge.org.uk/upcomingevents/judo/2025-06-28/
CATEGORIES:Beacon,Events
END:VEVENT
BEGIN:VEVENT
DTSTART;TZID=Europe/London:20250621T090000
DTEND;TZID=Europe/London:20250621T120000
DTSTAMP:20260424T052446
CREATED:20250221T133434Z
LAST-MODIFIED:20250221T133434Z
UID:13377-1750496400-1750507200@gorebridge.org.uk
SUMMARY:Judo
DESCRIPTION:Sportif Judo aim is to create a friendly\, positive environment for people to learn judo and ultimately to create confident\, respectful and skillful judo players and athletes. Sportif Judo’s club moto is “Judo builds people” and the entire ethos and development of Sportif is built around this simple philosophy. Children’s classes run at the Beacon on a Saturday morning. For more information please contact Hanna on Mbl: 07907 308876
URL:https://gorebridge.org.uk/upcomingevents/judo/2025-06-21/
CATEGORIES:Beacon,Events
END:VEVENT
BEGIN:VEVENT
DTSTART;TZID=Europe/London:20250614T090000
DTEND;TZID=Europe/London:20250614T120000
DTSTAMP:20260424T052446
CREATED:20250221T133434Z
LAST-MODIFIED:20250221T133434Z
UID:13376-1749891600-1749902400@gorebridge.org.uk
SUMMARY:Judo
DESCRIPTION:Sportif Judo aim is to create a friendly\, positive environment for people to learn judo and ultimately to create confident\, respectful and skillful judo players and athletes. Sportif Judo’s club moto is “Judo builds people” and the entire ethos and development of Sportif is built around this simple philosophy. Children’s classes run at the Beacon on a Saturday morning. For more information please contact Hanna on Mbl: 07907 308876
URL:https://gorebridge.org.uk/upcomingevents/judo/2025-06-14/
CATEGORIES:Beacon,Events
END:VEVENT
BEGIN:VEVENT
DTSTART;TZID=Europe/London:20250607T090000
DTEND;TZID=Europe/London:20250607T120000
DTSTAMP:20260424T052446
CREATED:20250221T133434Z
LAST-MODIFIED:20250221T133434Z
UID:13375-1749286800-1749297600@gorebridge.org.uk
SUMMARY:Judo
DESCRIPTION:Sportif Judo aim is to create a friendly\, positive environment for people to learn judo and ultimately to create confident\, respectful and skillful judo players and athletes. Sportif Judo’s club moto is “Judo builds people” and the entire ethos and development of Sportif is built around this simple philosophy. Children’s classes run at the Beacon on a Saturday morning. For more information please contact Hanna on Mbl: 07907 308876
URL:https://gorebridge.org.uk/upcomingevents/judo/2025-06-07/
CATEGORIES:Beacon,Events
END:VEVENT
BEGIN:VEVENT
DTSTART;TZID=Europe/London:20250531T090000
DTEND;TZID=Europe/London:20250531T120000
DTSTAMP:20260424T052446
CREATED:20250221T133434Z
LAST-MODIFIED:20250221T133434Z
UID:13374-1748682000-1748692800@gorebridge.org.uk
SUMMARY:Judo
DESCRIPTION:Sportif Judo aim is to create a friendly\, positive environment for people to learn judo and ultimately to create confident\, respectful and skillful judo players and athletes. Sportif Judo’s club moto is “Judo builds people” and the entire ethos and development of Sportif is built around this simple philosophy. Children’s classes run at the Beacon on a Saturday morning. For more information please contact Hanna on Mbl: 07907 308876
URL:https://gorebridge.org.uk/upcomingevents/judo/2025-05-31/
CATEGORIES:Beacon,Events
END:VEVENT
END:VCALENDAR