BEGIN:VCALENDAR
VERSION:2.0
PRODID:-//Gorebridge Community Development Trust - ECPv6.15.20//NONSGML v1.0//EN
CALSCALE:GREGORIAN
METHOD:PUBLISH
X-ORIGINAL-URL:https://gorebridge.org.uk
X-WR-CALDESC:Events for Gorebridge Community Development Trust
REFRESH-INTERVAL;VALUE=DURATION:PT1H
X-Robots-Tag:noindex
X-PUBLISHED-TTL:PT1H
BEGIN:VTIMEZONE
TZID:Europe/London
BEGIN:DAYLIGHT
TZOFFSETFROM:+0000
TZOFFSETTO:+0100
TZNAME:BST
DTSTART:20210328T010000
END:DAYLIGHT
BEGIN:STANDARD
TZOFFSETFROM:+0100
TZOFFSETTO:+0000
TZNAME:GMT
DTSTART:20211031T010000
END:STANDARD
BEGIN:DAYLIGHT
TZOFFSETFROM:+0000
TZOFFSETTO:+0100
TZNAME:BST
DTSTART:20220327T010000
END:DAYLIGHT
BEGIN:STANDARD
TZOFFSETFROM:+0100
TZOFFSETTO:+0000
TZNAME:GMT
DTSTART:20221030T010000
END:STANDARD
BEGIN:DAYLIGHT
TZOFFSETFROM:+0000
TZOFFSETTO:+0100
TZNAME:BST
DTSTART:20230326T010000
END:DAYLIGHT
BEGIN:STANDARD
TZOFFSETFROM:+0100
TZOFFSETTO:+0000
TZNAME:GMT
DTSTART:20231029T010000
END:STANDARD
END:VTIMEZONE
BEGIN:VEVENT
DTSTART;TZID=Europe/London:20220110T193000
DTEND;TZID=Europe/London:20220110T210000
DTSTAMP:20260424T225913
CREATED:20220110T112321Z
LAST-MODIFIED:20220110T112321Z
UID:7935-1641843000-1641848400@gorebridge.org.uk
SUMMARY:Karate (Seniors)
DESCRIPTION:Senior Class: please contact the organiser\, details below. \nHeriot Wado-Kai Karate Club is a member of the Scottish Karate Federation (SKF) which is affiliated to the Scottish Karate Governing Body (SKGB). All classes are run by qualified instructors whose main aim is to teach Karate\, one of the most popular martial arts\, with emphasis on fitness and discipline while promoting self confidence in a safe and enjoyable environment. \nFor more information please contact Paul at Heriot Wado-Kai Karate Club https://www.facebook.com/heriotwadokaikarate or call 07989 427390
URL:https://gorebridge.org.uk/upcomingevents/karate-seniors-2/2022-01-10/
CATEGORIES:Beacon,Events
END:VEVENT
END:VCALENDAR