BEGIN:VCALENDAR
VERSION:2.0
PRODID:-//Gorebridge Community Development Trust - ECPv6.15.20//NONSGML v1.0//EN
CALSCALE:GREGORIAN
METHOD:PUBLISH
X-ORIGINAL-URL:https://gorebridge.org.uk
X-WR-CALDESC:Events for Gorebridge Community Development Trust
REFRESH-INTERVAL;VALUE=DURATION:PT1H
X-Robots-Tag:noindex
X-PUBLISHED-TTL:PT1H
BEGIN:VTIMEZONE
TZID:Europe/London
BEGIN:DAYLIGHT
TZOFFSETFROM:+0000
TZOFFSETTO:+0100
TZNAME:BST
DTSTART:20180325T010000
END:DAYLIGHT
BEGIN:STANDARD
TZOFFSETFROM:+0100
TZOFFSETTO:+0000
TZNAME:GMT
DTSTART:20181028T010000
END:STANDARD
BEGIN:DAYLIGHT
TZOFFSETFROM:+0000
TZOFFSETTO:+0100
TZNAME:BST
DTSTART:20190331T010000
END:DAYLIGHT
BEGIN:STANDARD
TZOFFSETFROM:+0100
TZOFFSETTO:+0000
TZNAME:GMT
DTSTART:20191027T010000
END:STANDARD
BEGIN:DAYLIGHT
TZOFFSETFROM:+0000
TZOFFSETTO:+0100
TZNAME:BST
DTSTART:20200329T010000
END:DAYLIGHT
BEGIN:STANDARD
TZOFFSETFROM:+0100
TZOFFSETTO:+0000
TZNAME:GMT
DTSTART:20201025T010000
END:STANDARD
END:VTIMEZONE
BEGIN:VEVENT
DTSTART;TZID=Europe/London:20190315T120000
DTEND;TZID=Europe/London:20190315T150000
DTSTAMP:20260424T005132
CREATED:20190227T165207Z
LAST-MODIFIED:20190227T165207Z
UID:3497-1552651200-1552662000@gorebridge.org.uk
SUMMARY:Kids Upcycle Club- Friday Afternoons
DESCRIPTION:Email jaimie.macdonald@gorebridge.org.uk to BOOK your place \nParents and Children can join us for an after school session of making upcycled projects from textiles\, revamping old clothes\, making new things from fabric and experimenting with decoration and repair techniques. \nSessions will mostly be suitable for children aged 7 upwards. Sessions must be booked in advance as space is limited. \nAn adult is expected to stay in the session to create alongside the child\, offering assistance\, support and encouragement where needed. \nSome of the activities we could explore during our sessions (specific activities will be announced the beginning of that week) : \n\nT-shirt refashion\nHow to make T-shirt yarn\nWeave/braid a table mat or rug\nMake a dog toy\nBike streamers\nT-shirt shopping bags\nUpcycled junk jewellery\nSimple fabric printing/painting\nMake your own headband or hair clip\nPillow case dresses\nMake a simple cushion/ cushion cover\nSimple hand embroidery\nSimple hand applique/patching\n\nIf you have any ideas on what you’d like to re-make or upcycle with your child\, please let us know. \nThis workshop is funded by Scottish Government Climate Challenge Fund.
URL:https://gorebridge.org.uk/upcomingevents/kids-upcycle-club-friday-afternoons/2019-03-15/
LOCATION:Gorebridge Beacon
CATEGORIES:Beacon,Climate Challenge Fund,Events,Family Activities,Gorebridge Beacon,Greening Gorebridge,upcycling
ORGANIZER;CN="Greening Gorebridge":MAILTO:michaela.jackson@gorebridge.org.uk
END:VEVENT
END:VCALENDAR