BEGIN:VCALENDAR
VERSION:2.0
PRODID:-//Gorebridge Community Development Trust - ECPv6.15.20//NONSGML v1.0//EN
CALSCALE:GREGORIAN
METHOD:PUBLISH
X-ORIGINAL-URL:https://gorebridge.org.uk
X-WR-CALDESC:Events for Gorebridge Community Development Trust
REFRESH-INTERVAL;VALUE=DURATION:PT1H
X-Robots-Tag:noindex
X-PUBLISHED-TTL:PT1H
BEGIN:VTIMEZONE
TZID:Europe/London
BEGIN:DAYLIGHT
TZOFFSETFROM:+0000
TZOFFSETTO:+0100
TZNAME:BST
DTSTART:20180325T010000
END:DAYLIGHT
BEGIN:STANDARD
TZOFFSETFROM:+0100
TZOFFSETTO:+0000
TZNAME:GMT
DTSTART:20181028T010000
END:STANDARD
BEGIN:DAYLIGHT
TZOFFSETFROM:+0000
TZOFFSETTO:+0100
TZNAME:BST
DTSTART:20190331T010000
END:DAYLIGHT
BEGIN:STANDARD
TZOFFSETFROM:+0100
TZOFFSETTO:+0000
TZNAME:GMT
DTSTART:20191027T010000
END:STANDARD
BEGIN:DAYLIGHT
TZOFFSETFROM:+0000
TZOFFSETTO:+0100
TZNAME:BST
DTSTART:20200329T010000
END:DAYLIGHT
BEGIN:STANDARD
TZOFFSETFROM:+0100
TZOFFSETTO:+0000
TZNAME:GMT
DTSTART:20201025T010000
END:STANDARD
END:VTIMEZONE
BEGIN:VEVENT
DTSTART;TZID=Europe/London:20190318T190000
DTEND;TZID=Europe/London:20190318T203000
DTSTAMP:20260424T053503
CREATED:20190317T230219Z
LAST-MODIFIED:20190317T230219Z
UID:3548-1552935600-1552941000@gorebridge.org.uk
SUMMARY:Kung Fu Ladies Class
DESCRIPTION:Ladies Class \nClasses run on a Monday evening\, 7-8.30pm at the Beacon\, Hunterfield Road\, Gorebridge. \nYou don’t need to be fit or have had any martial arts experience to come along. It is a beginners class and so\, everyone will be starting from scratch. In the class\, we will start off with some warming up exercises to loosen up and then\, some stamina and power building with a system called Splashing Hands. \nYou will then go on to traditional Kung Fu techniques but\, with a modern approach. To finish\, there will be “cool down” exercises using Chi Gong techniques. These exercises promote internal chi development and balance the body and mind before you leave. \nThe class fee is £7 per session\, payable on the night. You just need to wear something loose and trainers (as we are not in bare feet). Before the first session\, a short health screening form needs to be completed – if you could arrive 15 minutes before\, to allow time for this.
URL:https://gorebridge.org.uk/upcomingevents/kung-fu-ladies-class/2019-03-18/
END:VEVENT
END:VCALENDAR