BEGIN:VCALENDAR
VERSION:2.0
PRODID:-//Gorebridge Community Development Trust - ECPv6.15.20//NONSGML v1.0//EN
CALSCALE:GREGORIAN
METHOD:PUBLISH
X-ORIGINAL-URL:https://gorebridge.org.uk
X-WR-CALDESC:Events for Gorebridge Community Development Trust
REFRESH-INTERVAL;VALUE=DURATION:PT1H
X-Robots-Tag:noindex
X-PUBLISHED-TTL:PT1H
BEGIN:VTIMEZONE
TZID:Europe/London
BEGIN:DAYLIGHT
TZOFFSETFROM:+0000
TZOFFSETTO:+0100
TZNAME:BST
DTSTART:20170326T010000
END:DAYLIGHT
BEGIN:STANDARD
TZOFFSETFROM:+0100
TZOFFSETTO:+0000
TZNAME:GMT
DTSTART:20171029T010000
END:STANDARD
BEGIN:DAYLIGHT
TZOFFSETFROM:+0000
TZOFFSETTO:+0100
TZNAME:BST
DTSTART:20180325T010000
END:DAYLIGHT
BEGIN:STANDARD
TZOFFSETFROM:+0100
TZOFFSETTO:+0000
TZNAME:GMT
DTSTART:20181028T010000
END:STANDARD
BEGIN:DAYLIGHT
TZOFFSETFROM:+0000
TZOFFSETTO:+0100
TZNAME:BST
DTSTART:20190331T010000
END:DAYLIGHT
BEGIN:STANDARD
TZOFFSETFROM:+0100
TZOFFSETTO:+0000
TZNAME:GMT
DTSTART:20191027T010000
END:STANDARD
END:VTIMEZONE
BEGIN:VEVENT
DTSTART;TZID=Europe/London:20180620T103000
DTEND;TZID=Europe/London:20180620T133000
DTSTAMP:20260423T222027
CREATED:20180615T095411Z
LAST-MODIFIED:20180625T120703Z
UID:2188-1529490600-1529501400@gorebridge.org.uk
SUMMARY:led cycle
DESCRIPTION:It is summer and the perfect time to get out on your bike. \nThere are some amazing routes round about Gorebridge\, hilly or less hilly – no shame in pushing or trying an electric bike though. \nAll cycling abilities are welcome. \ncontact michaela.jackson@gorebridge.org.uk
URL:https://gorebridge.org.uk/upcomingevents/led-cycle/2018-06-20/
LOCATION:55 main street\, Gorebridge\, United Kingdom
CATEGORIES:Climate Challenge Fund,Cycling,Greening Gorebridge
ATTACH;FMTTYPE=image/jpeg:https://gorebridge.org.uk/wp-content/uploads/2018/06/35195628_2077561062482891_4463953772103598080_n.jpg
ORGANIZER;CN="Greening Gorebridge":MAILTO:michaela.jackson@gorebridge.org.uk
END:VEVENT
END:VCALENDAR