BEGIN:VCALENDAR
VERSION:2.0
PRODID:-//Gorebridge Community Development Trust - ECPv6.15.20//NONSGML v1.0//EN
CALSCALE:GREGORIAN
METHOD:PUBLISH
X-WR-CALNAME:Gorebridge Community Development Trust
X-ORIGINAL-URL:https://gorebridge.org.uk
X-WR-CALDESC:Events for Gorebridge Community Development Trust
REFRESH-INTERVAL;VALUE=DURATION:PT1H
X-Robots-Tag:noindex
X-PUBLISHED-TTL:PT1H
BEGIN:VTIMEZONE
TZID:Europe/London
BEGIN:DAYLIGHT
TZOFFSETFROM:+0000
TZOFFSETTO:+0100
TZNAME:BST
DTSTART:20240331T010000
END:DAYLIGHT
BEGIN:STANDARD
TZOFFSETFROM:+0100
TZOFFSETTO:+0000
TZNAME:GMT
DTSTART:20241027T010000
END:STANDARD
BEGIN:DAYLIGHT
TZOFFSETFROM:+0000
TZOFFSETTO:+0100
TZNAME:BST
DTSTART:20250330T010000
END:DAYLIGHT
BEGIN:STANDARD
TZOFFSETFROM:+0100
TZOFFSETTO:+0000
TZNAME:GMT
DTSTART:20251026T010000
END:STANDARD
BEGIN:DAYLIGHT
TZOFFSETFROM:+0000
TZOFFSETTO:+0100
TZNAME:BST
DTSTART:20260329T010000
END:DAYLIGHT
BEGIN:STANDARD
TZOFFSETFROM:+0100
TZOFFSETTO:+0000
TZNAME:GMT
DTSTART:20261025T010000
END:STANDARD
END:VTIMEZONE
BEGIN:VEVENT
DTSTART;TZID=Europe/London:20251217T191500
DTEND;TZID=Europe/London:20251217T201500
DTSTAMP:20260424T053327
CREATED:20250221T112927Z
LAST-MODIFIED:20250221T112927Z
UID:13192-1765998900-1766002500@gorebridge.org.uk
SUMMARY:Mat Pilates with Lynne
DESCRIPTION:Improve flexibility. Increase your range of movement. Improve posture. Ease still joints and lower back pain. Feel great. \nLynne offers Pilates classes on a Tuesday morning at the Beacon. For more information/booking please go to here Facebook Page: https://www.facebook.com/MatpilateswithLynne/
URL:https://gorebridge.org.uk/upcomingevents/mat-pilates-with-lynne/2025-12-17/
CATEGORIES:Beacon,Events
END:VEVENT
BEGIN:VEVENT
DTSTART;TZID=Europe/London:20251216T191500
DTEND;TZID=Europe/London:20251216T201500
DTSTAMP:20260424T053327
CREATED:20250221T112927Z
LAST-MODIFIED:20250221T112927Z
UID:13191-1765912500-1765916100@gorebridge.org.uk
SUMMARY:Mat Pilates with Lynne
DESCRIPTION:Improve flexibility. Increase your range of movement. Improve posture. Ease still joints and lower back pain. Feel great. \nLynne offers Pilates classes on a Tuesday morning at the Beacon. For more information/booking please go to here Facebook Page: https://www.facebook.com/MatpilateswithLynne/
URL:https://gorebridge.org.uk/upcomingevents/mat-pilates-with-lynne/2025-12-16/
CATEGORIES:Beacon,Events
END:VEVENT
BEGIN:VEVENT
DTSTART;TZID=Europe/London:20251216T100000
DTEND;TZID=Europe/London:20251216T110000
DTSTAMP:20260424T053327
CREATED:20250221T112927Z
LAST-MODIFIED:20250221T124447Z
UID:12969-1765879200-1765882800@gorebridge.org.uk
SUMMARY:Mat Pilates with Lynne
DESCRIPTION:Improve flexibility. Increase your range of movement. Improve posture. Ease still joints and lower back pain. Feel great. \nLynne offers Pilates classes on a Tuesday morning at the Beacon. For more information/booking please go to here Facebook Page: https://www.facebook.com/MatpilateswithLynne/
URL:https://gorebridge.org.uk/upcomingevents/mat-pilates-with-lynne/2025-12-16/
CATEGORIES:Beacon,Events
END:VEVENT
BEGIN:VEVENT
DTSTART;TZID=Europe/London:20251210T191500
DTEND;TZID=Europe/London:20251210T201500
DTSTAMP:20260424T053327
CREATED:20250221T112927Z
LAST-MODIFIED:20250221T112927Z
UID:13190-1765394100-1765397700@gorebridge.org.uk
SUMMARY:Mat Pilates with Lynne
DESCRIPTION:Improve flexibility. Increase your range of movement. Improve posture. Ease still joints and lower back pain. Feel great. \nLynne offers Pilates classes on a Tuesday morning at the Beacon. For more information/booking please go to here Facebook Page: https://www.facebook.com/MatpilateswithLynne/
URL:https://gorebridge.org.uk/upcomingevents/mat-pilates-with-lynne/2025-12-10/
CATEGORIES:Beacon,Events
END:VEVENT
BEGIN:VEVENT
DTSTART;TZID=Europe/London:20251209T191500
DTEND;TZID=Europe/London:20251209T201500
DTSTAMP:20260424T053327
CREATED:20250221T112927Z
LAST-MODIFIED:20250221T112927Z
UID:13189-1765307700-1765311300@gorebridge.org.uk
SUMMARY:Mat Pilates with Lynne
DESCRIPTION:Improve flexibility. Increase your range of movement. Improve posture. Ease still joints and lower back pain. Feel great. \nLynne offers Pilates classes on a Tuesday morning at the Beacon. For more information/booking please go to here Facebook Page: https://www.facebook.com/MatpilateswithLynne/
URL:https://gorebridge.org.uk/upcomingevents/mat-pilates-with-lynne/2025-12-09/
CATEGORIES:Beacon,Events
END:VEVENT
BEGIN:VEVENT
DTSTART;TZID=Europe/London:20251209T100000
DTEND;TZID=Europe/London:20251209T110000
DTSTAMP:20260424T053327
CREATED:20250221T112927Z
LAST-MODIFIED:20250221T124444Z
UID:12968-1765274400-1765278000@gorebridge.org.uk
SUMMARY:Mat Pilates with Lynne
DESCRIPTION:Improve flexibility. Increase your range of movement. Improve posture. Ease still joints and lower back pain. Feel great. \nLynne offers Pilates classes on a Tuesday morning at the Beacon. For more information/booking please go to here Facebook Page: https://www.facebook.com/MatpilateswithLynne/
URL:https://gorebridge.org.uk/upcomingevents/mat-pilates-with-lynne/2025-12-09/
CATEGORIES:Beacon,Events
END:VEVENT
BEGIN:VEVENT
DTSTART;TZID=Europe/London:20251203T191500
DTEND;TZID=Europe/London:20251203T201500
DTSTAMP:20260424T053327
CREATED:20250221T112927Z
LAST-MODIFIED:20250221T112927Z
UID:13188-1764789300-1764792900@gorebridge.org.uk
SUMMARY:Mat Pilates with Lynne
DESCRIPTION:Improve flexibility. Increase your range of movement. Improve posture. Ease still joints and lower back pain. Feel great. \nLynne offers Pilates classes on a Tuesday morning at the Beacon. For more information/booking please go to here Facebook Page: https://www.facebook.com/MatpilateswithLynne/
URL:https://gorebridge.org.uk/upcomingevents/mat-pilates-with-lynne/2025-12-03/
CATEGORIES:Beacon,Events
END:VEVENT
BEGIN:VEVENT
DTSTART;TZID=Europe/London:20251202T191500
DTEND;TZID=Europe/London:20251202T201500
DTSTAMP:20260424T053327
CREATED:20250221T112927Z
LAST-MODIFIED:20250221T112927Z
UID:13187-1764702900-1764706500@gorebridge.org.uk
SUMMARY:Mat Pilates with Lynne
DESCRIPTION:Improve flexibility. Increase your range of movement. Improve posture. Ease still joints and lower back pain. Feel great. \nLynne offers Pilates classes on a Tuesday morning at the Beacon. For more information/booking please go to here Facebook Page: https://www.facebook.com/MatpilateswithLynne/
URL:https://gorebridge.org.uk/upcomingevents/mat-pilates-with-lynne/2025-12-02/
CATEGORIES:Beacon,Events
END:VEVENT
BEGIN:VEVENT
DTSTART;TZID=Europe/London:20251202T100000
DTEND;TZID=Europe/London:20251202T110000
DTSTAMP:20260424T053327
CREATED:20250221T112927Z
LAST-MODIFIED:20250221T124441Z
UID:12967-1764669600-1764673200@gorebridge.org.uk
SUMMARY:Mat Pilates with Lynne
DESCRIPTION:Improve flexibility. Increase your range of movement. Improve posture. Ease still joints and lower back pain. Feel great. \nLynne offers Pilates classes on a Tuesday morning at the Beacon. For more information/booking please go to here Facebook Page: https://www.facebook.com/MatpilateswithLynne/
URL:https://gorebridge.org.uk/upcomingevents/mat-pilates-with-lynne/2025-12-02/
CATEGORIES:Beacon,Events
END:VEVENT
BEGIN:VEVENT
DTSTART;TZID=Europe/London:20251126T191500
DTEND;TZID=Europe/London:20251126T201500
DTSTAMP:20260424T053327
CREATED:20250221T112927Z
LAST-MODIFIED:20250221T112927Z
UID:13186-1764184500-1764188100@gorebridge.org.uk
SUMMARY:Mat Pilates with Lynne
DESCRIPTION:Improve flexibility. Increase your range of movement. Improve posture. Ease still joints and lower back pain. Feel great. \nLynne offers Pilates classes on a Tuesday morning at the Beacon. For more information/booking please go to here Facebook Page: https://www.facebook.com/MatpilateswithLynne/
URL:https://gorebridge.org.uk/upcomingevents/mat-pilates-with-lynne/2025-11-26/
CATEGORIES:Beacon,Events
END:VEVENT
BEGIN:VEVENT
DTSTART;TZID=Europe/London:20251125T191500
DTEND;TZID=Europe/London:20251125T201500
DTSTAMP:20260424T053327
CREATED:20250221T112927Z
LAST-MODIFIED:20250221T112927Z
UID:13184-1764098100-1764101700@gorebridge.org.uk
SUMMARY:Mat Pilates with Lynne
DESCRIPTION:Improve flexibility. Increase your range of movement. Improve posture. Ease still joints and lower back pain. Feel great. \nLynne offers Pilates classes on a Tuesday morning at the Beacon. For more information/booking please go to here Facebook Page: https://www.facebook.com/MatpilateswithLynne/
URL:https://gorebridge.org.uk/upcomingevents/mat-pilates-with-lynne/2025-11-25/
CATEGORIES:Beacon,Events
END:VEVENT
BEGIN:VEVENT
DTSTART;TZID=Europe/London:20251125T100000
DTEND;TZID=Europe/London:20251125T110000
DTSTAMP:20260424T053327
CREATED:20250221T112927Z
LAST-MODIFIED:20250221T124437Z
UID:12966-1764064800-1764068400@gorebridge.org.uk
SUMMARY:Mat Pilates with Lynne
DESCRIPTION:Improve flexibility. Increase your range of movement. Improve posture. Ease still joints and lower back pain. Feel great. \nLynne offers Pilates classes on a Tuesday morning at the Beacon. For more information/booking please go to here Facebook Page: https://www.facebook.com/MatpilateswithLynne/
URL:https://gorebridge.org.uk/upcomingevents/mat-pilates-with-lynne/2025-11-25/
CATEGORIES:Beacon,Events
END:VEVENT
BEGIN:VEVENT
DTSTART;TZID=Europe/London:20251119T191500
DTEND;TZID=Europe/London:20251119T201500
DTSTAMP:20260424T053327
CREATED:20250221T112927Z
LAST-MODIFIED:20250221T112927Z
UID:13183-1763579700-1763583300@gorebridge.org.uk
SUMMARY:Mat Pilates with Lynne
DESCRIPTION:Improve flexibility. Increase your range of movement. Improve posture. Ease still joints and lower back pain. Feel great. \nLynne offers Pilates classes on a Tuesday morning at the Beacon. For more information/booking please go to here Facebook Page: https://www.facebook.com/MatpilateswithLynne/
URL:https://gorebridge.org.uk/upcomingevents/mat-pilates-with-lynne/2025-11-19/
CATEGORIES:Beacon,Events
END:VEVENT
BEGIN:VEVENT
DTSTART;TZID=Europe/London:20251118T191500
DTEND;TZID=Europe/London:20251118T201500
DTSTAMP:20260424T053327
CREATED:20250221T112927Z
LAST-MODIFIED:20250221T112927Z
UID:13182-1763493300-1763496900@gorebridge.org.uk
SUMMARY:Mat Pilates with Lynne
DESCRIPTION:Improve flexibility. Increase your range of movement. Improve posture. Ease still joints and lower back pain. Feel great. \nLynne offers Pilates classes on a Tuesday morning at the Beacon. For more information/booking please go to here Facebook Page: https://www.facebook.com/MatpilateswithLynne/
URL:https://gorebridge.org.uk/upcomingevents/mat-pilates-with-lynne/2025-11-18/
CATEGORIES:Beacon,Events
END:VEVENT
BEGIN:VEVENT
DTSTART;TZID=Europe/London:20251118T100000
DTEND;TZID=Europe/London:20251118T110000
DTSTAMP:20260424T053327
CREATED:20250221T112927Z
LAST-MODIFIED:20250221T124434Z
UID:12965-1763460000-1763463600@gorebridge.org.uk
SUMMARY:Mat Pilates with Lynne
DESCRIPTION:Improve flexibility. Increase your range of movement. Improve posture. Ease still joints and lower back pain. Feel great. \nLynne offers Pilates classes on a Tuesday morning at the Beacon. For more information/booking please go to here Facebook Page: https://www.facebook.com/MatpilateswithLynne/
URL:https://gorebridge.org.uk/upcomingevents/mat-pilates-with-lynne/2025-11-18/
CATEGORIES:Beacon,Events
END:VEVENT
BEGIN:VEVENT
DTSTART;TZID=Europe/London:20251112T191500
DTEND;TZID=Europe/London:20251112T201500
DTSTAMP:20260424T053327
CREATED:20250221T112927Z
LAST-MODIFIED:20250221T112927Z
UID:13181-1762974900-1762978500@gorebridge.org.uk
SUMMARY:Mat Pilates with Lynne
DESCRIPTION:Improve flexibility. Increase your range of movement. Improve posture. Ease still joints and lower back pain. Feel great. \nLynne offers Pilates classes on a Tuesday morning at the Beacon. For more information/booking please go to here Facebook Page: https://www.facebook.com/MatpilateswithLynne/
URL:https://gorebridge.org.uk/upcomingevents/mat-pilates-with-lynne/2025-11-12/
CATEGORIES:Beacon,Events
END:VEVENT
BEGIN:VEVENT
DTSTART;TZID=Europe/London:20251111T191500
DTEND;TZID=Europe/London:20251111T201500
DTSTAMP:20260424T053327
CREATED:20250221T112927Z
LAST-MODIFIED:20250221T112927Z
UID:13180-1762888500-1762892100@gorebridge.org.uk
SUMMARY:Mat Pilates with Lynne
DESCRIPTION:Improve flexibility. Increase your range of movement. Improve posture. Ease still joints and lower back pain. Feel great. \nLynne offers Pilates classes on a Tuesday morning at the Beacon. For more information/booking please go to here Facebook Page: https://www.facebook.com/MatpilateswithLynne/
URL:https://gorebridge.org.uk/upcomingevents/mat-pilates-with-lynne/2025-11-11/
CATEGORIES:Beacon,Events
END:VEVENT
BEGIN:VEVENT
DTSTART;TZID=Europe/London:20251111T100000
DTEND;TZID=Europe/London:20251111T110000
DTSTAMP:20260424T053327
CREATED:20250221T112927Z
LAST-MODIFIED:20250221T124432Z
UID:12964-1762855200-1762858800@gorebridge.org.uk
SUMMARY:Mat Pilates with Lynne
DESCRIPTION:Improve flexibility. Increase your range of movement. Improve posture. Ease still joints and lower back pain. Feel great. \nLynne offers Pilates classes on a Tuesday morning at the Beacon. For more information/booking please go to here Facebook Page: https://www.facebook.com/MatpilateswithLynne/
URL:https://gorebridge.org.uk/upcomingevents/mat-pilates-with-lynne/2025-11-11/
CATEGORIES:Beacon,Events
END:VEVENT
BEGIN:VEVENT
DTSTART;TZID=Europe/London:20251105T191500
DTEND;TZID=Europe/London:20251105T201500
DTSTAMP:20260424T053327
CREATED:20250221T112927Z
LAST-MODIFIED:20250221T112927Z
UID:13179-1762370100-1762373700@gorebridge.org.uk
SUMMARY:Mat Pilates with Lynne
DESCRIPTION:Improve flexibility. Increase your range of movement. Improve posture. Ease still joints and lower back pain. Feel great. \nLynne offers Pilates classes on a Tuesday morning at the Beacon. For more information/booking please go to here Facebook Page: https://www.facebook.com/MatpilateswithLynne/
URL:https://gorebridge.org.uk/upcomingevents/mat-pilates-with-lynne/2025-11-05/
CATEGORIES:Beacon,Events
END:VEVENT
BEGIN:VEVENT
DTSTART;TZID=Europe/London:20251104T191500
DTEND;TZID=Europe/London:20251104T201500
DTSTAMP:20260424T053327
CREATED:20250221T112927Z
LAST-MODIFIED:20250221T112927Z
UID:13178-1762283700-1762287300@gorebridge.org.uk
SUMMARY:Mat Pilates with Lynne
DESCRIPTION:Improve flexibility. Increase your range of movement. Improve posture. Ease still joints and lower back pain. Feel great. \nLynne offers Pilates classes on a Tuesday morning at the Beacon. For more information/booking please go to here Facebook Page: https://www.facebook.com/MatpilateswithLynne/
URL:https://gorebridge.org.uk/upcomingevents/mat-pilates-with-lynne/2025-11-04/
CATEGORIES:Beacon,Events
END:VEVENT
BEGIN:VEVENT
DTSTART;TZID=Europe/London:20251104T100000
DTEND;TZID=Europe/London:20251104T110000
DTSTAMP:20260424T053327
CREATED:20250221T112927Z
LAST-MODIFIED:20250221T124430Z
UID:12963-1762250400-1762254000@gorebridge.org.uk
SUMMARY:Mat Pilates with Lynne
DESCRIPTION:Improve flexibility. Increase your range of movement. Improve posture. Ease still joints and lower back pain. Feel great. \nLynne offers Pilates classes on a Tuesday morning at the Beacon. For more information/booking please go to here Facebook Page: https://www.facebook.com/MatpilateswithLynne/
URL:https://gorebridge.org.uk/upcomingevents/mat-pilates-with-lynne/2025-11-04/
CATEGORIES:Beacon,Events
END:VEVENT
BEGIN:VEVENT
DTSTART;TZID=Europe/London:20251029T191500
DTEND;TZID=Europe/London:20251029T201500
DTSTAMP:20260424T053327
CREATED:20250221T112927Z
LAST-MODIFIED:20250221T112927Z
UID:13177-1761765300-1761768900@gorebridge.org.uk
SUMMARY:Mat Pilates with Lynne
DESCRIPTION:Improve flexibility. Increase your range of movement. Improve posture. Ease still joints and lower back pain. Feel great. \nLynne offers Pilates classes on a Tuesday morning at the Beacon. For more information/booking please go to here Facebook Page: https://www.facebook.com/MatpilateswithLynne/
URL:https://gorebridge.org.uk/upcomingevents/mat-pilates-with-lynne/2025-10-29/
CATEGORIES:Beacon,Events
END:VEVENT
BEGIN:VEVENT
DTSTART;TZID=Europe/London:20251028T191500
DTEND;TZID=Europe/London:20251028T201500
DTSTAMP:20260424T053327
CREATED:20250221T112927Z
LAST-MODIFIED:20250221T112927Z
UID:13176-1761678900-1761682500@gorebridge.org.uk
SUMMARY:Mat Pilates with Lynne
DESCRIPTION:Improve flexibility. Increase your range of movement. Improve posture. Ease still joints and lower back pain. Feel great. \nLynne offers Pilates classes on a Tuesday morning at the Beacon. For more information/booking please go to here Facebook Page: https://www.facebook.com/MatpilateswithLynne/
URL:https://gorebridge.org.uk/upcomingevents/mat-pilates-with-lynne/2025-10-28/
CATEGORIES:Beacon,Events
END:VEVENT
BEGIN:VEVENT
DTSTART;TZID=Europe/London:20251028T100000
DTEND;TZID=Europe/London:20251028T110000
DTSTAMP:20260424T053327
CREATED:20250221T112927Z
LAST-MODIFIED:20250221T124427Z
UID:12962-1761645600-1761649200@gorebridge.org.uk
SUMMARY:Mat Pilates with Lynne
DESCRIPTION:Improve flexibility. Increase your range of movement. Improve posture. Ease still joints and lower back pain. Feel great. \nLynne offers Pilates classes on a Tuesday morning at the Beacon. For more information/booking please go to here Facebook Page: https://www.facebook.com/MatpilateswithLynne/
URL:https://gorebridge.org.uk/upcomingevents/mat-pilates-with-lynne/2025-10-28/
CATEGORIES:Beacon,Events
END:VEVENT
BEGIN:VEVENT
DTSTART;TZID=Europe/London:20251022T191500
DTEND;TZID=Europe/London:20251022T201500
DTSTAMP:20260424T053327
CREATED:20250221T112927Z
LAST-MODIFIED:20250221T112927Z
UID:13175-1761160500-1761164100@gorebridge.org.uk
SUMMARY:Mat Pilates with Lynne
DESCRIPTION:Improve flexibility. Increase your range of movement. Improve posture. Ease still joints and lower back pain. Feel great. \nLynne offers Pilates classes on a Tuesday morning at the Beacon. For more information/booking please go to here Facebook Page: https://www.facebook.com/MatpilateswithLynne/
URL:https://gorebridge.org.uk/upcomingevents/mat-pilates-with-lynne/2025-10-22/
CATEGORIES:Beacon,Events
END:VEVENT
BEGIN:VEVENT
DTSTART;TZID=Europe/London:20251021T191500
DTEND;TZID=Europe/London:20251021T201500
DTSTAMP:20260424T053327
CREATED:20250221T112927Z
LAST-MODIFIED:20250221T112927Z
UID:13174-1761074100-1761077700@gorebridge.org.uk
SUMMARY:Mat Pilates with Lynne
DESCRIPTION:Improve flexibility. Increase your range of movement. Improve posture. Ease still joints and lower back pain. Feel great. \nLynne offers Pilates classes on a Tuesday morning at the Beacon. For more information/booking please go to here Facebook Page: https://www.facebook.com/MatpilateswithLynne/
URL:https://gorebridge.org.uk/upcomingevents/mat-pilates-with-lynne/2025-10-21/
CATEGORIES:Beacon,Events
END:VEVENT
BEGIN:VEVENT
DTSTART;TZID=Europe/London:20251021T100000
DTEND;TZID=Europe/London:20251021T110000
DTSTAMP:20260424T053327
CREATED:20250221T112927Z
LAST-MODIFIED:20250221T124424Z
UID:12961-1761040800-1761044400@gorebridge.org.uk
SUMMARY:Mat Pilates with Lynne
DESCRIPTION:Improve flexibility. Increase your range of movement. Improve posture. Ease still joints and lower back pain. Feel great. \nLynne offers Pilates classes on a Tuesday morning at the Beacon. For more information/booking please go to here Facebook Page: https://www.facebook.com/MatpilateswithLynne/
URL:https://gorebridge.org.uk/upcomingevents/mat-pilates-with-lynne/2025-10-21/
CATEGORIES:Beacon,Events
END:VEVENT
BEGIN:VEVENT
DTSTART;TZID=Europe/London:20251015T191500
DTEND;TZID=Europe/London:20251015T201500
DTSTAMP:20260424T053327
CREATED:20250221T112927Z
LAST-MODIFIED:20250221T112927Z
UID:13173-1760555700-1760559300@gorebridge.org.uk
SUMMARY:Mat Pilates with Lynne
DESCRIPTION:Improve flexibility. Increase your range of movement. Improve posture. Ease still joints and lower back pain. Feel great. \nLynne offers Pilates classes on a Tuesday morning at the Beacon. For more information/booking please go to here Facebook Page: https://www.facebook.com/MatpilateswithLynne/
URL:https://gorebridge.org.uk/upcomingevents/mat-pilates-with-lynne/2025-10-15/
CATEGORIES:Beacon,Events
END:VEVENT
BEGIN:VEVENT
DTSTART;TZID=Europe/London:20251014T191500
DTEND;TZID=Europe/London:20251014T201500
DTSTAMP:20260424T053327
CREATED:20250221T112927Z
LAST-MODIFIED:20250221T112927Z
UID:13172-1760469300-1760472900@gorebridge.org.uk
SUMMARY:Mat Pilates with Lynne
DESCRIPTION:Improve flexibility. Increase your range of movement. Improve posture. Ease still joints and lower back pain. Feel great. \nLynne offers Pilates classes on a Tuesday morning at the Beacon. For more information/booking please go to here Facebook Page: https://www.facebook.com/MatpilateswithLynne/
URL:https://gorebridge.org.uk/upcomingevents/mat-pilates-with-lynne/2025-10-14/
CATEGORIES:Beacon,Events
END:VEVENT
BEGIN:VEVENT
DTSTART;TZID=Europe/London:20251014T100000
DTEND;TZID=Europe/London:20251014T110000
DTSTAMP:20260424T053327
CREATED:20250221T112927Z
LAST-MODIFIED:20250221T124421Z
UID:12960-1760436000-1760439600@gorebridge.org.uk
SUMMARY:Mat Pilates with Lynne
DESCRIPTION:Improve flexibility. Increase your range of movement. Improve posture. Ease still joints and lower back pain. Feel great. \nLynne offers Pilates classes on a Tuesday morning at the Beacon. For more information/booking please go to here Facebook Page: https://www.facebook.com/MatpilateswithLynne/
URL:https://gorebridge.org.uk/upcomingevents/mat-pilates-with-lynne/2025-10-14/
CATEGORIES:Beacon,Events
END:VEVENT
END:VCALENDAR