BEGIN:VCALENDAR
VERSION:2.0
PRODID:-//Gorebridge Community Development Trust - ECPv6.15.20//NONSGML v1.0//EN
CALSCALE:GREGORIAN
METHOD:PUBLISH
X-ORIGINAL-URL:https://gorebridge.org.uk
X-WR-CALDESC:Events for Gorebridge Community Development Trust
REFRESH-INTERVAL;VALUE=DURATION:PT1H
X-Robots-Tag:noindex
X-PUBLISHED-TTL:PT1H
BEGIN:VTIMEZONE
TZID:Europe/London
BEGIN:DAYLIGHT
TZOFFSETFROM:+0000
TZOFFSETTO:+0100
TZNAME:BST
DTSTART:20200329T010000
END:DAYLIGHT
BEGIN:STANDARD
TZOFFSETFROM:+0100
TZOFFSETTO:+0000
TZNAME:GMT
DTSTART:20201025T010000
END:STANDARD
BEGIN:DAYLIGHT
TZOFFSETFROM:+0000
TZOFFSETTO:+0100
TZNAME:BST
DTSTART:20210328T010000
END:DAYLIGHT
BEGIN:STANDARD
TZOFFSETFROM:+0100
TZOFFSETTO:+0000
TZNAME:GMT
DTSTART:20211031T010000
END:STANDARD
BEGIN:DAYLIGHT
TZOFFSETFROM:+0000
TZOFFSETTO:+0100
TZNAME:BST
DTSTART:20220327T010000
END:DAYLIGHT
BEGIN:STANDARD
TZOFFSETFROM:+0100
TZOFFSETTO:+0000
TZNAME:GMT
DTSTART:20221030T010000
END:STANDARD
END:VTIMEZONE
BEGIN:VEVENT
DTSTART;TZID=Europe/London:20210526T180000
DTEND;TZID=Europe/London:20210526T190000
DTSTAMP:20260424T113257
CREATED:20210513T093824Z
LAST-MODIFIED:20210531T125849Z
UID:6144-1622052000-1622055600@gorebridge.org.uk
SUMMARY:Puppacino Pop Up Cafe
DESCRIPTION:An opportunity in a real life environment for you and your puppy to learn the practical skills your dog needs to become an abassadog in their own community. \nOr\, you want to be able to take a calm dog into a public space\, like a cafe. \nWe asked on Facebook ‘Interest or not? We have been asked if we could host a ‘Puppy Cafe Training Classy Type Thing’. Which basically is a room full of puppies and young dogs\, with their owners\, learning how to be out in public places. Does this make sense? There have been a few ‘oh\, that would be good’ replies\, but is there interest? What say you?’ and the response was an overwhelming yes! \nSo we got in touch with Tynewater Dog Training\, we met with them and within 2 hours they came up with a plan to make it happen. Puppacino Pop Up Cafe is a 2 hour session spread over two evenings (26th May and 2nd June) 6 – 7pm here at the Beacon. The maximum number is 12\, and each puppy can have two humans with he/she. Fo social distancing we will split up 4 dogs and owners (max 2) with one trainer. \nThe cost for both sessions is £10\, and the cafe will be open for drinks/cakes so that we can make it as real as possible. Your £10 will cover the cost of hire at the Beacon. \nThings Tynewater Trainers will cover/help with: \n\nSettling\nLeaving Food\nIgnoring other dos\nIgnoring other people\nSelf control\nFocus on my family\nPuppy manners in the moment\n\nBy booking you agree to your details being shared with Tynewater Dog Training; they will be sending you a pre-session email or two. \nTo book\, please click here.
URL:https://gorebridge.org.uk/upcomingevents/puppacino-pop-up-cafe/2021-05-26/
LOCATION:Gorebridge Beacon
CATEGORIES:Beacon,Events
ATTACH;FMTTYPE=image/jpeg:https://gorebridge.org.uk/wp-content/uploads/2021/05/Puppacino-Smaller.jpg
END:VEVENT
END:VCALENDAR