BEGIN:VCALENDAR
VERSION:2.0
PRODID:-//Gorebridge Community Development Trust - ECPv6.15.20//NONSGML v1.0//EN
CALSCALE:GREGORIAN
METHOD:PUBLISH
X-WR-CALNAME:Gorebridge Community Development Trust
X-ORIGINAL-URL:https://gorebridge.org.uk
X-WR-CALDESC:Events for Gorebridge Community Development Trust
REFRESH-INTERVAL;VALUE=DURATION:PT1H
X-Robots-Tag:noindex
X-PUBLISHED-TTL:PT1H
BEGIN:VTIMEZONE
TZID:Europe/London
BEGIN:DAYLIGHT
TZOFFSETFROM:+0000
TZOFFSETTO:+0100
TZNAME:BST
DTSTART:20230326T010000
END:DAYLIGHT
BEGIN:STANDARD
TZOFFSETFROM:+0100
TZOFFSETTO:+0000
TZNAME:GMT
DTSTART:20231029T010000
END:STANDARD
BEGIN:DAYLIGHT
TZOFFSETFROM:+0000
TZOFFSETTO:+0100
TZNAME:BST
DTSTART:20240331T010000
END:DAYLIGHT
BEGIN:STANDARD
TZOFFSETFROM:+0100
TZOFFSETTO:+0000
TZNAME:GMT
DTSTART:20241027T010000
END:STANDARD
BEGIN:DAYLIGHT
TZOFFSETFROM:+0000
TZOFFSETTO:+0100
TZNAME:BST
DTSTART:20250330T010000
END:DAYLIGHT
BEGIN:STANDARD
TZOFFSETFROM:+0100
TZOFFSETTO:+0000
TZNAME:GMT
DTSTART:20251026T010000
END:STANDARD
END:VTIMEZONE
BEGIN:VEVENT
DTSTART;TZID=Europe/London:20240810T100000
DTEND;TZID=Europe/London:20240810T120000
DTSTAMP:20260424T101528
CREATED:20240731T083222Z
LAST-MODIFIED:20240731T083222Z
UID:11803-1723284000-1723291200@gorebridge.org.uk
SUMMARY:School Uniform Exchange
DESCRIPTION:Pop along to the Beacon between 10 and 12PM on the 7th – 10th August for some preloved uniform. \nWant to bring some? Please do this before the 6th of August.
URL:https://gorebridge.org.uk/upcomingevents/school-uniform-exchange-2/2024-08-10/
CATEGORIES:Beacon,Family Activities
END:VEVENT
BEGIN:VEVENT
DTSTART;TZID=Europe/London:20240809T100000
DTEND;TZID=Europe/London:20240809T120000
DTSTAMP:20260424T101528
CREATED:20240731T083222Z
LAST-MODIFIED:20240731T083222Z
UID:11802-1723197600-1723204800@gorebridge.org.uk
SUMMARY:School Uniform Exchange
DESCRIPTION:Pop along to the Beacon between 10 and 12PM on the 7th – 10th August for some preloved uniform. \nWant to bring some? Please do this before the 6th of August.
URL:https://gorebridge.org.uk/upcomingevents/school-uniform-exchange-2/2024-08-09/
CATEGORIES:Beacon,Family Activities
END:VEVENT
BEGIN:VEVENT
DTSTART;TZID=Europe/London:20240808T100000
DTEND;TZID=Europe/London:20240808T120000
DTSTAMP:20260424T101528
CREATED:20240731T083222Z
LAST-MODIFIED:20240731T083222Z
UID:11801-1723111200-1723118400@gorebridge.org.uk
SUMMARY:School Uniform Exchange
DESCRIPTION:Pop along to the Beacon between 10 and 12PM on the 7th – 10th August for some preloved uniform. \nWant to bring some? Please do this before the 6th of August.
URL:https://gorebridge.org.uk/upcomingevents/school-uniform-exchange-2/2024-08-08/
CATEGORIES:Beacon,Family Activities
END:VEVENT
BEGIN:VEVENT
DTSTART;TZID=Europe/London:20240807T100000
DTEND;TZID=Europe/London:20240807T120000
DTSTAMP:20260424T101528
CREATED:20240731T083222Z
LAST-MODIFIED:20240731T083222Z
UID:11800-1723024800-1723032000@gorebridge.org.uk
SUMMARY:School Uniform Exchange
DESCRIPTION:Pop along to the Beacon between 10 and 12PM on the 7th – 10th August for some preloved uniform. \nWant to bring some? Please do this before the 6th of August.
URL:https://gorebridge.org.uk/upcomingevents/school-uniform-exchange-2/2024-08-07/
CATEGORIES:Beacon,Family Activities
END:VEVENT
END:VCALENDAR