BEGIN:VCALENDAR
VERSION:2.0
PRODID:-//Gorebridge Community Development Trust - ECPv6.15.20//NONSGML v1.0//EN
CALSCALE:GREGORIAN
METHOD:PUBLISH
X-WR-CALNAME:Gorebridge Community Development Trust
X-ORIGINAL-URL:https://gorebridge.org.uk
X-WR-CALDESC:Events for Gorebridge Community Development Trust
REFRESH-INTERVAL;VALUE=DURATION:PT1H
X-Robots-Tag:noindex
X-PUBLISHED-TTL:PT1H
BEGIN:VTIMEZONE
TZID:Europe/London
BEGIN:DAYLIGHT
TZOFFSETFROM:+0000
TZOFFSETTO:+0100
TZNAME:BST
DTSTART:20240331T010000
END:DAYLIGHT
BEGIN:STANDARD
TZOFFSETFROM:+0100
TZOFFSETTO:+0000
TZNAME:GMT
DTSTART:20241027T010000
END:STANDARD
BEGIN:DAYLIGHT
TZOFFSETFROM:+0000
TZOFFSETTO:+0100
TZNAME:BST
DTSTART:20250330T010000
END:DAYLIGHT
BEGIN:STANDARD
TZOFFSETFROM:+0100
TZOFFSETTO:+0000
TZNAME:GMT
DTSTART:20251026T010000
END:STANDARD
BEGIN:DAYLIGHT
TZOFFSETFROM:+0000
TZOFFSETTO:+0100
TZNAME:BST
DTSTART:20260329T010000
END:DAYLIGHT
BEGIN:STANDARD
TZOFFSETFROM:+0100
TZOFFSETTO:+0000
TZNAME:GMT
DTSTART:20261025T010000
END:STANDARD
END:VTIMEZONE
BEGIN:VEVENT
DTSTART;TZID=Europe/London:20251218T090000
DTEND;TZID=Europe/London:20251218T160000
DTSTAMP:20260424T043749
CREATED:20250221T133821Z
LAST-MODIFIED:20250221T133821Z
UID:13454-1766048400-1766073600@gorebridge.org.uk
SUMMARY:Skills Development Scotland Careers Outreach
DESCRIPTION:Skills Development Scotland’s careers advisers are available to speak in the Gorebridge Beacon\, every Thursday. To book an appointment please call the national helpline on 0800 917 8000.
URL:https://gorebridge.org.uk/upcomingevents/skills-development-scotland-careers-outreach/2025-12-18/
LOCATION:Gorebridge Beacon
CATEGORIES:Events
END:VEVENT
BEGIN:VEVENT
DTSTART;TZID=Europe/London:20251211T090000
DTEND;TZID=Europe/London:20251211T160000
DTSTAMP:20260424T043749
CREATED:20250221T133821Z
LAST-MODIFIED:20250221T133821Z
UID:13453-1765443600-1765468800@gorebridge.org.uk
SUMMARY:Skills Development Scotland Careers Outreach
DESCRIPTION:Skills Development Scotland’s careers advisers are available to speak in the Gorebridge Beacon\, every Thursday. To book an appointment please call the national helpline on 0800 917 8000.
URL:https://gorebridge.org.uk/upcomingevents/skills-development-scotland-careers-outreach/2025-12-11/
LOCATION:Gorebridge Beacon
CATEGORIES:Events
END:VEVENT
BEGIN:VEVENT
DTSTART;TZID=Europe/London:20251204T090000
DTEND;TZID=Europe/London:20251204T160000
DTSTAMP:20260424T043749
CREATED:20250221T133821Z
LAST-MODIFIED:20250221T133821Z
UID:13452-1764838800-1764864000@gorebridge.org.uk
SUMMARY:Skills Development Scotland Careers Outreach
DESCRIPTION:Skills Development Scotland’s careers advisers are available to speak in the Gorebridge Beacon\, every Thursday. To book an appointment please call the national helpline on 0800 917 8000.
URL:https://gorebridge.org.uk/upcomingevents/skills-development-scotland-careers-outreach/2025-12-04/
LOCATION:Gorebridge Beacon
CATEGORIES:Events
END:VEVENT
BEGIN:VEVENT
DTSTART;TZID=Europe/London:20251127T090000
DTEND;TZID=Europe/London:20251127T160000
DTSTAMP:20260424T043749
CREATED:20250221T133821Z
LAST-MODIFIED:20250221T133821Z
UID:13451-1764234000-1764259200@gorebridge.org.uk
SUMMARY:Skills Development Scotland Careers Outreach
DESCRIPTION:Skills Development Scotland’s careers advisers are available to speak in the Gorebridge Beacon\, every Thursday. To book an appointment please call the national helpline on 0800 917 8000.
URL:https://gorebridge.org.uk/upcomingevents/skills-development-scotland-careers-outreach/2025-11-27/
LOCATION:Gorebridge Beacon
CATEGORIES:Events
END:VEVENT
BEGIN:VEVENT
DTSTART;TZID=Europe/London:20251120T090000
DTEND;TZID=Europe/London:20251120T160000
DTSTAMP:20260424T043749
CREATED:20250221T133821Z
LAST-MODIFIED:20250221T133821Z
UID:13450-1763629200-1763654400@gorebridge.org.uk
SUMMARY:Skills Development Scotland Careers Outreach
DESCRIPTION:Skills Development Scotland’s careers advisers are available to speak in the Gorebridge Beacon\, every Thursday. To book an appointment please call the national helpline on 0800 917 8000.
URL:https://gorebridge.org.uk/upcomingevents/skills-development-scotland-careers-outreach/2025-11-20/
LOCATION:Gorebridge Beacon
CATEGORIES:Events
END:VEVENT
BEGIN:VEVENT
DTSTART;TZID=Europe/London:20251113T090000
DTEND;TZID=Europe/London:20251113T160000
DTSTAMP:20260424T043749
CREATED:20250221T133821Z
LAST-MODIFIED:20250221T133821Z
UID:13449-1763024400-1763049600@gorebridge.org.uk
SUMMARY:Skills Development Scotland Careers Outreach
DESCRIPTION:Skills Development Scotland’s careers advisers are available to speak in the Gorebridge Beacon\, every Thursday. To book an appointment please call the national helpline on 0800 917 8000.
URL:https://gorebridge.org.uk/upcomingevents/skills-development-scotland-careers-outreach/2025-11-13/
LOCATION:Gorebridge Beacon
CATEGORIES:Events
END:VEVENT
BEGIN:VEVENT
DTSTART;TZID=Europe/London:20251106T090000
DTEND;TZID=Europe/London:20251106T160000
DTSTAMP:20260424T043749
CREATED:20250221T133821Z
LAST-MODIFIED:20250221T133821Z
UID:13448-1762419600-1762444800@gorebridge.org.uk
SUMMARY:Skills Development Scotland Careers Outreach
DESCRIPTION:Skills Development Scotland’s careers advisers are available to speak in the Gorebridge Beacon\, every Thursday. To book an appointment please call the national helpline on 0800 917 8000.
URL:https://gorebridge.org.uk/upcomingevents/skills-development-scotland-careers-outreach/2025-11-06/
LOCATION:Gorebridge Beacon
CATEGORIES:Events
END:VEVENT
BEGIN:VEVENT
DTSTART;TZID=Europe/London:20251030T090000
DTEND;TZID=Europe/London:20251030T160000
DTSTAMP:20260424T043749
CREATED:20250221T133821Z
LAST-MODIFIED:20250221T133821Z
UID:13447-1761814800-1761840000@gorebridge.org.uk
SUMMARY:Skills Development Scotland Careers Outreach
DESCRIPTION:Skills Development Scotland’s careers advisers are available to speak in the Gorebridge Beacon\, every Thursday. To book an appointment please call the national helpline on 0800 917 8000.
URL:https://gorebridge.org.uk/upcomingevents/skills-development-scotland-careers-outreach/2025-10-30/
LOCATION:Gorebridge Beacon
CATEGORIES:Events
END:VEVENT
BEGIN:VEVENT
DTSTART;TZID=Europe/London:20251023T090000
DTEND;TZID=Europe/London:20251023T160000
DTSTAMP:20260424T043749
CREATED:20250221T133821Z
LAST-MODIFIED:20250221T133821Z
UID:13446-1761210000-1761235200@gorebridge.org.uk
SUMMARY:Skills Development Scotland Careers Outreach
DESCRIPTION:Skills Development Scotland’s careers advisers are available to speak in the Gorebridge Beacon\, every Thursday. To book an appointment please call the national helpline on 0800 917 8000.
URL:https://gorebridge.org.uk/upcomingevents/skills-development-scotland-careers-outreach/2025-10-23/
LOCATION:Gorebridge Beacon
CATEGORIES:Events
END:VEVENT
BEGIN:VEVENT
DTSTART;TZID=Europe/London:20251016T090000
DTEND;TZID=Europe/London:20251016T160000
DTSTAMP:20260424T043749
CREATED:20250221T133821Z
LAST-MODIFIED:20250221T133821Z
UID:13445-1760605200-1760630400@gorebridge.org.uk
SUMMARY:Skills Development Scotland Careers Outreach
DESCRIPTION:Skills Development Scotland’s careers advisers are available to speak in the Gorebridge Beacon\, every Thursday. To book an appointment please call the national helpline on 0800 917 8000.
URL:https://gorebridge.org.uk/upcomingevents/skills-development-scotland-careers-outreach/2025-10-16/
LOCATION:Gorebridge Beacon
CATEGORIES:Events
END:VEVENT
BEGIN:VEVENT
DTSTART;TZID=Europe/London:20251009T090000
DTEND;TZID=Europe/London:20251009T160000
DTSTAMP:20260424T043749
CREATED:20250221T133821Z
LAST-MODIFIED:20250221T133821Z
UID:13444-1760000400-1760025600@gorebridge.org.uk
SUMMARY:Skills Development Scotland Careers Outreach
DESCRIPTION:Skills Development Scotland’s careers advisers are available to speak in the Gorebridge Beacon\, every Thursday. To book an appointment please call the national helpline on 0800 917 8000.
URL:https://gorebridge.org.uk/upcomingevents/skills-development-scotland-careers-outreach/2025-10-09/
LOCATION:Gorebridge Beacon
CATEGORIES:Events
END:VEVENT
BEGIN:VEVENT
DTSTART;TZID=Europe/London:20251002T090000
DTEND;TZID=Europe/London:20251002T160000
DTSTAMP:20260424T043749
CREATED:20250221T133821Z
LAST-MODIFIED:20250221T133821Z
UID:13443-1759395600-1759420800@gorebridge.org.uk
SUMMARY:Skills Development Scotland Careers Outreach
DESCRIPTION:Skills Development Scotland’s careers advisers are available to speak in the Gorebridge Beacon\, every Thursday. To book an appointment please call the national helpline on 0800 917 8000.
URL:https://gorebridge.org.uk/upcomingevents/skills-development-scotland-careers-outreach/2025-10-02/
LOCATION:Gorebridge Beacon
CATEGORIES:Events
END:VEVENT
BEGIN:VEVENT
DTSTART;TZID=Europe/London:20250925T090000
DTEND;TZID=Europe/London:20250925T160000
DTSTAMP:20260424T043749
CREATED:20250221T133821Z
LAST-MODIFIED:20250221T133821Z
UID:13442-1758790800-1758816000@gorebridge.org.uk
SUMMARY:Skills Development Scotland Careers Outreach
DESCRIPTION:Skills Development Scotland’s careers advisers are available to speak in the Gorebridge Beacon\, every Thursday. To book an appointment please call the national helpline on 0800 917 8000.
URL:https://gorebridge.org.uk/upcomingevents/skills-development-scotland-careers-outreach/2025-09-25/
LOCATION:Gorebridge Beacon
CATEGORIES:Events
END:VEVENT
BEGIN:VEVENT
DTSTART;TZID=Europe/London:20250918T090000
DTEND;TZID=Europe/London:20250918T160000
DTSTAMP:20260424T043749
CREATED:20250221T133821Z
LAST-MODIFIED:20250221T133821Z
UID:13441-1758186000-1758211200@gorebridge.org.uk
SUMMARY:Skills Development Scotland Careers Outreach
DESCRIPTION:Skills Development Scotland’s careers advisers are available to speak in the Gorebridge Beacon\, every Thursday. To book an appointment please call the national helpline on 0800 917 8000.
URL:https://gorebridge.org.uk/upcomingevents/skills-development-scotland-careers-outreach/2025-09-18/
LOCATION:Gorebridge Beacon
CATEGORIES:Events
END:VEVENT
BEGIN:VEVENT
DTSTART;TZID=Europe/London:20250911T090000
DTEND;TZID=Europe/London:20250911T160000
DTSTAMP:20260424T043749
CREATED:20250221T133821Z
LAST-MODIFIED:20250221T133821Z
UID:13440-1757581200-1757606400@gorebridge.org.uk
SUMMARY:Skills Development Scotland Careers Outreach
DESCRIPTION:Skills Development Scotland’s careers advisers are available to speak in the Gorebridge Beacon\, every Thursday. To book an appointment please call the national helpline on 0800 917 8000.
URL:https://gorebridge.org.uk/upcomingevents/skills-development-scotland-careers-outreach/2025-09-11/
LOCATION:Gorebridge Beacon
CATEGORIES:Events
END:VEVENT
BEGIN:VEVENT
DTSTART;TZID=Europe/London:20250904T090000
DTEND;TZID=Europe/London:20250904T160000
DTSTAMP:20260424T043749
CREATED:20250221T133821Z
LAST-MODIFIED:20250221T133821Z
UID:13439-1756976400-1757001600@gorebridge.org.uk
SUMMARY:Skills Development Scotland Careers Outreach
DESCRIPTION:Skills Development Scotland’s careers advisers are available to speak in the Gorebridge Beacon\, every Thursday. To book an appointment please call the national helpline on 0800 917 8000.
URL:https://gorebridge.org.uk/upcomingevents/skills-development-scotland-careers-outreach/2025-09-04/
LOCATION:Gorebridge Beacon
CATEGORIES:Events
END:VEVENT
BEGIN:VEVENT
DTSTART;TZID=Europe/London:20250828T090000
DTEND;TZID=Europe/London:20250828T160000
DTSTAMP:20260424T043749
CREATED:20250221T133821Z
LAST-MODIFIED:20250221T133821Z
UID:13438-1756371600-1756396800@gorebridge.org.uk
SUMMARY:Skills Development Scotland Careers Outreach
DESCRIPTION:Skills Development Scotland’s careers advisers are available to speak in the Gorebridge Beacon\, every Thursday. To book an appointment please call the national helpline on 0800 917 8000.
URL:https://gorebridge.org.uk/upcomingevents/skills-development-scotland-careers-outreach/2025-08-28/
LOCATION:Gorebridge Beacon
CATEGORIES:Events
END:VEVENT
BEGIN:VEVENT
DTSTART;TZID=Europe/London:20250821T090000
DTEND;TZID=Europe/London:20250821T160000
DTSTAMP:20260424T043749
CREATED:20250221T133821Z
LAST-MODIFIED:20250221T133821Z
UID:13437-1755766800-1755792000@gorebridge.org.uk
SUMMARY:Skills Development Scotland Careers Outreach
DESCRIPTION:Skills Development Scotland’s careers advisers are available to speak in the Gorebridge Beacon\, every Thursday. To book an appointment please call the national helpline on 0800 917 8000.
URL:https://gorebridge.org.uk/upcomingevents/skills-development-scotland-careers-outreach/2025-08-21/
LOCATION:Gorebridge Beacon
CATEGORIES:Events
END:VEVENT
BEGIN:VEVENT
DTSTART;TZID=Europe/London:20250814T090000
DTEND;TZID=Europe/London:20250814T160000
DTSTAMP:20260424T043749
CREATED:20250221T133821Z
LAST-MODIFIED:20250221T133821Z
UID:13436-1755162000-1755187200@gorebridge.org.uk
SUMMARY:Skills Development Scotland Careers Outreach
DESCRIPTION:Skills Development Scotland’s careers advisers are available to speak in the Gorebridge Beacon\, every Thursday. To book an appointment please call the national helpline on 0800 917 8000.
URL:https://gorebridge.org.uk/upcomingevents/skills-development-scotland-careers-outreach/2025-08-14/
LOCATION:Gorebridge Beacon
CATEGORIES:Events
END:VEVENT
BEGIN:VEVENT
DTSTART;TZID=Europe/London:20250807T090000
DTEND;TZID=Europe/London:20250807T160000
DTSTAMP:20260424T043749
CREATED:20250221T133821Z
LAST-MODIFIED:20250221T133821Z
UID:13435-1754557200-1754582400@gorebridge.org.uk
SUMMARY:Skills Development Scotland Careers Outreach
DESCRIPTION:Skills Development Scotland’s careers advisers are available to speak in the Gorebridge Beacon\, every Thursday. To book an appointment please call the national helpline on 0800 917 8000.
URL:https://gorebridge.org.uk/upcomingevents/skills-development-scotland-careers-outreach/2025-08-07/
LOCATION:Gorebridge Beacon
CATEGORIES:Events
END:VEVENT
BEGIN:VEVENT
DTSTART;TZID=Europe/London:20250731T090000
DTEND;TZID=Europe/London:20250731T160000
DTSTAMP:20260424T043749
CREATED:20250221T133821Z
LAST-MODIFIED:20250221T133821Z
UID:13434-1753952400-1753977600@gorebridge.org.uk
SUMMARY:Skills Development Scotland Careers Outreach
DESCRIPTION:Skills Development Scotland’s careers advisers are available to speak in the Gorebridge Beacon\, every Thursday. To book an appointment please call the national helpline on 0800 917 8000.
URL:https://gorebridge.org.uk/upcomingevents/skills-development-scotland-careers-outreach/2025-07-31/
LOCATION:Gorebridge Beacon
CATEGORIES:Events
END:VEVENT
BEGIN:VEVENT
DTSTART;TZID=Europe/London:20250724T090000
DTEND;TZID=Europe/London:20250724T160000
DTSTAMP:20260424T043749
CREATED:20250221T133821Z
LAST-MODIFIED:20250221T133821Z
UID:13433-1753347600-1753372800@gorebridge.org.uk
SUMMARY:Skills Development Scotland Careers Outreach
DESCRIPTION:Skills Development Scotland’s careers advisers are available to speak in the Gorebridge Beacon\, every Thursday. To book an appointment please call the national helpline on 0800 917 8000.
URL:https://gorebridge.org.uk/upcomingevents/skills-development-scotland-careers-outreach/2025-07-24/
LOCATION:Gorebridge Beacon
CATEGORIES:Events
END:VEVENT
BEGIN:VEVENT
DTSTART;TZID=Europe/London:20250717T090000
DTEND;TZID=Europe/London:20250717T160000
DTSTAMP:20260424T043749
CREATED:20250221T133821Z
LAST-MODIFIED:20250221T133821Z
UID:13432-1752742800-1752768000@gorebridge.org.uk
SUMMARY:Skills Development Scotland Careers Outreach
DESCRIPTION:Skills Development Scotland’s careers advisers are available to speak in the Gorebridge Beacon\, every Thursday. To book an appointment please call the national helpline on 0800 917 8000.
URL:https://gorebridge.org.uk/upcomingevents/skills-development-scotland-careers-outreach/2025-07-17/
LOCATION:Gorebridge Beacon
CATEGORIES:Events
END:VEVENT
BEGIN:VEVENT
DTSTART;TZID=Europe/London:20250710T090000
DTEND;TZID=Europe/London:20250710T160000
DTSTAMP:20260424T043749
CREATED:20250221T133821Z
LAST-MODIFIED:20250221T133821Z
UID:13431-1752138000-1752163200@gorebridge.org.uk
SUMMARY:Skills Development Scotland Careers Outreach
DESCRIPTION:Skills Development Scotland’s careers advisers are available to speak in the Gorebridge Beacon\, every Thursday. To book an appointment please call the national helpline on 0800 917 8000.
URL:https://gorebridge.org.uk/upcomingevents/skills-development-scotland-careers-outreach/2025-07-10/
LOCATION:Gorebridge Beacon
CATEGORIES:Events
END:VEVENT
BEGIN:VEVENT
DTSTART;TZID=Europe/London:20250703T090000
DTEND;TZID=Europe/London:20250703T160000
DTSTAMP:20260424T043749
CREATED:20250221T133821Z
LAST-MODIFIED:20250221T133821Z
UID:13430-1751533200-1751558400@gorebridge.org.uk
SUMMARY:Skills Development Scotland Careers Outreach
DESCRIPTION:Skills Development Scotland’s careers advisers are available to speak in the Gorebridge Beacon\, every Thursday. To book an appointment please call the national helpline on 0800 917 8000.
URL:https://gorebridge.org.uk/upcomingevents/skills-development-scotland-careers-outreach/2025-07-03/
LOCATION:Gorebridge Beacon
CATEGORIES:Events
END:VEVENT
BEGIN:VEVENT
DTSTART;TZID=Europe/London:20250626T090000
DTEND;TZID=Europe/London:20250626T160000
DTSTAMP:20260424T043749
CREATED:20250221T133821Z
LAST-MODIFIED:20250221T133821Z
UID:13429-1750928400-1750953600@gorebridge.org.uk
SUMMARY:Skills Development Scotland Careers Outreach
DESCRIPTION:Skills Development Scotland’s careers advisers are available to speak in the Gorebridge Beacon\, every Thursday. To book an appointment please call the national helpline on 0800 917 8000.
URL:https://gorebridge.org.uk/upcomingevents/skills-development-scotland-careers-outreach/2025-06-26/
LOCATION:Gorebridge Beacon
CATEGORIES:Events
END:VEVENT
BEGIN:VEVENT
DTSTART;TZID=Europe/London:20250619T090000
DTEND;TZID=Europe/London:20250619T160000
DTSTAMP:20260424T043749
CREATED:20250221T133821Z
LAST-MODIFIED:20250221T133821Z
UID:13428-1750323600-1750348800@gorebridge.org.uk
SUMMARY:Skills Development Scotland Careers Outreach
DESCRIPTION:Skills Development Scotland’s careers advisers are available to speak in the Gorebridge Beacon\, every Thursday. To book an appointment please call the national helpline on 0800 917 8000.
URL:https://gorebridge.org.uk/upcomingevents/skills-development-scotland-careers-outreach/2025-06-19/
LOCATION:Gorebridge Beacon
CATEGORIES:Events
END:VEVENT
BEGIN:VEVENT
DTSTART;TZID=Europe/London:20250612T090000
DTEND;TZID=Europe/London:20250612T160000
DTSTAMP:20260424T043749
CREATED:20250221T133821Z
LAST-MODIFIED:20250221T133821Z
UID:13427-1749718800-1749744000@gorebridge.org.uk
SUMMARY:Skills Development Scotland Careers Outreach
DESCRIPTION:Skills Development Scotland’s careers advisers are available to speak in the Gorebridge Beacon\, every Thursday. To book an appointment please call the national helpline on 0800 917 8000.
URL:https://gorebridge.org.uk/upcomingevents/skills-development-scotland-careers-outreach/2025-06-12/
LOCATION:Gorebridge Beacon
CATEGORIES:Events
END:VEVENT
BEGIN:VEVENT
DTSTART;TZID=Europe/London:20250605T090000
DTEND;TZID=Europe/London:20250605T160000
DTSTAMP:20260424T043749
CREATED:20250221T133821Z
LAST-MODIFIED:20250221T133821Z
UID:13426-1749114000-1749139200@gorebridge.org.uk
SUMMARY:Skills Development Scotland Careers Outreach
DESCRIPTION:Skills Development Scotland’s careers advisers are available to speak in the Gorebridge Beacon\, every Thursday. To book an appointment please call the national helpline on 0800 917 8000.
URL:https://gorebridge.org.uk/upcomingevents/skills-development-scotland-careers-outreach/2025-06-05/
LOCATION:Gorebridge Beacon
CATEGORIES:Events
END:VEVENT
BEGIN:VEVENT
DTSTART;TZID=Europe/London:20250529T090000
DTEND;TZID=Europe/London:20250529T160000
DTSTAMP:20260424T043749
CREATED:20250221T133821Z
LAST-MODIFIED:20250221T133821Z
UID:13425-1748509200-1748534400@gorebridge.org.uk
SUMMARY:Skills Development Scotland Careers Outreach
DESCRIPTION:Skills Development Scotland’s careers advisers are available to speak in the Gorebridge Beacon\, every Thursday. To book an appointment please call the national helpline on 0800 917 8000.
URL:https://gorebridge.org.uk/upcomingevents/skills-development-scotland-careers-outreach/2025-05-29/
LOCATION:Gorebridge Beacon
CATEGORIES:Events
END:VEVENT
END:VCALENDAR