BEGIN:VCALENDAR
VERSION:2.0
PRODID:-//Gorebridge Community Development Trust - ECPv6.15.20//NONSGML v1.0//EN
CALSCALE:GREGORIAN
METHOD:PUBLISH
X-ORIGINAL-URL:https://gorebridge.org.uk
X-WR-CALDESC:Events for Gorebridge Community Development Trust
REFRESH-INTERVAL;VALUE=DURATION:PT1H
X-Robots-Tag:noindex
X-PUBLISHED-TTL:PT1H
BEGIN:VTIMEZONE
TZID:Europe/London
BEGIN:DAYLIGHT
TZOFFSETFROM:+0000
TZOFFSETTO:+0100
TZNAME:BST
DTSTART:20230326T010000
END:DAYLIGHT
BEGIN:STANDARD
TZOFFSETFROM:+0100
TZOFFSETTO:+0000
TZNAME:GMT
DTSTART:20231029T010000
END:STANDARD
BEGIN:DAYLIGHT
TZOFFSETFROM:+0000
TZOFFSETTO:+0100
TZNAME:BST
DTSTART:20240331T010000
END:DAYLIGHT
BEGIN:STANDARD
TZOFFSETFROM:+0100
TZOFFSETTO:+0000
TZNAME:GMT
DTSTART:20241027T010000
END:STANDARD
BEGIN:DAYLIGHT
TZOFFSETFROM:+0000
TZOFFSETTO:+0100
TZNAME:BST
DTSTART:20250330T010000
END:DAYLIGHT
BEGIN:STANDARD
TZOFFSETFROM:+0100
TZOFFSETTO:+0000
TZNAME:GMT
DTSTART:20251026T010000
END:STANDARD
END:VTIMEZONE
BEGIN:VEVENT
DTSTART;TZID=Europe/London:20241023T090000
DTEND;TZID=Europe/London:20241023T160000
DTSTAMP:20260424T100032
CREATED:20240612T171550Z
LAST-MODIFIED:20240612T171550Z
UID:11527-1729674000-1729699200@gorebridge.org.uk
SUMMARY:Skills Development Scotland
DESCRIPTION:Skills Development Scotland support help people find rewarding careers. They also provide careers information\, advice and guidance\, and work-based training programmes. \nSkills Development Scotland – Career Delivery Service will be at the Gorebridge Beacon 9 – 5PM on the following dates: \n20th June\n4th July\n18 July\n1 August\n15 August\n29 August \nCall 0131 663 7287 to make an appointment with a Career Adviser.
URL:https://gorebridge.org.uk/upcomingevents/skills-development-scotland/2024-10-23/
CATEGORIES:Beacon,Employability,Events
END:VEVENT
BEGIN:VEVENT
DTSTART;TZID=Europe/London:20241009T090000
DTEND;TZID=Europe/London:20241009T160000
DTSTAMP:20260424T100032
CREATED:20240612T171550Z
LAST-MODIFIED:20240612T171550Z
UID:11526-1728464400-1728489600@gorebridge.org.uk
SUMMARY:Skills Development Scotland
DESCRIPTION:Skills Development Scotland support help people find rewarding careers. They also provide careers information\, advice and guidance\, and work-based training programmes. \nSkills Development Scotland – Career Delivery Service will be at the Gorebridge Beacon 9 – 5PM on the following dates: \n20th June\n4th July\n18 July\n1 August\n15 August\n29 August \nCall 0131 663 7287 to make an appointment with a Career Adviser.
URL:https://gorebridge.org.uk/upcomingevents/skills-development-scotland/2024-10-09/
CATEGORIES:Beacon,Employability,Events
END:VEVENT
BEGIN:VEVENT
DTSTART;TZID=Europe/London:20240925T090000
DTEND;TZID=Europe/London:20240925T160000
DTSTAMP:20260424T100032
CREATED:20240612T171550Z
LAST-MODIFIED:20240612T171550Z
UID:11525-1727254800-1727280000@gorebridge.org.uk
SUMMARY:Skills Development Scotland
DESCRIPTION:Skills Development Scotland support help people find rewarding careers. They also provide careers information\, advice and guidance\, and work-based training programmes. \nSkills Development Scotland – Career Delivery Service will be at the Gorebridge Beacon 9 – 5PM on the following dates: \n20th June\n4th July\n18 July\n1 August\n15 August\n29 August \nCall 0131 663 7287 to make an appointment with a Career Adviser.
URL:https://gorebridge.org.uk/upcomingevents/skills-development-scotland/2024-09-25/
CATEGORIES:Beacon,Employability,Events
END:VEVENT
BEGIN:VEVENT
DTSTART;TZID=Europe/London:20240911T090000
DTEND;TZID=Europe/London:20240911T160000
DTSTAMP:20260424T100032
CREATED:20240612T171550Z
LAST-MODIFIED:20240612T171550Z
UID:11524-1726045200-1726070400@gorebridge.org.uk
SUMMARY:Skills Development Scotland
DESCRIPTION:Skills Development Scotland support help people find rewarding careers. They also provide careers information\, advice and guidance\, and work-based training programmes. \nSkills Development Scotland – Career Delivery Service will be at the Gorebridge Beacon 9 – 5PM on the following dates: \n20th June\n4th July\n18 July\n1 August\n15 August\n29 August \nCall 0131 663 7287 to make an appointment with a Career Adviser.
URL:https://gorebridge.org.uk/upcomingevents/skills-development-scotland/2024-09-11/
CATEGORIES:Beacon,Employability,Events
END:VEVENT
BEGIN:VEVENT
DTSTART;TZID=Europe/London:20240828T090000
DTEND;TZID=Europe/London:20240828T160000
DTSTAMP:20260424T100032
CREATED:20240612T171550Z
LAST-MODIFIED:20240612T171550Z
UID:11523-1724835600-1724860800@gorebridge.org.uk
SUMMARY:Skills Development Scotland
DESCRIPTION:Skills Development Scotland support help people find rewarding careers. They also provide careers information\, advice and guidance\, and work-based training programmes. \nSkills Development Scotland – Career Delivery Service will be at the Gorebridge Beacon 9 – 5PM on the following dates: \n20th June\n4th July\n18 July\n1 August\n15 August\n29 August \nCall 0131 663 7287 to make an appointment with a Career Adviser.
URL:https://gorebridge.org.uk/upcomingevents/skills-development-scotland/2024-08-28/
CATEGORIES:Beacon,Employability,Events
END:VEVENT
BEGIN:VEVENT
DTSTART;TZID=Europe/London:20240814T090000
DTEND;TZID=Europe/London:20240814T160000
DTSTAMP:20260424T100032
CREATED:20240612T171550Z
LAST-MODIFIED:20240612T171550Z
UID:11522-1723626000-1723651200@gorebridge.org.uk
SUMMARY:Skills Development Scotland
DESCRIPTION:Skills Development Scotland support help people find rewarding careers. They also provide careers information\, advice and guidance\, and work-based training programmes. \nSkills Development Scotland – Career Delivery Service will be at the Gorebridge Beacon 9 – 5PM on the following dates: \n20th June\n4th July\n18 July\n1 August\n15 August\n29 August \nCall 0131 663 7287 to make an appointment with a Career Adviser.
URL:https://gorebridge.org.uk/upcomingevents/skills-development-scotland/2024-08-14/
CATEGORIES:Beacon,Employability,Events
END:VEVENT
BEGIN:VEVENT
DTSTART;TZID=Europe/London:20240731T090000
DTEND;TZID=Europe/London:20240731T160000
DTSTAMP:20260424T100032
CREATED:20240612T171550Z
LAST-MODIFIED:20240612T171550Z
UID:11521-1722416400-1722441600@gorebridge.org.uk
SUMMARY:Skills Development Scotland
DESCRIPTION:Skills Development Scotland support help people find rewarding careers. They also provide careers information\, advice and guidance\, and work-based training programmes. \nSkills Development Scotland – Career Delivery Service will be at the Gorebridge Beacon 9 – 5PM on the following dates: \n20th June\n4th July\n18 July\n1 August\n15 August\n29 August \nCall 0131 663 7287 to make an appointment with a Career Adviser.
URL:https://gorebridge.org.uk/upcomingevents/skills-development-scotland/2024-07-31/
CATEGORIES:Beacon,Employability,Events
END:VEVENT
BEGIN:VEVENT
DTSTART;TZID=Europe/London:20240717T090000
DTEND;TZID=Europe/London:20240717T160000
DTSTAMP:20260424T100032
CREATED:20240612T171550Z
LAST-MODIFIED:20240612T171550Z
UID:11520-1721206800-1721232000@gorebridge.org.uk
SUMMARY:Skills Development Scotland
DESCRIPTION:Skills Development Scotland support help people find rewarding careers. They also provide careers information\, advice and guidance\, and work-based training programmes. \nSkills Development Scotland – Career Delivery Service will be at the Gorebridge Beacon 9 – 5PM on the following dates: \n20th June\n4th July\n18 July\n1 August\n15 August\n29 August \nCall 0131 663 7287 to make an appointment with a Career Adviser.
URL:https://gorebridge.org.uk/upcomingevents/skills-development-scotland/2024-07-17/
CATEGORIES:Beacon,Employability,Events
END:VEVENT
BEGIN:VEVENT
DTSTART;TZID=Europe/London:20240703T090000
DTEND;TZID=Europe/London:20240703T160000
DTSTAMP:20260424T100032
CREATED:20240612T171550Z
LAST-MODIFIED:20240612T171550Z
UID:11518-1719997200-1720022400@gorebridge.org.uk
SUMMARY:Skills Development Scotland
DESCRIPTION:Skills Development Scotland support help people find rewarding careers. They also provide careers information\, advice and guidance\, and work-based training programmes. \nSkills Development Scotland – Career Delivery Service will be at the Gorebridge Beacon 9 – 5PM on the following dates: \n20th June\n4th July\n18 July\n1 August\n15 August\n29 August \nCall 0131 663 7287 to make an appointment with a Career Adviser.
URL:https://gorebridge.org.uk/upcomingevents/skills-development-scotland/2024-07-03/
CATEGORIES:Beacon,Employability,Events
END:VEVENT
BEGIN:VEVENT
DTSTART;TZID=Europe/London:20240620T090000
DTEND;TZID=Europe/London:20240620T160000
DTSTAMP:20260424T100032
CREATED:20240612T171550Z
LAST-MODIFIED:20240621T094942Z
UID:11435-1718874000-1718899200@gorebridge.org.uk
SUMMARY:Skills Development Scotland
DESCRIPTION:Skills Development Scotland support help people find rewarding careers. They also provide careers information\, advice and guidance\, and work-based training programmes. \nSkills Development Scotland – Career Delivery Service will be at the Gorebridge Beacon 9 – 5PM on the following dates: \n20th June\n4th July\n18 July\n1 August\n15 August\n29 August \nCall 0131 663 7287 to make an appointment with a Career Adviser.
URL:https://gorebridge.org.uk/upcomingevents/skills-development-scotland/2024-06-20/
CATEGORIES:Beacon,Employability,Events
END:VEVENT
END:VCALENDAR